BEGIN:VCALENDAR
VERSION:2.0
PRODID:-//TheRoots FM - ECPv6.15.20//NONSGML v1.0//EN
CALSCALE:GREGORIAN
METHOD:PUBLISH
X-ORIGINAL-URL:https://www.therootsfm.org
X-WR-CALDESC:Events for TheRoots FM
REFRESH-INTERVAL;VALUE=DURATION:PT1H
X-Robots-Tag:noindex
X-PUBLISHED-TTL:PT1H
BEGIN:VTIMEZONE
TZID:America/Chicago
BEGIN:DAYLIGHT
TZOFFSETFROM:-0600
TZOFFSETTO:-0500
TZNAME:CDT
DTSTART:20250309T080000
END:DAYLIGHT
BEGIN:STANDARD
TZOFFSETFROM:-0500
TZOFFSETTO:-0600
TZNAME:CST
DTSTART:20251102T070000
END:STANDARD
BEGIN:DAYLIGHT
TZOFFSETFROM:-0600
TZOFFSETTO:-0500
TZNAME:CDT
DTSTART:20260308T080000
END:DAYLIGHT
BEGIN:STANDARD
TZOFFSETFROM:-0500
TZOFFSETTO:-0600
TZNAME:CST
DTSTART:20261101T070000
END:STANDARD
BEGIN:DAYLIGHT
TZOFFSETFROM:-0600
TZOFFSETTO:-0500
TZNAME:CDT
DTSTART:20270314T080000
END:DAYLIGHT
BEGIN:STANDARD
TZOFFSETFROM:-0500
TZOFFSETTO:-0600
TZNAME:CST
DTSTART:20271107T070000
END:STANDARD
END:VTIMEZONE
BEGIN:VEVENT
DTSTART;TZID=America/Chicago:20260610T200000
DTEND;TZID=America/Chicago:20260610T200000
DTSTAMP:20260423T120435
CREATED:20260126T212243Z
LAST-MODIFIED:20260126T212243Z
UID:28504-1781121600-1781121600@www.therootsfm.org
SUMMARY:Joe Jackson + Band @ The Pageant
DESCRIPTION:Hope and Fury Tour 2026\nJoe Jackson\, born David Ian Jackson on August 11\, 1954\, in Burton upon Trent\, England\, is a renowned musician\, singer\, and songwriter. He gained fame in the late 1970s and early 1980s with hits like “Is She Really Going Out with Him?” and “Steppin’ Out.” Jackson’s music is characterized by its eclectic style\, incorporating elements of rock\, jazz\, and pop.  He has released over 21 studio albums throughout his career. \nAlong with Elvis Costello and Graham Parker\, Joe Jackson was one of the three big “Angry Young Men” of the late ‘70s punk/new wave movement. His early records with his band (named after him)\, reflect said genre and his lyrics got him tagged as “angry”. After the disbandment of his band after Beat Crazy in 1980 (bassist Graham Maby stuck with him)\, he recorded albums that reflected different genres and were more less rocking such as Night and Day\, Body and Soul\, and most notably\, Jumpin’ Jive\, a covers collection of classic swing tunes. Over the years\, Jackson has continued to push his sound in different directions and still records new music to this day. \nJoe Jackson is returning with a brand-new studio set called – Hope and Fury.  It offers nine new songs. Jackson refers to the new album as a collection of “latinjazzfunkrock”\, a combination that we already know that he is more than capable of. \n 
URL:https://www.therootsfm.org/event/joe-jackson-band-the-pageant/
LOCATION:The Pageant\, 6161 Delmar Blvd\, St. Louis\, MO\, 63112\, United States
END:VEVENT
BEGIN:VEVENT
DTSTART;TZID=America/Chicago:20260612T190000
DTEND;TZID=America/Chicago:20260612T190000
DTSTAMP:20260423T120435
CREATED:20260223T185304Z
LAST-MODIFIED:20260223T185304Z
UID:28577-1781290800-1781290800@www.therootsfm.org
SUMMARY:Route 66 Jazz Orchestra @ Kirkwood Park Amphitheater
DESCRIPTION:Summer Concert\nThe Route 66 Jazz Orchestra is a 22-piece jazz band dedicated to the preservation and promotion of “Big Band” Jazz.  Ron Wilkinson appears as a featured vocalist. \nThe roots of the Route 66 Jazz Orchestra trace back to 1969\, when Meramec Community College band director\, Dr. Ron Stilwell\, realized the need and potential to add a jazz band to the music program at the college. As the “Meramec Jazz Lab Band”\, the band flourished for over 40 years in their role as jazz ambassadors for the college. Since 2005\, the band has been under the leadership of lifelong music educator and band director\, Bob Boedges. In the fall of 2012\, the band decided to leave the college in pursuit of the further opportunities available as an “independent” organization and in 2023 Gary Brandes joined the band as the associate director.
URL:https://www.therootsfm.org/event/route-66-jazz-orchestra-kirkwood-park-amphitheater/
LOCATION:Kirkwood Park Lion’s Amphitheater\, 111 S Geyer Road\, Kirkwood\, MO\, 63122\, United States
END:VEVENT
BEGIN:VEVENT
DTSTART;TZID=America/Chicago:20260614T200000
DTEND;TZID=America/Chicago:20260614T200000
DTSTAMP:20260423T120435
CREATED:20260220T203355Z
LAST-MODIFIED:20260220T203534Z
UID:28574-1781467200-1781467200@www.therootsfm.org
SUMMARY:An Evening with Jerry's Middle Finger @ Old Rockhouse
DESCRIPTION:Three decades after the loss of Jerry Garcia\, a close-knit band of musicians are carrying the torch for his distinctive blend of soul\, guitar\, and eclectic American music. Jerry’s Middle Finger do more than celebrate the Jerry Garcia Band’s catalog; they also broadcast it to a new generation\, upholding Garcia’s dedication to camaraderie and community-building by creating their own family-like experience onstage.  How sweet it is\, to experience the joy of JGB’s music in a live setting. \nA concert by Jerry’s Middle Finger is a connective\, cathartic event: a fusion of artist and audience\, where everyone’s a fan of the same catalog and experience. Those concerts began in 2015\, when bandmates Garrett Deloian\, Rodney Newman\, Son Vo\, Jon Gold\, Halina Janusz\, and Lisa Malsberger were drawn together by a love of the Grateful Dead and its iconic lead guitarist. \nAs the years progressed\, the band’s audience grew. Dive bar gigs in JMF’s hometown of Los Angeles gave way to performances at bucket-list venues across the country\, including jam-band destinations like the Great American Music Hall in San Francisco\, the Troubadour in Los Angeles\, The Ardmore in Philadelphia\, and Garcia’s at the Capitol Theatre in Port Chester\, NY. “This isn’t just a cover band — it’s a band that genuinely honors the music Jerry made and the community he built\,” says Newman\, the group’s drummer and co-founder. “We’ve studied these songs: the guitar tones\, the vocal arrangements\, the keyboard sounds. We play them the way Jerry did\, and we connect with the audience in an interactive\, open-hearted way. It’s an approach that transcends the perfection of a performance or the spectacle of a light show\, because we’re not really about that. We’re about the music\, the feeling\, and the communal experience.” \nCalifornia-based Jerry’s Middle Finger is bringing the best Jerry Garcia Band tribute experience in the world right here to The Lou! Come join in as they celebrate all things Jerry!
URL:https://www.therootsfm.org/event/an-evening-with-jerrys-middle-finger-old-rockhouse/
LOCATION:Old Rock House\, 1200 S 7th St\, St Louis\, Missouri\, 63104\, United States
END:VEVENT
BEGIN:VEVENT
DTSTART;TZID=America/Chicago:20260619T200000
DTEND;TZID=America/Chicago:20260619T200000
DTSTAMP:20260423T120435
CREATED:20260408T151838Z
LAST-MODIFIED:20260408T151838Z
UID:28551-1781899200-1781899200@www.therootsfm.org
SUMMARY:The Mound City Slickers @ The Focal Point
DESCRIPTION:The Mound City Slickers play old-time string band music with passion\, drive\, and a great sense of humor.  Hailing from the St. Louis region\, The Slickers have played festivals\, house concerts and square dances throughout Missouri and Illinois.  Steeped in tradition\, their concerts are a unique mix of hard-driving dance tunes\, country harmonies\, Midwest fiddle tunes\, rags\, and other surprises that have made them favorites of the old-time string band scene.  Their high-energy playing and ear for a good tune make for good listening\, good dancing\, and good times.   \nThe band is Sean Belt (ukuleles)\, Lindell Blackford (fiddle & mandolin)\, Rich Hibbs (banjo)\, Rich Egan (piano)\, and Keith Dudding (guitar).
URL:https://www.therootsfm.org/event/the-mound-city-slickers-the-focal-point/
LOCATION:Focal Point\, 2720 Sutton Blvd\, Maplewood\, MO\, 63143.\, United States
END:VEVENT
BEGIN:VEVENT
DTSTART;TZID=America/Chicago:20260620T193000
DTEND;TZID=America/Chicago:20260620T193000
DTSTAMP:20260423T120435
CREATED:20260413T012448Z
LAST-MODIFIED:20260413T012448Z
UID:28681-1781983800-1781983800@www.therootsfm.org
SUMMARY:Nikola Tesla "Light It Up"- An Original Rock Opera @ Delmar Hall
DESCRIPTION:Nikola Tesla was one of the greatest visionaries in human history\, a creative genius who shaped the electrical age\, powered the modern world\, and imagined a future far beyond his time. \nNikola Tesla “Light It Up” – An Original Rock Opera is a high-impact\, contemporary rock opera production that brings the life of Nikola Tesla to the stage through a driving rock score and cinematic storytelling.  Featuring 13 original songs performed by a full live rock band\, the production journeys through the defining chapters of Tesla’s life— inventions\, innovation\, obsession\, and ultimate legacy.  The stage production is highlighted with nonstop\, multimedia videos that will draw the audience in and provide an immersive experience. \nSongs such as I Am The Original Wizard of OZ\, Dinner at Delmonico’s\, Colorado Cosmic Cowboy\, Wardenclyffe\, Presence\, Peace\, and the anthemic Light It Up blend historical moments with emotional depth\, presenting Tesla not only as a towering intellect but as a deeply human figure ahead of his time. \nBold\, immersive\, and accessible to audiences across cultures\, Nikola Tesla “Light It Up” is a globally scalable rock opera that fuses musical live concert energy and timeless relevance—created to captivate\, inspire\, entertain\, and ignite audiences around the world. \nSt. Louis’ Premier Tribute Powerhouse Ignites the World Premiere of Tesla’s Electrifying Rock Opera. \nThe Jason Nelson Band stands among St. Louis’ most respected and in-demand live performance groups\, celebrated for commanding stage presence\, powerhouse vocals\, and electrifying musicianship.  Renowned for their top-tier tribute productions honoring Queen\, Sting\, and Talking Heads\, the band has earned a reputation for musical precision\, dynamic energy\, and unforgettable live entertainment. \nFor the World Premiere of Nikola Tesla “Light It Up” — An Original Rock Opera\, the band expands into a powerhouse eight-member ensemble\, uniting exceptional St. Louis musicians to bring the sweeping theatrical score to life. Blending driving rock intensity with orchestral textures and cinematic storytelling\, the performance features: \nJason Nelson – Lead Vocals\nAlonzo Jamison – Drums\nRich Mendoza – Bass\nSteve Johnston – Guitar\nCharlie Brown – Keyboards\nStacey Rios – Cello & Vocals\nMark Hochberg – Violin \nTogether\, they deliver the musical force launching this groundbreaking rock opera onto the world stage.
URL:https://www.therootsfm.org/event/nikola-tesla-light-it-up-an-original-rock-opera-delmar-hall/
LOCATION:Delmar Hall\, 6133 Delmar Blvd.\, Saint Louis\, MO\, 63112\, United States
END:VEVENT
BEGIN:VEVENT
DTSTART;TZID=America/Chicago:20260621T193000
DTEND;TZID=America/Chicago:20260621T193000
DTSTAMP:20260423T120435
CREATED:20260403T193345Z
LAST-MODIFIED:20260403T193345Z
UID:28644-1782070200-1782070200@www.therootsfm.org
SUMMARY:Marcus King Band @ The Factory
DESCRIPTION:Following a successful run of critically acclaimed albums with the Marcus King Band\, Greenville\, South Carolina native Marcus King made his solo debut with the GRAMMY®-nominated El Dorado in 2020\, followed by Young Blood (2022) and Mood Swings (2024). \nKing is now reuniting with his longtime live band for the first time since 2018’s Carolina Confessions on the forthcoming Darling Blue\, recorded at the iconic Capricorn Studios alongside GRAMMY®-winning producer and engineer Eddie Spear. The album features Noah Cyrus\, Billy Strings\, Kaitlin Butts\, and more\, with co-writes from Midland and Lainey Wilson among other notable names. Many of the songs across the album pay homage to King’s South Carolina roots and deep appreciation for his home state. Darling Blue\, released on September 26 via American Records/Republic Records\, marks a full-circle moment in King’s career. He’ll be touring internationally throughout the year\, hitting the road with Chris Stapleton\, Cody Johnson\, and Eric Church in the U.S.
URL:https://www.therootsfm.org/event/marcus-king-band-the-factory/
LOCATION:The Factory\, 17105 North Outer 40 Road\, Chesterfield\, Missouri\, 63005
END:VEVENT
BEGIN:VEVENT
DTSTART;TZID=America/Chicago:20260626T200000
DTEND;TZID=America/Chicago:20260626T200000
DTSTAMP:20260423T120435
CREATED:20260211T192634Z
LAST-MODIFIED:20260211T192634Z
UID:28546-1782504000-1782504000@www.therootsfm.org
SUMMARY:Marty Stuart and His Fabulous Superlatives @ The Sheldon
DESCRIPTION:Known for both his traditional style\, and eclectic combination of rockabilly\, honky tonk and traditional country music\, Grammy Award-winning icon Marty Stuart is considered one of the genre’s most historically minded “new” traditionalists.  He is an accomplished artist\, performer\, producer and writer\, and has been a member of the Grand Ole Opry since 1992. With four gold albums and countless hit singles\, he is one of country’s top instrumentalists and his songwriting skills have matured and sharpened as he writes with new-found sensitivity.  Performing music inspired by his Mississippi Delta upbringing and deep country roots\, Marty Stuart and His Fabulous Superlatives capture the hearts of country music lovers of all ages and celebrate the influential country music and unforgettable songs of the 1960s in this high-spirited\, one-of-a-kind Jam-Bo-Ree!
URL:https://www.therootsfm.org/event/marty-stuart-and-his-fabulous-superlatives-the-sheldon/
LOCATION:The Sheldon\, 3648 Washington Blvd\, St Louis\, MO\, 63108\, United States
END:VEVENT
BEGIN:VEVENT
DTSTART;TZID=America/Chicago:20260626T200000
DTEND;TZID=America/Chicago:20260626T200000
DTSTAMP:20260423T120435
CREATED:20260307T201520Z
LAST-MODIFIED:20260307T201520Z
UID:28592-1782504000-1782504000@www.therootsfm.org
SUMMARY:Old 97's @ Old Rockhouse
DESCRIPTION:  \nOld 97’s is an American rock band from Dallas\, Texas.  Formed in 1992\, they have released thirteen studio albums\, two full extended plays\, shared split duty on another\, and they have one live album. Their most recent release is titled American Primitive. \nOld 97’s were pioneers of the alt-country movement during the mid-to-late 1990s\, then they developed more of a power pop style in the 2000’s.  Lead vocalist and primary songwriter Rhett Miller has described the band’s style as “loud folk”.  The band’s name is in reference to the Wreck of the Old 97. \nw/ Pernikoff Brothers\n \nA St. Louis-based\, modern folk-rock band. Founded by brothers Tom Pernikoff (vocals/guitar) and Rick Pernikoff (vocals/bass)\, with drummer Kevin Bowers\, the trio has performed together since 2009\, known for harmonic\, upbeat music. They have toured nationally and recorded at Abbey Road Studios.
URL:https://www.therootsfm.org/event/old-97s-old-rockhouse/
LOCATION:Old Rock House\, 1200 S 7th St\, St Louis\, Missouri\, 63104\, United States
END:VEVENT
BEGIN:VEVENT
DTSTART;TZID=America/Chicago:20260627T183000
DTEND;TZID=America/Chicago:20260627T183000
DTSTAMP:20260423T120435
CREATED:20260419T175645Z
LAST-MODIFIED:20260419T175645Z
UID:28690-1782585000-1782585000@www.therootsfm.org
SUMMARY:Clapton Chronicles: The Music of Eric Clapton & Danny Liston @ Chesterfield Amphitheater
DESCRIPTION:Sounds of Summer FREE Concert Series\n\n\nThe Sounds of Summer Concert Series is FREE to the community. No ticket is required; however\, all guests will still go through the security checkpoint. \nFood Trucks will be available – Food and Drink Welcome – No Glass.  For a full list of approved and prohibited items\, please visit the Items for Entry page. \nClapton Chronicles is a faithful and improvisational friendly composite of the various phases of Eric Clapton’s diverse and amazing career. Cream\, Derek and the Dominos\, Blind Faith\, the 70’s Slow hand era\, the 80’s power hits – and the brilliance of his Blues and Unplugged offerings. \n\nDanny Liston is a legendary Missouri-based singer\, guitarist\, and songwriter whose career spans rock and blues.  Liston began playing drums at age 14 in the soul band Soulful Illusions\, then switched to guitar in high school’s Belltones. In the early 1970s\, he teamed up with his brother Pat Liston and friend Max Baker to form Mama’s Pride\, a Southern rock band. \nDoors – 5:30 PM \nDanny Liston – 6:30 PM \nClapton Chronicles – 7:30 PM
URL:https://www.therootsfm.org/event/clapton-chronicles-the-music-of-eric-clapton-danny-liston-chesterfield-amphitheater/
LOCATION:Chesterfield Amphitheater\, 631 Veterans Place Dr\, Chesterfield\, MO\, 63017\, United States
END:VEVENT
BEGIN:VEVENT
DTSTART;TZID=America/Chicago:20260627T193000
DTEND;TZID=America/Chicago:20260627T193000
DTSTAMP:20260423T120435
CREATED:20260415T144845Z
LAST-MODIFIED:20260415T144845Z
UID:28685-1782588600-1782588600@www.therootsfm.org
SUMMARY:Jake's Leg @ Wildey Theatre
DESCRIPTION:Wildey Jam will be celebrating 50 years of St Louis Deadication!\n\nThere is a distinct joy that takes place on any given evening that transcends the Grateful Dead style musical experience.\nCome share in the jams of Jake’s Leg in the unique theater setting of the Wildey for their summer appearance.\n\nNote: Due to the nature of a Jakes Leg show the Wildey will be offering both general admission (on the main floor) and assigned seating (balcony) Please take this into account when choosing your tickets.\n\nGeneral admission (main floor) – Ticketholders can sit anywhere available on a first-come\, first-served basis. Those on the main floor will be allowed to stand\, dance and be the area right in front of the stage during the show. General admission will not have access to the reserved balcony.\n\nAssigned seating tickets (balcony) – Ticketholders will have a specific seat assigned in the balcony. You must keep seated while enjoying the show. However\, assigned seats ticketholders will have access to the main floor if they get the urge to stand and dance.
URL:https://www.therootsfm.org/event/jakes-leg-wildey-theatre/
LOCATION:Wildey Theatre\, 252 N. Main St.\, Edwardsville\, IL\, 62025\, United States
END:VEVENT
END:VCALENDAR