BEGIN:VCALENDAR
VERSION:2.0
PRODID:-//TheRoots FM - ECPv6.15.20//NONSGML v1.0//EN
CALSCALE:GREGORIAN
METHOD:PUBLISH
X-WR-CALNAME:TheRoots FM
X-ORIGINAL-URL:https://www.therootsfm.org
X-WR-CALDESC:Events for TheRoots FM
REFRESH-INTERVAL;VALUE=DURATION:PT1H
X-Robots-Tag:noindex
X-PUBLISHED-TTL:PT1H
BEGIN:VTIMEZONE
TZID:America/Chicago
BEGIN:DAYLIGHT
TZOFFSETFROM:-0600
TZOFFSETTO:-0500
TZNAME:CDT
DTSTART:20230312T080000
END:DAYLIGHT
BEGIN:STANDARD
TZOFFSETFROM:-0500
TZOFFSETTO:-0600
TZNAME:CST
DTSTART:20231105T070000
END:STANDARD
BEGIN:DAYLIGHT
TZOFFSETFROM:-0600
TZOFFSETTO:-0500
TZNAME:CDT
DTSTART:20240310T080000
END:DAYLIGHT
BEGIN:STANDARD
TZOFFSETFROM:-0500
TZOFFSETTO:-0600
TZNAME:CST
DTSTART:20241103T070000
END:STANDARD
BEGIN:DAYLIGHT
TZOFFSETFROM:-0600
TZOFFSETTO:-0500
TZNAME:CDT
DTSTART:20250309T080000
END:DAYLIGHT
BEGIN:STANDARD
TZOFFSETFROM:-0500
TZOFFSETTO:-0600
TZNAME:CST
DTSTART:20251102T070000
END:STANDARD
BEGIN:DAYLIGHT
TZOFFSETFROM:-0600
TZOFFSETTO:-0500
TZNAME:CDT
DTSTART:20260308T080000
END:DAYLIGHT
BEGIN:STANDARD
TZOFFSETFROM:-0500
TZOFFSETTO:-0600
TZNAME:CST
DTSTART:20261101T070000
END:STANDARD
END:VTIMEZONE
BEGIN:VEVENT
DTSTART;TZID=America/Chicago:20250430T200000
DTEND;TZID=America/Chicago:20250430T223000
DTSTAMP:20260425T104418
CREATED:20250421T135704Z
LAST-MODIFIED:20250421T141414Z
UID:27964-1746043200-1746052200@www.therootsfm.org
SUMMARY:The Wailers w/ Colt Ball & The Git Down  @ Atomic Pavilion
DESCRIPTION:The Wailers are a rare breed of musicians who have earned their place in the annals of music history. Their culture-defining music\, embodying the spirit of the 70s reggae movement\, has left an indelible mark on the industry. \nExperience the magic of their timeless classics and incredible cuts from Bob Marley’s vast repertoire in a truly unforgettable set. Under the guidance of Aston Barrett Jr.\, son of the legendary “Familyman\,” The Wailers continue to preserve the legacy of their iconic sound. \nAges 21+
URL:https://www.therootsfm.org/event/the-wailers-w-colt-ball-the-git-down-atomic-pavilion/
LOCATION:Atomic\, 4140 Manchester Ave\, St. Louis\, MO\, 62110\, United States
END:VEVENT
BEGIN:VEVENT
DTSTART;TZID=America/Chicago:20250426T183000
DTEND;TZID=America/Chicago:20250426T230000
DTSTAMP:20260425T104418
CREATED:20250420T170629Z
LAST-MODIFIED:20250420T175356Z
UID:27960-1745692200-1745708400@www.therootsfm.org
SUMMARY:Leftover Salmon & Sicard Hollow @ Atomic Pavilion
DESCRIPTION:Doors Open at 6:30 PM  Music 7:30 PM \n$33.00 – $50.00 \nAges 21+ \n\neTickets\nFREE Display on your mobile device or print out your ticket for entry!\n\n\nWill Call\nFREE Hold at venue box office.\n\nThis event is 21 and over. Any ticket holder unable to present valid identification indicating that they are at least 21 years of age will not be admitted to this event\, and will not be eligible for a refund.
URL:https://www.therootsfm.org/event/leftover-salmon-sicard-hollow-atomic-pavilion/
LOCATION:Atomic\, 4140 Manchester Ave\, St. Louis\, MO\, 62110\, United States
END:VEVENT
BEGIN:VEVENT
DTSTART;TZID=America/Chicago:20250422T193000
DTEND;TZID=America/Chicago:20250422T220000
DTSTAMP:20260425T104418
CREATED:20250309T173040Z
LAST-MODIFIED:20250309T180132Z
UID:27882-1745350200-1745359200@www.therootsfm.org
SUMMARY:NEKTAR - Mission To Mars 2025 Tour  - Wildey Theatre
DESCRIPTION:THE RETURN OF THE ICONIC ST. LOUIS FAVORITE \nDubbed the “Mission to Mars” tour\, this eagerly anticipated journey marks Nektar’s triumphant return to the stage in 2025. From timeless classics like “A Tab in the Ocean”\, “Remember the Future”\, “Recycled\,” and “Sounds Like This” to the groundbreaking sounds of their 2020 acclaimed release of “The Other Side”\, every performance is a testament to the band’s enduring legacy. And let’s not forget the latest addition to their sonic arsenal – the new album\, “Mission to Mars.”
URL:https://www.therootsfm.org/event/nektar-mission-to-mars-2025-tour-wildey-theatre/
LOCATION:Wildey Theatre\, 252 N. Main St.\, Edwardsville\, IL\, 62025\, United States
END:VEVENT
BEGIN:VEVENT
DTSTART;TZID=America/Chicago:20250329T200000
DTEND;TZID=America/Chicago:20250329T220000
DTSTAMP:20260425T104418
CREATED:20250325T034810Z
LAST-MODIFIED:20250325T034810Z
UID:27911-1743278400-1743285600@www.therootsfm.org
SUMMARY:Amy LaVere and Will Sexton  @ Focal Point
DESCRIPTION:Memphis-based artists Amy LaVere and Will Sexton have been music collaborators and touring companions for 11 years.  The quality of their craft\, the miles traveled\, and their original catalog is ever growing. LaVere’s storytelling and songwriting is barbed and sharp\, a delightful contrast to her sweet soprano vocals and smooth upright bass playing. The dark and charming writer has released seven solo recordings and has collaborated with many other artists. \nOver the past three decades\, Will Sexton has grown into an esteemed writer\, producer\, session player\, and solo artist with a string of acclaimed LPs to his credit. Sexton’s seasoned guitar playing and velvet vocals are a superb fit to LaVere’s distinctive talent. Amy and Will are among the finest musical craftsmen and performers in the Americana genre. Their spellbinding show is incomparable\, something you must see for yourself. Saturday\, March 29th 8:00 pm at the Focal Point. Tickets are available at The Focal Point.org.
URL:https://www.therootsfm.org/event/amy-lavere-and-will-sexton-focal-point/
LOCATION:Focal Point\, 2720 Sutton Blvd\, Maplewood\, MO\, 63143.\, United States
END:VEVENT
BEGIN:VEVENT
DTSTART;TZID=America/Chicago:20250329T190000
DTEND;TZID=America/Chicago:20250329T220000
DTSTAMP:20260425T104418
CREATED:20250309T175604Z
LAST-MODIFIED:20250309T175604Z
UID:27887-1743274800-1743285600@www.therootsfm.org
SUMMARY:Pat Liston - Blue House Theater
DESCRIPTION:Pat Liston – St. Louis legend Pat Liston will grace the stage of the Blue House Theater once again March 29th. One of the greatest songwriters/vocalist ever to come out of the metro St. Louis region. Virtuoso violinist Abby Stahlschmidt will be joining Pat for a significant portion of his show. Get your tickets early as last years show sold out quickly. Look forward to seeing everyone there……
URL:https://www.therootsfm.org/event/pat-liston-blue-house-theater/
LOCATION:Blue House\, 112 E Booneslick Road\, Warrenton\, MO\, 63383\, United States
END:VEVENT
BEGIN:VEVENT
DTSTART;TZID=America/Chicago:20250316T200000
DTEND;TZID=America/Chicago:20250316T223000
DTSTAMP:20260425T104418
CREATED:20250309T173720Z
LAST-MODIFIED:20250309T180101Z
UID:27885-1742155200-1742164200@www.therootsfm.org
SUMMARY:The Burney Sisters - Old Rock House
DESCRIPTION:Olivia and Emma are a dynamic sister duo with an indie folk/pop sound. Their sound is reminiscent of The Avett Brothers\, First Aid Kit\, and The Staves with soul piercing sibling harmonies. Their EP is found on ITunes.
URL:https://www.therootsfm.org/event/the-burney-sisters/
LOCATION:Old Rock House\, 1200 S 7th St\, St Louis\, Missouri\, 63104\, United States
END:VEVENT
BEGIN:VEVENT
DTSTART;TZID=America/Chicago:20250314T200000
DTEND;TZID=America/Chicago:20250314T220000
DTSTAMP:20260425T104418
CREATED:20250123T191648Z
LAST-MODIFIED:20250123T191648Z
UID:27815-1741982400-1741989600@www.therootsfm.org
SUMMARY:Head East Flat As a Pancake 50th
DESCRIPTION:2ND SHOW ADDED DUE TO OVERWHELMING DEMANDThe legendary classic rock band Head East returns to the Wildey Theatre for a second night. This is a “Flat as a Pancake” 50th anniversary show featuring songs from the band’s iconic debut album plus other classics from their five-decade repertoire and a few surprises \nHead East 1st show sold out in under a day\, so don’t wait to get your tickets for this added show on Friday March 14. \nFriday\, March 14\, 2025
URL:https://www.therootsfm.org/event/head-east-flat-as-a-pancake-50th/
LOCATION:Wildey Theatre\, 252 N. Main St.\, Edwardsville\, IL\, 62025\, United States
END:VEVENT
BEGIN:VEVENT
DTSTART;TZID=America/Chicago:20250308T200000
DTEND;TZID=America/Chicago:20250308T230000
DTSTAMP:20260425T104418
CREATED:20250128T031323Z
LAST-MODIFIED:20250128T031323Z
UID:27849-1741464000-1741474800@www.therootsfm.org
SUMMARY:Sam Bush - Old Rock House
DESCRIPTION:
URL:https://www.therootsfm.org/event/sam-bush-old-rock-house/
LOCATION:Old Rock House\, 1200 S 7th St\, St Louis\, Missouri\, 63104\, United States
END:VEVENT
BEGIN:VEVENT
DTSTART;TZID=America/Chicago:20250301T200000
DTEND;TZID=America/Chicago:20250301T230000
DTSTAMP:20260425T104418
CREATED:20250227T062637Z
LAST-MODIFIED:20250227T063134Z
UID:27875-1740859200-1740870000@www.therootsfm.org
SUMMARY:Henhouse Prowlers @ The Atomic
DESCRIPTION:Henhouse Prowlers: \nFounded two decades ago with the simple desire to play original and powerful bluegrass\, this Chicago-bred quartet now finds themselves at the intersection of performance\, diplomacy\, and education. \nOnstage\, the group’s enthralling performances give audiences a sense of how much they love what they do. On record – including their latest offering\, 2023’s Lead and Iron\, released via Dark Shadow Recording – the band explores their collective life experiences through songwriting and intricate instrumentation. While bluegrass is the undeniable foundation of the Prowlers’ music\, the band bends and squeezes the traditional form into a keenly developed sound all their own. \nWorking with the U.S. State Department and under their own nonprofit\, Bluegrass Ambassadors\, the Prowlers have toured over 25 countries across the globe. The group’s experiences with people and musicians across Africa\, Asia\, Europe\, and the Middle East have shaped the band’s worldview and broadened the group’s direction towards bridging cultural gaps with music\, educational programs\, and workshops. Using traditional American music as a foundation\, connecting folk music\, customs\, and history the world over\, the Prowlers incorporate international elements into their already robust repertoire of unique traditional American music. \nWhether playing live or presenting seminars\, wherever they are\, the Henhouse Prowlers find and spread the commonality we share as human beings through the universal language of music.
URL:https://www.therootsfm.org/event/27875/
LOCATION:Atomic\, 4140 Manchester Ave\, St. Louis\, MO\, 62110\, United States
END:VEVENT
BEGIN:VEVENT
DTSTART;TZID=America/Chicago:20250301T200000
DTEND;TZID=America/Chicago:20250301T230000
DTSTAMP:20260425T104418
CREATED:20250128T024644Z
LAST-MODIFIED:20250128T024950Z
UID:27840-1740859200-1740870000@www.therootsfm.org
SUMMARY:Jake's Leg - Old Rock House
DESCRIPTION:
URL:https://www.therootsfm.org/event/jakes-leg-old-rock-house/
LOCATION:Old Rock House\, 1200 S 7th St\, St Louis\, Missouri\, 63104\, United States
ORGANIZER;CN="Old Rock House":MAILTO:support.etix.com
END:VEVENT
BEGIN:VEVENT
DTSTART;TZID=America/Chicago:20250221T200000
DTEND;TZID=America/Chicago:20250222T200000
DTSTAMP:20260425T104418
CREATED:20250128T031906Z
LAST-MODIFIED:20250128T031906Z
UID:27850-1740168000-1740254400@www.therootsfm.org
SUMMARY:Celebration Day (Led Zeppelin Tribute)   The Pageant
DESCRIPTION:
URL:https://www.therootsfm.org/event/celebration-day-led-zeppelin-tribute-the-pageant/
LOCATION:The Pageant\, 6161 Delmar Blvd\, St. Louis\, MO\, 63112\, United States
END:VEVENT
BEGIN:VEVENT
DTSTART;TZID=America/Chicago:20250207T193000
DTEND;TZID=America/Chicago:20250207T223000
DTSTAMP:20260425T104418
CREATED:20250128T025522Z
LAST-MODIFIED:20250128T025522Z
UID:27844-1738956600-1738967400@www.therootsfm.org
SUMMARY:The Blind Boys of Alabama - Wildey Theatre
DESCRIPTION:T
URL:https://www.therootsfm.org/event/the-blind-boys-of-alabama-wildey-theatre/
LOCATION:Wildey Theatre\, 252 N. Main St.\, Edwardsville\, IL\, 62025\, United States
END:VEVENT
BEGIN:VEVENT
DTSTART;TZID=America/Chicago:20250127T200000
DTEND;TZID=America/Chicago:20250201T223000
DTSTAMP:20260425T104418
CREATED:20250128T030422Z
LAST-MODIFIED:20250128T030422Z
UID:27845-1738008000-1738449000@www.therootsfm.org
SUMMARY:Mr. Blue Sky (ELO Tribute)
DESCRIPTION:
URL:https://www.therootsfm.org/event/mr-blue-sky-elo-tribute/
LOCATION:Wildey Theatre\, 252 N. Main St.\, Edwardsville\, IL\, 62025\, United States
END:VEVENT
BEGIN:VEVENT
DTSTART;TZID=America/Chicago:20250117T200000
DTEND;TZID=America/Chicago:20250117T233000
DTSTAMP:20260425T104418
CREATED:20250123T191529Z
LAST-MODIFIED:20250123T191529Z
UID:27814-1737144000-1737156600@www.therootsfm.org
SUMMARY:Hard Bop Messengers: Jazz Interpretations of The Grateful Dead
DESCRIPTION:Cost $15.00 \nEvent Contact (314) 588-0505
URL:https://www.therootsfm.org/event/hard-bop-messengers-jazz-interpretations-of-the-grateful-dead/
LOCATION:The Old Rock House\, 1200 South 7th Street\, St. Louis\, MO\, 63104\, United States
END:VEVENT
BEGIN:VEVENT
DTSTART;TZID=America/Chicago:20250117T200000
DTEND;TZID=America/Chicago:20250117T220000
DTSTAMP:20260425T104418
CREATED:20250123T191409Z
LAST-MODIFIED:20250123T191409Z
UID:27813-1737144000-1737151200@www.therootsfm.org
SUMMARY:Big Head and the Monsters
DESCRIPTION:
URL:https://www.therootsfm.org/event/big-head-and-the-monsters/
LOCATION:The Pageant\, 6161 Delmar Blvd\, St. Louis\, MO\, 63112\, United States
END:VEVENT
BEGIN:VEVENT
DTSTART;VALUE=DATE:20250117
DTEND;VALUE=DATE:20250118
DTSTAMP:20260425T104418
CREATED:20241216T195053Z
LAST-MODIFIED:20241216T195246Z
UID:27774-1737072000-1737158399@www.therootsfm.org
SUMMARY:Hard Bob Messengers Old Rock House
DESCRIPTION:Jazz Interpretations Of Grateful Dead
URL:https://www.therootsfm.org/event/hard-bob-messengers-old-rock-house/
LOCATION:The Old Rock House\, 1200 South 7th Street\, St. Louis\, MO\, 63104\, United States
END:VEVENT
BEGIN:VEVENT
DTSTART;TZID=America/Chicago:20250112T140000
DTEND;TZID=America/Chicago:20250112T180000
DTSTAMP:20260425T104418
CREATED:20250123T191308Z
LAST-MODIFIED:20250123T191308Z
UID:27812-1736690400-1736704800@www.therootsfm.org
SUMMARY:Scott Nienhaus – Solo Performance Sunday\, January 12\, 2025 @ 2-6PM
DESCRIPTION:
URL:https://www.therootsfm.org/event/scott-nienhaus-solo-performance-sunday-january-12-2025-2-6pm/
LOCATION:Silver Creek Sports & Social\, 2520 Mascoutah Ave\, Belleville\, IL\, 62220\, United States
END:VEVENT
BEGIN:VEVENT
DTSTART;TZID=America/Chicago:20241231T213000
DTEND;TZID=America/Chicago:20241231T233000
DTSTAMP:20260425T104418
CREATED:20241216T195458Z
LAST-MODIFIED:20241216T195458Z
UID:27776-1735680600-1735687800@www.therootsfm.org
SUMMARY:The Mighty Pines
DESCRIPTION:The Mighty Pines are a soul-inspired roots rock band influenced by the wide rivers and red-brick streets of St. Louis. With soaring vocals and thoughtful composition\, the two principal songwriters shift the band’s sound from catchy rock ‘n’ roll to earthy instrumentals. \nThe Mighty Pines Present: A ’90s New Year’s Eve \nModern\, 750-capacity venue hosting a diverse line-up of rock\, country\, folk & R&B acts.
URL:https://www.therootsfm.org/event/the-mighty-pines/
LOCATION:Delmar Hall\, 6133 Delmar Blvd.\, Saint Louis\, MO\, 63112\, United States
END:VEVENT
BEGIN:VEVENT
DTSTART;TZID=America/Chicago:20241228T203000
DTEND;TZID=America/Chicago:20241229T223000
DTSTAMP:20260425T104418
CREATED:20241216T195701Z
LAST-MODIFIED:20241216T195701Z
UID:27777-1735417800-1735511400@www.therootsfm.org
SUMMARY:Anthology - Allman Brothers Tribute  Wildey Theatre - Edwardsville\, IL
DESCRIPTION:December 28th & 29th\, 2024
URL:https://www.therootsfm.org/event/anthology-allman-brothers-tribute-wildey-theatre-edwardsville-il/
LOCATION:Wildey Theatre\, 252 N. Main St.\, Edwardsville\, IL\, 62025\, United States
END:VEVENT
BEGIN:VEVENT
DTSTART;TZID=America/Chicago:20241221T210000
DTEND;TZID=America/Chicago:20241221T223000
DTSTAMP:20260425T104418
CREATED:20241216T195857Z
LAST-MODIFIED:20241216T195857Z
UID:27778-1734814800-1734820200@www.therootsfm.org
SUMMARY:Jakes Leg Holiday Party - Twenty North Reunion - Old Rock House  Saint Louis\, MO
DESCRIPTION:Doors: 7pm // Show: 8pm \nAdvance $20. Door $25.
URL:https://www.therootsfm.org/event/jakes-leg-holiday-party-twenty-north-reunion-old-rock-house-saint-louis-mo/
LOCATION:The Old Rock House\, 1200 South 7th Street\, St. Louis\, MO\, 63104\, United States
END:VEVENT
END:VCALENDAR