BEGIN:VCALENDAR
VERSION:2.0
PRODID:-//TheRoots FM - ECPv6.15.20//NONSGML v1.0//EN
CALSCALE:GREGORIAN
METHOD:PUBLISH
X-ORIGINAL-URL:https://www.therootsfm.org
X-WR-CALDESC:Events for TheRoots FM
REFRESH-INTERVAL;VALUE=DURATION:PT1H
X-Robots-Tag:noindex
X-PUBLISHED-TTL:PT1H
BEGIN:VTIMEZONE
TZID:America/Chicago
BEGIN:DAYLIGHT
TZOFFSETFROM:-0600
TZOFFSETTO:-0500
TZNAME:CDT
DTSTART:20250309T080000
END:DAYLIGHT
BEGIN:STANDARD
TZOFFSETFROM:-0500
TZOFFSETTO:-0600
TZNAME:CST
DTSTART:20251102T070000
END:STANDARD
BEGIN:DAYLIGHT
TZOFFSETFROM:-0600
TZOFFSETTO:-0500
TZNAME:CDT
DTSTART:20260308T080000
END:DAYLIGHT
BEGIN:STANDARD
TZOFFSETFROM:-0500
TZOFFSETTO:-0600
TZNAME:CST
DTSTART:20261101T070000
END:STANDARD
BEGIN:DAYLIGHT
TZOFFSETFROM:-0600
TZOFFSETTO:-0500
TZNAME:CDT
DTSTART:20270314T080000
END:DAYLIGHT
BEGIN:STANDARD
TZOFFSETFROM:-0500
TZOFFSETTO:-0600
TZNAME:CST
DTSTART:20271107T070000
END:STANDARD
END:VTIMEZONE
BEGIN:VEVENT
DTSTART;TZID=America/Chicago:20260807T190000
DTEND;TZID=America/Chicago:20260807T190000
DTSTAMP:20260423T190846
CREATED:20260420T174207Z
LAST-MODIFIED:20260420T174207Z
UID:28692-1786129200-1786129200@www.therootsfm.org
SUMMARY:Anthology-A Tribute to the Allman Brothers Band @ Chesterfield Amphitheater
DESCRIPTION:Tickets on sale Friday\, April 24 at 10 AM\nAnthology is a band comprised of seasoned musicians who have a passion for the legacy of the Allman Brothers\, but what sets this ensemble apart from any others is their personal connection to the Allman Brothers\, and Gregg Allman in particular.  Two of the members\, Danny Liston-vocals and Dickie Steltenpohl-bass\, played in a Midwest band Mama’s Pride signed to Atlantic Records by the legendary Ahmet Ertegun.  At one point in their career their paths crossed with Gregg Allman.  He was impressed with their understanding of the feel for his music that he asked them to be in his band.  So\, playing the music of the Allman Brothers had become part of their DNA.  Other members of the band are Tom Denman-keyboards\, Terry Midkiff-guitar\, Matt Rowland-guitars\, Rob Lee-drums\, Joe Meyer-drums.  It’s Allman Brothers the way they would play\, not note for note\, but played with the kind of passion that ABB music evokes. \nDoors open at 6:00 PM. Show starts at 7:00 PM. \nSeating Information \n$20 – Advanced* General Admission (Access to lawn) \n$25 – Advanced* Reserved Seating (Stadium Style Fixed Seating) \n$25 – Advanced* Reserved Pit Seating \n$25 – Day of Show General Admission (Access to lawn) \n$30 – Day of Show Reserved Seating (Stadium Style Fixed Seating) \n$30 – Day of Show Reserved Pit Seating \n$60 – 4 Pack GA (Sales end August 6 at 11:59 PM) (Access to lawn) \n*Advanced ticket sale prices end August 6 at 11:59 PM. \nThe venue will be general admission\, except for the green stadium style seating & pit seating in front of the stage which will be reserved for Reserved Seating ticket holders only. The Chesterfield Amphitheater does not have lawn chairs available for rental—we encourage general admission guests to bring their own lawn chairs.
URL:https://www.therootsfm.org/event/anthology-a-tribute-to-the-allman-brothers-band-chesterfield-amphitheater/
LOCATION:Chesterfield Amphitheater\, 631 Veterans Place Dr\, Chesterfield\, MO\, 63017\, United States
END:VEVENT
BEGIN:VEVENT
DTSTART;TZID=America/Chicago:20260812T200000
DTEND;TZID=America/Chicago:20260812T200000
DTSTAMP:20260423T190846
CREATED:20260413T010503Z
LAST-MODIFIED:20260413T010844Z
UID:28680-1786564800-1786564800@www.therootsfm.org
SUMMARY:Voodoo Marshall Tucker Band @ Atomic
DESCRIPTION:Voodoo Players began as a weekly jam at Broadway Oyster Bar in January 2014 with Sean Canan at the helm of a revolving cast of numerous\, talented musicians from the St. Louis region. SCVP (Sean Canan Voodoo Players) brings to life and celebrates renowned works from a wide array of artists such as Prince\, Fleetwood Mac\, Phish\, Blues Brothers\, Neil Young\, and the list goes on and on with more than 800 shows since the band’s conception. There is no other band in the St. Louis area that will tackle the multitude of musical creations that Voodoo Players does with such tenacity and energy. \nIt’s the long-awaited full-show debut of Voodoo Marshall Tucker Band! They are mixing Southern Rock with psychedelic jams to bring you a night full of amazing songs. “Can’t You See” how fun this show will be! \n\nVoodoo Players for 8/12:\n\n\nSean Canan – guitar\nDanny Liston – guitar\nGary Hunt – Fiddle\, Guitar\, Lap Steel\nTom Denman – keys\nJosip Capan – bass\nJoe Meyer – drums
URL:https://www.therootsfm.org/event/voodoo-marshall-tucker-band-atomic/
LOCATION:Atomic\, 4140 Manchester Ave\, St. Louis\, MO\, 62110\, United States
END:VEVENT
BEGIN:VEVENT
DTSTART;TZID=America/Chicago:20260814T200000
DTEND;TZID=America/Chicago:20260814T200000
DTSTAMP:20260423T190846
CREATED:20260331T160847Z
LAST-MODIFIED:20260331T160847Z
UID:28635-1786737600-1786737600@www.therootsfm.org
SUMMARY:Andy Frasco & The U.N. and Kitchen Dwellers @ Atomic
DESCRIPTION:Atomic Block Party – this is a rain or shine event. \n$1 from every ticket sold benefits Backline\, a nonprofit providing mental health and wellness resources to music industry professionals and their families\, helping build a safer\, more supportive music community. \nANDY FRASCO & THE U.N.\nWith curly tufts of a recognizable ‘fro peeking out from his omnipresent knit cap\, Andy Frasco is a cross between John Belushi’s “Joliet” Jake Blues and Jimmy Buffett. He’s a band-fronting\, songwriting party animal who turns into a swirling rock ‘n’ roll Tasmanian Devil onstage leading his U.N.\, not unlike Bruce Springsteen and the E-Street Band. From switching instruments mid-song to Frasco stagediving into the crowd or kibitzing with them\, an Andy Frasco & The U.N. show is a celebration of inclusivity and tolerance where “You do You” and “let us do us.”\n\nKITCHEN DWELLERS\nKitchen Dwellers continue to carve out their own lane in the world of progressive roots music\, blending bluegrass\, folk\, and psychedelic grit into a sound as expansive as their Montana home. The Bozeman-born quartet of Shawn Swain (mandolin)\, Torrin Daniels (banjo)\, Joe Funk (upright bass)\, and Max Davies (acoustic guitar) has grown from regional upstarts into one of the most dynamic and forward-thinking bands in modern string music. Their catalog pairs instrumental virtuosity with emotional storytelling\, an exploratory spirit\, and a deep connection to the American West.
URL:https://www.therootsfm.org/event/andy-frasco-the-u-n-and-kitchen-dwellers-atomic/
LOCATION:Atomic\, 4140 Manchester Ave\, St. Louis\, MO\, 62110\, United States
END:VEVENT
BEGIN:VEVENT
DTSTART;TZID=America/Chicago:20260816T200000
DTEND;TZID=America/Chicago:20260816T200000
DTSTAMP:20260423T190846
CREATED:20260331T165825Z
LAST-MODIFIED:20260331T165825Z
UID:28638-1786910400-1786910400@www.therootsfm.org
SUMMARY:Steve Earle - 51 Years of Songs & Stories @ The Sovereign
DESCRIPTION:  \n \nDon’t miss a night with a true American outlaw. For over five decades\, Steve Earle has been crafting songs that cut straight to the bone\, from the grit of Guitar Town to the anthemic Copperhead Road. Celebrating 51 years of writing\, storytelling\, and playing\, this is more than a concert—it’s a living history of Americana\, folk\, and rock. Experience a raw\, stripped-back performance from one of the most acclaimed singer-songwriters of our generation.\n\nSteve Earle is one of the most acclaimed singer-songwriters of his generation. A protege of legendary songwriters Townes Van Zandt and Guy Clark\, he quickly became a master storyteller in his own right\, with his songs being recorded by Johnny Cash\, Waylon Jennings\, Joan Baez\, Emmylou Harris\, The Pretenders\, and countless others. 1986 saw the release of his record\, Guitar Town\, which shot to number one on the country charts and is now regarded as a classic of the Americana genre. Most recently\, Earle’s 1988 hit Copperhead Road was made an official state song of Tennessee in 2023.\n\nTHIS IS A FULLY SEATED SHOW.
URL:https://www.therootsfm.org/event/steve-earle-51-years-of-songs-stories-the-sovereign/
LOCATION:The Sovereign\, 3300 Washington Ave\, St Louis\, MO\, 63103\, United States
END:VEVENT
BEGIN:VEVENT
DTSTART;TZID=America/Chicago:20260822T193000
DTEND;TZID=America/Chicago:20260822T193000
DTSTAMP:20260423T190846
CREATED:20260422T232228Z
LAST-MODIFIED:20260422T232228Z
UID:28697-1787427000-1787427000@www.therootsfm.org
SUMMARY:Rogers & Nienhaus & Friends @ Wildey Theater
DESCRIPTION:Rogers & Nienhaus are local favorites in the STL Metro Area. They began their long association in Nashville\, TN in 1993 when they were introduced by their mutual friend Michael Supe Granda of The Ozark Mountain Daredevils.  Soon after Terry Rogers invited Scott Nienhaus to join the newly formed group The Byrds Celebration along with former Byrds members Skip Battin and Gene Parsons. \nRogers & Nienhaus celebrated their 20th\, 25th and 30th Anniversary at The Wildey Theatre and now are celebrating the release of their new CD: ‘Rogers & Nienhaus & Friends Live from The Church Studio in Tulsa\, OK’ with this exclusive CD Release Event!! Their 30 Year Anniversary show was such a success with 2 nights of sold out shows that featured an amazing group of musicians which inspired this new recording and featured the same group of musicians: Tim Politte on drums and vocals\, Dave Torretta on bass\, Bill Murphy on piano\, organ\, accordion and vocals\, Tom Murphy on mandolin\, Tyler Armstrong on guitar\, Jim Stevens on saxophone\, Chris Fabick on percussion and Teresa Nienhaus on vocals. \nCome and join the fun for this very special CD release event with Rogers & Nienhaus & Friends!!!
URL:https://www.therootsfm.org/event/rogers-nienhaus-friends-wildey-theater/
LOCATION:Wildey Theatre\, 252 N. Main St.\, Edwardsville\, IL\, 62025\, United States
END:VEVENT
BEGIN:VEVENT
DTSTART;TZID=America/Chicago:20260911T200000
DTEND;TZID=America/Chicago:20260911T200000
DTSTAMP:20260423T190846
CREATED:20260408T162617Z
LAST-MODIFIED:20260408T162617Z
UID:28670-1789156800-1789156800@www.therootsfm.org
SUMMARY:Jeremiah Johnson @ Blues on the Bricks Festival
DESCRIPTION:BLUES ON THE BRICKS — LIVE OUTDOOR CONCERT! \nThis year’s lineup is nothing short of explosive. \nHeadlining at 9PM: Jeremiah JohnsonA 2022 Blues Music Award nominee for Best Blues Rock Album and named one of the “75 Modern Blues & Blues Rock Artists You Must Hear” by Rock & Blues Muse\, Jeremiah Johnson brings world‑class guitar work\, powerhouse vocals\, and a signature blend of Southern soul\, Mississippi River blues\, and a touch of country grit. \nAnd he’s bringing a special guest — the incredible Frank Bauer on sax — to take the night even higher. \nOpening the show: \nSt. Louis legendary bluesman Rich McDonough\, setting the tone with pure\, authentic blues straight from the source. \nBring your family\, bring your friends\, and get ready for a night where the bricks shake\, the blues roar\, and the music hits you right in the soul. \nThis is the blues the way it’s meant to be heard — outside\, loud\, and unforgettable. \nFood and drink available.
URL:https://www.therootsfm.org/event/jeremiah-johnson-blues-on-the-bricks-festival/
LOCATION:Blues on the Bricks\, 130 Mississippi Avenue\, Crystal City\, MO\, 63019\, United States
END:VEVENT
BEGIN:VEVENT
DTSTART;TZID=America/Chicago:20260926T200000
DTEND;TZID=America/Chicago:20260926T200000
DTSTAMP:20260423T190846
CREATED:20260307T205135Z
LAST-MODIFIED:20260307T205256Z
UID:28595-1790452800-1790452800@www.therootsfm.org
SUMMARY:Tom Rush @ Wildwood Springs Lodge
DESCRIPTION:Tom Rush is a gifted musician and performer\, whose shows offer a musical celebration…a journey into the tradition and spectrum of what music has been\, can be\, and will become. His distinctive guitar style\, wry humour and warm\, expressive voice have made him both a legend and a lure to audiences around the world. His shows are filled with the rib-aching laughter of terrific storytelling\, the sweet melancholy of ballads and the passion of gritty blues. \nRush’s impact on the American music scene has been profound. He helped shape the folk revival in the ’60s and the renaissance of the ’80s and ’90s\, his music having left its stamp on generations of artists. James Taylor told Rolling Stone\, “Tom was not only one of my early heroes\, but also one of my main influences.” Country music star Garth Brooks has credited Rush with being one of his top five musical influences. Rush has long championed emerging artists. His early recordings introduced the world to the work of Joni Mitchell\, Jackson Browne and James Taylor\, and in more recent years his Club 47® concerts have brought artists such as Nanci Griffith and Shawn Colvin to wider audiences when they were just beginning to build their own reputations.
URL:https://www.therootsfm.org/event/tom-rush-wildwood-springs-lodge/
LOCATION:Wildwood Springs Lodge\, 125 Grand Drive\, Steelville\, MO\, 65565\, United States
END:VEVENT
BEGIN:VEVENT
DTSTART;TZID=America/Chicago:20261007T193000
DTEND;TZID=America/Chicago:20261007T193000
DTSTAMP:20260423T190846
CREATED:20260403T201509Z
LAST-MODIFIED:20260403T201606Z
UID:28646-1791401400-1791401400@www.therootsfm.org
SUMMARY:Bruce Hornsby & The Noisemakers @ The Factory
DESCRIPTION:Based out of Williamsburg\, VA\, Hornsby first rose to national prominence with The Way It Is\, his 1986 Grammy-winning debut album with The Range. The title track became the most-played song on American radio in 1987 while Tupac Shakur’s timeless song “Changes” builds on “The Way It Is” and set the stage for many subsequent versions of the track. In 1991 Hornsby collaborated with Bonnie Raitt\, playing on her iconic hit “I Can’t Make You Love Me.” Additionally\, Hornsby was a part-time member of the Grateful Dead from September 1990 to March 1992\, performing over 100 concerts in America and Europe. The 13-time Grammy nominee has also solidified his status as a highly sought-after collaborator. Hornsby’s own 23 albums have sold over 11 million copies worldwide\, and he has appeared on over 100 records including releases with Bob Dylan\, Don Henley\, the Grateful Dead\, Stevie Nicks\, Ricky Skaggs\, Bob Seger\, Chaka Khan\, Bon Iver\, Brandon Flowers\, Bonnie Raitt\, Sting\, Mavis Staples\, Willie Nelson and more. Performances will feature material from throughout Hornsby’s storied career\, in addition to new music from his forthcoming album\, Indigo Park\, arriving April 3rd\, 2026.
URL:https://www.therootsfm.org/event/bruce-hornsby-the-noisemakers-the-factory/
LOCATION:The Factory\, 17105 North Outer 40 Road\, Chesterfield\, Missouri\, 63005
END:VEVENT
BEGIN:VEVENT
DTSTART;TZID=America/Chicago:20261010T193000
DTEND;TZID=America/Chicago:20261010T193000
DTSTAMP:20260423T190846
CREATED:20260214T064818Z
LAST-MODIFIED:20260214T064818Z
UID:28555-1791660600-1791660600@www.therootsfm.org
SUMMARY:Big Head Todd & The Monsters @ The Pageant
DESCRIPTION:Due to unforeseen circumstances\, this show is rescheduled to Saturday\, October 10th. All previously purchased tickets will be honored at the new date.  \nMessage from the band:\n“Unfortunately\, due to an ongoing medical issue with Brian Nevin\, our drummer\, we will be postponing all BHTM dates now through March. All dates from April onwards will go on as planned. We will be announcing postponement dates and refund options very soon. Thank you everyone for all your support.” \n  \nIn this life\, very few friendships withstand the test of time. Naturally\, people go their separate ways and chase their own dreams. As rare as it may be for friendships to last a lifetime\, it might be even rarer for a band to stick together for the long haul. For close to four decades\, the members of Big Head Todd and The Monsters—Todd Park Mohr [vocals\, guitar\, keys\, sax\, harmonica]\, Brian Nevin [drums]\, Rob Squires [bass\, vocals]\, and Jeremy Lawton [keyboards\, lap pedal/steel guitar\, vocals]—have continued to both throw down in the studio and light up stages worldwide. Rallying around a core vision\, the platinum-selling Colorado quartet kick out the kind of blues-drenched rock ‘n’ roll bangers that make you want to rev the engine a little louder\, sing along like no one’s looking\, and live a little freer. \n\n“We work very hard at being a great band\,” Todd leaves off. “We’re also a group that cares for each other. We’ve been together for almost 40 years. Our audience has made it all possible\, and we’re grateful and determined to keep playing.”
URL:https://www.therootsfm.org/event/big-head-todd-the-monsters-the-pageant-2/
LOCATION:The Pageant\, 6161 Delmar Blvd\, St. Louis\, MO\, 63112\, United States
END:VEVENT
END:VCALENDAR