BEGIN:VCALENDAR
VERSION:2.0
PRODID:-//TheRoots FM - ECPv6.15.20//NONSGML v1.0//EN
CALSCALE:GREGORIAN
METHOD:PUBLISH
X-WR-CALNAME:TheRoots FM
X-ORIGINAL-URL:https://www.therootsfm.org
X-WR-CALDESC:Events for TheRoots FM
REFRESH-INTERVAL;VALUE=DURATION:PT1H
X-Robots-Tag:noindex
X-PUBLISHED-TTL:PT1H
BEGIN:VTIMEZONE
TZID:America/Chicago
BEGIN:DAYLIGHT
TZOFFSETFROM:-0600
TZOFFSETTO:-0500
TZNAME:CDT
DTSTART:20250309T080000
END:DAYLIGHT
BEGIN:STANDARD
TZOFFSETFROM:-0500
TZOFFSETTO:-0600
TZNAME:CST
DTSTART:20251102T070000
END:STANDARD
BEGIN:DAYLIGHT
TZOFFSETFROM:-0600
TZOFFSETTO:-0500
TZNAME:CDT
DTSTART:20260308T080000
END:DAYLIGHT
BEGIN:STANDARD
TZOFFSETFROM:-0500
TZOFFSETTO:-0600
TZNAME:CST
DTSTART:20261101T070000
END:STANDARD
BEGIN:DAYLIGHT
TZOFFSETFROM:-0600
TZOFFSETTO:-0500
TZNAME:CDT
DTSTART:20270314T080000
END:DAYLIGHT
BEGIN:STANDARD
TZOFFSETFROM:-0500
TZOFFSETTO:-0600
TZNAME:CST
DTSTART:20271107T070000
END:STANDARD
END:VTIMEZONE
BEGIN:VEVENT
DTSTART;TZID=America/Chicago:20261016T193000
DTEND;TZID=America/Chicago:20261016T193000
DTSTAMP:20260425T092547
CREATED:20260424T184044Z
LAST-MODIFIED:20260424T184730Z
UID:28700-1792179000-1792179000@www.therootsfm.org
SUMMARY:Mississippi Moon @ Kirkwood Performing Arts Center
DESCRIPTION:Mississippi Moon is a live tribute act that recreates the music of The Doobie Brothers\, performing their classic hits with a full band on stage. The group is known for bringing the energy and sound of Michael McDonald-era Doobie Brothers songs to audiences\, from “Listen to the Music” to “What a Fool Believes”.\n\n\n\n\nMississippi Moon meticulously recreates the signature sound that made Michael McDonald a household name\, both during his pivotal tenure with The Doobie Brothers and throughout his illustrious solo career. From his distinctive baritone vocals to his nuanced keyboard arrangements\, McDonald’s influence is undeniable and Mississippi Moon brings it to life with remarkable accuracy.  The band’s commitment to authenticity ensures that every vocal inflection\, every piano chord\, and every intricate harmony is faithfully reproduced\, transporting listeners back to the golden age of yacht rock and blue-eyed soul. This dedication elevates Mississippi Moon beyond a simple cover band\, positioning them as true custodians of the sound that defined a generation.
URL:https://www.therootsfm.org/event/mississippi-moon-kirkwood-performing-arts-center/
LOCATION:Kirkwood Performing Arts Center KPAC\, 210 E Monroe Ave\, Kirkwood\, MO\, MO\, 63122\, United States
END:VEVENT
END:VCALENDAR