BEGIN:VCALENDAR
VERSION:2.0
PRODID:-//TheRoots FM - ECPv6.15.20//NONSGML v1.0//EN
CALSCALE:GREGORIAN
METHOD:PUBLISH
X-WR-CALNAME:TheRoots FM
X-ORIGINAL-URL:https://www.therootsfm.org
X-WR-CALDESC:Events for TheRoots FM
REFRESH-INTERVAL;VALUE=DURATION:PT1H
X-Robots-Tag:noindex
X-PUBLISHED-TTL:PT1H
BEGIN:VTIMEZONE
TZID:America/Chicago
BEGIN:DAYLIGHT
TZOFFSETFROM:-0600
TZOFFSETTO:-0500
TZNAME:CDT
DTSTART:20250309T080000
END:DAYLIGHT
BEGIN:STANDARD
TZOFFSETFROM:-0500
TZOFFSETTO:-0600
TZNAME:CST
DTSTART:20251102T070000
END:STANDARD
BEGIN:DAYLIGHT
TZOFFSETFROM:-0600
TZOFFSETTO:-0500
TZNAME:CDT
DTSTART:20260308T080000
END:DAYLIGHT
BEGIN:STANDARD
TZOFFSETFROM:-0500
TZOFFSETTO:-0600
TZNAME:CST
DTSTART:20261101T070000
END:STANDARD
BEGIN:DAYLIGHT
TZOFFSETFROM:-0600
TZOFFSETTO:-0500
TZNAME:CDT
DTSTART:20270314T080000
END:DAYLIGHT
BEGIN:STANDARD
TZOFFSETFROM:-0500
TZOFFSETTO:-0600
TZNAME:CST
DTSTART:20271107T070000
END:STANDARD
END:VTIMEZONE
BEGIN:VEVENT
DTSTART;VALUE=DATE:20260717
DTEND;VALUE=DATE:20260720
DTSTAMP:20260423T163446
CREATED:20260223T192823Z
LAST-MODIFIED:20260401T015237Z
UID:28578-1784246400-1784505599@www.therootsfm.org
SUMMARY:Music At The Intersection (MATI) @ Grand Center Arts District
DESCRIPTION:  \nMATI (Music at the Intersection) festival and conference returns July 17-19\, 2026\n \n 
URL:https://www.therootsfm.org/event/music-at-the-intersection-mati-grand-center-arts-district/
LOCATION:IL
END:VEVENT
BEGIN:VEVENT
DTSTART;TZID=America/Chicago:20260717T200000
DTEND;TZID=America/Chicago:20260718T200000
DTSTAMP:20260423T163446
CREATED:20260406T045412Z
LAST-MODIFIED:20260406T045412Z
UID:28663-1784318400-1784404800@www.therootsfm.org
SUMMARY:Graham Nash @ The Sheldon
DESCRIPTION:Graham Nash will perform a career-spanning retrospective of his six decades of contributions to contemporary music. Joined by Todd Caldwell (keyboards)\, Adam Minkoff (bass\, drums\, guitar\, and vocals)\, and Zack Djanikian (guitar\, bass\, drums\, and vocals)\, Nash will take the audience on a musical journey that encompasses his years with The Hollies\, CSN\, CSNY\, and his beloved solo efforts. \nGraham Nash is a two-time Rock and Roll Hall of Fame inductee\, with Crosby\, Stills\, and Nash\, and with the Hollies. He was also inducted twice into the Songwriters’ Hall of Fame\, as a solo artist and with CSN\, and he is a GRAMMY Award winner. \nNash’s solo career debuted with Songs For Beginners (1971)\, which included “Chicago/We Can Change the World” and “Military Madness” and others. In addition to his string of solo albums\, he has performed and recorded with David Crosby as Crosby/Nash. Their eponymously titled Graham Nash/David Crosby (1972) is bookended by Nash’s “Southbound Train” and “Immigration Man”.
URL:https://www.therootsfm.org/event/graham-nash-the-sheldon/
LOCATION:The Sheldon\, 3648 Washington Blvd\, St Louis\, MO\, 63108\, United States
END:VEVENT
END:VCALENDAR