BEGIN:VCALENDAR
VERSION:2.0
PRODID:-//TheRoots FM - ECPv6.15.20//NONSGML v1.0//EN
CALSCALE:GREGORIAN
METHOD:PUBLISH
X-WR-CALNAME:TheRoots FM
X-ORIGINAL-URL:https://www.therootsfm.org
X-WR-CALDESC:Events for TheRoots FM
REFRESH-INTERVAL;VALUE=DURATION:PT1H
X-Robots-Tag:noindex
X-PUBLISHED-TTL:PT1H
BEGIN:VTIMEZONE
TZID:America/Chicago
BEGIN:DAYLIGHT
TZOFFSETFROM:-0600
TZOFFSETTO:-0500
TZNAME:CDT
DTSTART:20250309T080000
END:DAYLIGHT
BEGIN:STANDARD
TZOFFSETFROM:-0500
TZOFFSETTO:-0600
TZNAME:CST
DTSTART:20251102T070000
END:STANDARD
BEGIN:DAYLIGHT
TZOFFSETFROM:-0600
TZOFFSETTO:-0500
TZNAME:CDT
DTSTART:20260308T080000
END:DAYLIGHT
BEGIN:STANDARD
TZOFFSETFROM:-0500
TZOFFSETTO:-0600
TZNAME:CST
DTSTART:20261101T070000
END:STANDARD
BEGIN:DAYLIGHT
TZOFFSETFROM:-0600
TZOFFSETTO:-0500
TZNAME:CDT
DTSTART:20270314T080000
END:DAYLIGHT
BEGIN:STANDARD
TZOFFSETFROM:-0500
TZOFFSETTO:-0600
TZNAME:CST
DTSTART:20271107T070000
END:STANDARD
END:VTIMEZONE
BEGIN:VEVENT
DTSTART;TZID=America/Chicago:20260711T200000
DTEND;TZID=America/Chicago:20260711T200000
DTSTAMP:20260423T161950
CREATED:20260403T200058Z
LAST-MODIFIED:20260403T200058Z
UID:28645-1783800000-1783800000@www.therootsfm.org
SUMMARY:Jon Anderson and The Band Geeks @ The Factory
DESCRIPTION:Founding Yes singer Jon Anderson and the Band Geeks–include bass player Richie Castellano\, drummer Andy Ascolese\, guitarists Andy Graziano and Rob Schmoll\, and keyboardists Christopher Clark and Robert Kipp–touring the US together playing a set of classic Yes songs.  Castellano recalled that the combination of talents is a unique recipe for success: “If you can take a band that can sound like that\, with Jon’s voice\, that’s what people want to hear.” \nJon Anderson is undoubtedly one of the most recognizable voices in progressive rock as the lead vocalist and creative force behind Yes. Anderson was the author and a major creative influence behind the series of epics produced by Yes and his role in creating such complex pieces as Close to the Edge\, Awaken\, and especially The Gates of Delirium was central to the band’s success. Additionally\, Anderson co-authored the group’s biggest hits\, including I’ve Seen All Good People\, Roundabout\, and Owner Of A Lonely Heart. \nDon’t want to miss this one! \n 
URL:https://www.therootsfm.org/event/jon-anderson-and-the-band-geeks-the-factory/
LOCATION:The Factory\, 17105 North Outer 40 Road\, Chesterfield\, Missouri\, 63005
END:VEVENT
END:VCALENDAR