BEGIN:VCALENDAR
VERSION:2.0
PRODID:-//TheRoots FM - ECPv6.15.20//NONSGML v1.0//EN
CALSCALE:GREGORIAN
METHOD:PUBLISH
X-ORIGINAL-URL:https://www.therootsfm.org
X-WR-CALDESC:Events for TheRoots FM
REFRESH-INTERVAL;VALUE=DURATION:PT1H
X-Robots-Tag:noindex
X-PUBLISHED-TTL:PT1H
BEGIN:VTIMEZONE
TZID:America/Chicago
BEGIN:DAYLIGHT
TZOFFSETFROM:-0600
TZOFFSETTO:-0500
TZNAME:CDT
DTSTART:20250309T080000
END:DAYLIGHT
BEGIN:STANDARD
TZOFFSETFROM:-0500
TZOFFSETTO:-0600
TZNAME:CST
DTSTART:20251102T070000
END:STANDARD
BEGIN:DAYLIGHT
TZOFFSETFROM:-0600
TZOFFSETTO:-0500
TZNAME:CDT
DTSTART:20260308T080000
END:DAYLIGHT
BEGIN:STANDARD
TZOFFSETFROM:-0500
TZOFFSETTO:-0600
TZNAME:CST
DTSTART:20261101T070000
END:STANDARD
BEGIN:DAYLIGHT
TZOFFSETFROM:-0600
TZOFFSETTO:-0500
TZNAME:CDT
DTSTART:20270314T080000
END:DAYLIGHT
BEGIN:STANDARD
TZOFFSETFROM:-0500
TZOFFSETTO:-0600
TZNAME:CST
DTSTART:20271107T070000
END:STANDARD
END:VTIMEZONE
BEGIN:VEVENT
DTSTART;TZID=America/Chicago:20260620T193000
DTEND;TZID=America/Chicago:20260620T193000
DTSTAMP:20260423T150726
CREATED:20260413T012448Z
LAST-MODIFIED:20260413T012448Z
UID:28681-1781983800-1781983800@www.therootsfm.org
SUMMARY:Nikola Tesla "Light It Up"- An Original Rock Opera @ Delmar Hall
DESCRIPTION:Nikola Tesla was one of the greatest visionaries in human history\, a creative genius who shaped the electrical age\, powered the modern world\, and imagined a future far beyond his time. \nNikola Tesla “Light It Up” – An Original Rock Opera is a high-impact\, contemporary rock opera production that brings the life of Nikola Tesla to the stage through a driving rock score and cinematic storytelling.  Featuring 13 original songs performed by a full live rock band\, the production journeys through the defining chapters of Tesla’s life— inventions\, innovation\, obsession\, and ultimate legacy.  The stage production is highlighted with nonstop\, multimedia videos that will draw the audience in and provide an immersive experience. \nSongs such as I Am The Original Wizard of OZ\, Dinner at Delmonico’s\, Colorado Cosmic Cowboy\, Wardenclyffe\, Presence\, Peace\, and the anthemic Light It Up blend historical moments with emotional depth\, presenting Tesla not only as a towering intellect but as a deeply human figure ahead of his time. \nBold\, immersive\, and accessible to audiences across cultures\, Nikola Tesla “Light It Up” is a globally scalable rock opera that fuses musical live concert energy and timeless relevance—created to captivate\, inspire\, entertain\, and ignite audiences around the world. \nSt. Louis’ Premier Tribute Powerhouse Ignites the World Premiere of Tesla’s Electrifying Rock Opera. \nThe Jason Nelson Band stands among St. Louis’ most respected and in-demand live performance groups\, celebrated for commanding stage presence\, powerhouse vocals\, and electrifying musicianship.  Renowned for their top-tier tribute productions honoring Queen\, Sting\, and Talking Heads\, the band has earned a reputation for musical precision\, dynamic energy\, and unforgettable live entertainment. \nFor the World Premiere of Nikola Tesla “Light It Up” — An Original Rock Opera\, the band expands into a powerhouse eight-member ensemble\, uniting exceptional St. Louis musicians to bring the sweeping theatrical score to life. Blending driving rock intensity with orchestral textures and cinematic storytelling\, the performance features: \nJason Nelson – Lead Vocals\nAlonzo Jamison – Drums\nRich Mendoza – Bass\nSteve Johnston – Guitar\nCharlie Brown – Keyboards\nStacey Rios – Cello & Vocals\nMark Hochberg – Violin \nTogether\, they deliver the musical force launching this groundbreaking rock opera onto the world stage.
URL:https://www.therootsfm.org/event/nikola-tesla-light-it-up-an-original-rock-opera-delmar-hall/
LOCATION:Delmar Hall\, 6133 Delmar Blvd.\, Saint Louis\, MO\, 63112\, United States
END:VEVENT
END:VCALENDAR