BEGIN:VCALENDAR
VERSION:2.0
PRODID:-//TheRoots FM - ECPv6.15.20//NONSGML v1.0//EN
CALSCALE:GREGORIAN
METHOD:PUBLISH
X-ORIGINAL-URL:https://www.therootsfm.org
X-WR-CALDESC:Events for TheRoots FM
REFRESH-INTERVAL;VALUE=DURATION:PT1H
X-Robots-Tag:noindex
X-PUBLISHED-TTL:PT1H
BEGIN:VTIMEZONE
TZID:America/Chicago
BEGIN:DAYLIGHT
TZOFFSETFROM:-0600
TZOFFSETTO:-0500
TZNAME:CDT
DTSTART:20250309T080000
END:DAYLIGHT
BEGIN:STANDARD
TZOFFSETFROM:-0500
TZOFFSETTO:-0600
TZNAME:CST
DTSTART:20251102T070000
END:STANDARD
BEGIN:DAYLIGHT
TZOFFSETFROM:-0600
TZOFFSETTO:-0500
TZNAME:CDT
DTSTART:20260308T080000
END:DAYLIGHT
BEGIN:STANDARD
TZOFFSETFROM:-0500
TZOFFSETTO:-0600
TZNAME:CST
DTSTART:20261101T070000
END:STANDARD
BEGIN:DAYLIGHT
TZOFFSETFROM:-0600
TZOFFSETTO:-0500
TZNAME:CDT
DTSTART:20270314T080000
END:DAYLIGHT
BEGIN:STANDARD
TZOFFSETFROM:-0500
TZOFFSETTO:-0600
TZNAME:CST
DTSTART:20271107T070000
END:STANDARD
END:VTIMEZONE
BEGIN:VEVENT
DTSTART;TZID=America/Chicago:20260614T200000
DTEND;TZID=America/Chicago:20260614T200000
DTSTAMP:20260423T104022
CREATED:20260220T203355Z
LAST-MODIFIED:20260220T203534Z
UID:28574-1781467200-1781467200@www.therootsfm.org
SUMMARY:An Evening with Jerry's Middle Finger @ Old Rockhouse
DESCRIPTION:Three decades after the loss of Jerry Garcia\, a close-knit band of musicians are carrying the torch for his distinctive blend of soul\, guitar\, and eclectic American music. Jerry’s Middle Finger do more than celebrate the Jerry Garcia Band’s catalog; they also broadcast it to a new generation\, upholding Garcia’s dedication to camaraderie and community-building by creating their own family-like experience onstage.  How sweet it is\, to experience the joy of JGB’s music in a live setting. \nA concert by Jerry’s Middle Finger is a connective\, cathartic event: a fusion of artist and audience\, where everyone’s a fan of the same catalog and experience. Those concerts began in 2015\, when bandmates Garrett Deloian\, Rodney Newman\, Son Vo\, Jon Gold\, Halina Janusz\, and Lisa Malsberger were drawn together by a love of the Grateful Dead and its iconic lead guitarist. \nAs the years progressed\, the band’s audience grew. Dive bar gigs in JMF’s hometown of Los Angeles gave way to performances at bucket-list venues across the country\, including jam-band destinations like the Great American Music Hall in San Francisco\, the Troubadour in Los Angeles\, The Ardmore in Philadelphia\, and Garcia’s at the Capitol Theatre in Port Chester\, NY. “This isn’t just a cover band — it’s a band that genuinely honors the music Jerry made and the community he built\,” says Newman\, the group’s drummer and co-founder. “We’ve studied these songs: the guitar tones\, the vocal arrangements\, the keyboard sounds. We play them the way Jerry did\, and we connect with the audience in an interactive\, open-hearted way. It’s an approach that transcends the perfection of a performance or the spectacle of a light show\, because we’re not really about that. We’re about the music\, the feeling\, and the communal experience.” \nCalifornia-based Jerry’s Middle Finger is bringing the best Jerry Garcia Band tribute experience in the world right here to The Lou! Come join in as they celebrate all things Jerry!
URL:https://www.therootsfm.org/event/an-evening-with-jerrys-middle-finger-old-rockhouse/
LOCATION:Old Rock House\, 1200 S 7th St\, St Louis\, Missouri\, 63104\, United States
END:VEVENT
END:VCALENDAR