BEGIN:VCALENDAR
VERSION:2.0
PRODID:-//TheRoots FM - ECPv6.15.20//NONSGML v1.0//EN
CALSCALE:GREGORIAN
METHOD:PUBLISH
X-WR-CALNAME:TheRoots FM
X-ORIGINAL-URL:https://www.therootsfm.org
X-WR-CALDESC:Events for TheRoots FM
REFRESH-INTERVAL;VALUE=DURATION:PT1H
X-Robots-Tag:noindex
X-PUBLISHED-TTL:PT1H
BEGIN:VTIMEZONE
TZID:America/Chicago
BEGIN:DAYLIGHT
TZOFFSETFROM:-0600
TZOFFSETTO:-0500
TZNAME:CDT
DTSTART:20250309T080000
END:DAYLIGHT
BEGIN:STANDARD
TZOFFSETFROM:-0500
TZOFFSETTO:-0600
TZNAME:CST
DTSTART:20251102T070000
END:STANDARD
BEGIN:DAYLIGHT
TZOFFSETFROM:-0600
TZOFFSETTO:-0500
TZNAME:CDT
DTSTART:20260308T080000
END:DAYLIGHT
BEGIN:STANDARD
TZOFFSETFROM:-0500
TZOFFSETTO:-0600
TZNAME:CST
DTSTART:20261101T070000
END:STANDARD
BEGIN:DAYLIGHT
TZOFFSETFROM:-0600
TZOFFSETTO:-0500
TZNAME:CDT
DTSTART:20270314T080000
END:DAYLIGHT
BEGIN:STANDARD
TZOFFSETFROM:-0500
TZOFFSETTO:-0600
TZNAME:CST
DTSTART:20271107T070000
END:STANDARD
END:VTIMEZONE
BEGIN:VEVENT
DTSTART;TZID=America/Chicago:20260612T190000
DTEND;TZID=America/Chicago:20260612T190000
DTSTAMP:20260423T120246
CREATED:20260223T185304Z
LAST-MODIFIED:20260223T185304Z
UID:28577-1781290800-1781290800@www.therootsfm.org
SUMMARY:Route 66 Jazz Orchestra @ Kirkwood Park Amphitheater
DESCRIPTION:Summer Concert\nThe Route 66 Jazz Orchestra is a 22-piece jazz band dedicated to the preservation and promotion of “Big Band” Jazz.  Ron Wilkinson appears as a featured vocalist. \nThe roots of the Route 66 Jazz Orchestra trace back to 1969\, when Meramec Community College band director\, Dr. Ron Stilwell\, realized the need and potential to add a jazz band to the music program at the college. As the “Meramec Jazz Lab Band”\, the band flourished for over 40 years in their role as jazz ambassadors for the college. Since 2005\, the band has been under the leadership of lifelong music educator and band director\, Bob Boedges. In the fall of 2012\, the band decided to leave the college in pursuit of the further opportunities available as an “independent” organization and in 2023 Gary Brandes joined the band as the associate director.
URL:https://www.therootsfm.org/event/route-66-jazz-orchestra-kirkwood-park-amphitheater/
LOCATION:Kirkwood Park Lion’s Amphitheater\, 111 S Geyer Road\, Kirkwood\, MO\, 63122\, United States
END:VEVENT
END:VCALENDAR