BEGIN:VCALENDAR
VERSION:2.0
PRODID:-//TheRoots FM - ECPv6.15.20//NONSGML v1.0//EN
CALSCALE:GREGORIAN
METHOD:PUBLISH
X-ORIGINAL-URL:https://www.therootsfm.org
X-WR-CALDESC:Events for TheRoots FM
REFRESH-INTERVAL;VALUE=DURATION:PT1H
X-Robots-Tag:noindex
X-PUBLISHED-TTL:PT1H
BEGIN:VTIMEZONE
TZID:America/Chicago
BEGIN:DAYLIGHT
TZOFFSETFROM:-0600
TZOFFSETTO:-0500
TZNAME:CDT
DTSTART:20250309T080000
END:DAYLIGHT
BEGIN:STANDARD
TZOFFSETFROM:-0500
TZOFFSETTO:-0600
TZNAME:CST
DTSTART:20251102T070000
END:STANDARD
BEGIN:DAYLIGHT
TZOFFSETFROM:-0600
TZOFFSETTO:-0500
TZNAME:CDT
DTSTART:20260308T080000
END:DAYLIGHT
BEGIN:STANDARD
TZOFFSETFROM:-0500
TZOFFSETTO:-0600
TZNAME:CST
DTSTART:20261101T070000
END:STANDARD
BEGIN:DAYLIGHT
TZOFFSETFROM:-0600
TZOFFSETTO:-0500
TZNAME:CDT
DTSTART:20270314T080000
END:DAYLIGHT
BEGIN:STANDARD
TZOFFSETFROM:-0500
TZOFFSETTO:-0600
TZNAME:CST
DTSTART:20271107T070000
END:STANDARD
END:VTIMEZONE
BEGIN:VEVENT
DTSTART;TZID=America/Chicago:20260610T200000
DTEND;TZID=America/Chicago:20260610T200000
DTSTAMP:20260423T150705
CREATED:20260126T212243Z
LAST-MODIFIED:20260126T212243Z
UID:28504-1781121600-1781121600@www.therootsfm.org
SUMMARY:Joe Jackson + Band @ The Pageant
DESCRIPTION:Hope and Fury Tour 2026\nJoe Jackson\, born David Ian Jackson on August 11\, 1954\, in Burton upon Trent\, England\, is a renowned musician\, singer\, and songwriter. He gained fame in the late 1970s and early 1980s with hits like “Is She Really Going Out with Him?” and “Steppin’ Out.” Jackson’s music is characterized by its eclectic style\, incorporating elements of rock\, jazz\, and pop.  He has released over 21 studio albums throughout his career. \nAlong with Elvis Costello and Graham Parker\, Joe Jackson was one of the three big “Angry Young Men” of the late ‘70s punk/new wave movement. His early records with his band (named after him)\, reflect said genre and his lyrics got him tagged as “angry”. After the disbandment of his band after Beat Crazy in 1980 (bassist Graham Maby stuck with him)\, he recorded albums that reflected different genres and were more less rocking such as Night and Day\, Body and Soul\, and most notably\, Jumpin’ Jive\, a covers collection of classic swing tunes. Over the years\, Jackson has continued to push his sound in different directions and still records new music to this day. \nJoe Jackson is returning with a brand-new studio set called – Hope and Fury.  It offers nine new songs. Jackson refers to the new album as a collection of “latinjazzfunkrock”\, a combination that we already know that he is more than capable of. \n 
URL:https://www.therootsfm.org/event/joe-jackson-band-the-pageant/
LOCATION:The Pageant\, 6161 Delmar Blvd\, St. Louis\, MO\, 63112\, United States
END:VEVENT
END:VCALENDAR