BEGIN:VCALENDAR
VERSION:2.0
PRODID:-//TheRoots FM - ECPv6.15.20//NONSGML v1.0//EN
CALSCALE:GREGORIAN
METHOD:PUBLISH
X-WR-CALNAME:TheRoots FM
X-ORIGINAL-URL:https://www.therootsfm.org
X-WR-CALDESC:Events for TheRoots FM
REFRESH-INTERVAL;VALUE=DURATION:PT1H
X-Robots-Tag:noindex
X-PUBLISHED-TTL:PT1H
BEGIN:VTIMEZONE
TZID:America/Chicago
BEGIN:DAYLIGHT
TZOFFSETFROM:-0600
TZOFFSETTO:-0500
TZNAME:CDT
DTSTART:20250309T080000
END:DAYLIGHT
BEGIN:STANDARD
TZOFFSETFROM:-0500
TZOFFSETTO:-0600
TZNAME:CST
DTSTART:20251102T070000
END:STANDARD
BEGIN:DAYLIGHT
TZOFFSETFROM:-0600
TZOFFSETTO:-0500
TZNAME:CDT
DTSTART:20260308T080000
END:DAYLIGHT
BEGIN:STANDARD
TZOFFSETFROM:-0500
TZOFFSETTO:-0600
TZNAME:CST
DTSTART:20261101T070000
END:STANDARD
BEGIN:DAYLIGHT
TZOFFSETFROM:-0600
TZOFFSETTO:-0500
TZNAME:CDT
DTSTART:20270314T080000
END:DAYLIGHT
BEGIN:STANDARD
TZOFFSETFROM:-0500
TZOFFSETTO:-0600
TZNAME:CST
DTSTART:20271107T070000
END:STANDARD
END:VTIMEZONE
BEGIN:VEVENT
DTSTART;TZID=America/Chicago:20260517T160000
DTEND;TZID=America/Chicago:20260517T160000
DTSTAMP:20260425T090137
CREATED:20260406T034417Z
LAST-MODIFIED:20260406T034448Z
UID:28656-1779033600-1779033600@www.therootsfm.org
SUMMARY:The Mighty Pines @ Benton Park
DESCRIPTION:The Mighty Pines are a soul-inspired roots rock band influenced by the wide rivers and red-brick streets of St. Louis. Like the steady and strong trees from which they take their name\, the band continues to grow in stature and sound\, creating vast musical landscapes with their layered harmonies and thoughtfully crafted instrumentation. \n\nThe Mighty Pines are Neil Salsich-vocals and guitar\, Gerard Erker-vocals\, mandolin and banjo\, John Hussung-vocals and bass\, Mike Murano-drums. \nSinger/guitarist Neil Salsich reached national acclaim on Season 23 of NBC’s The Voice. He earned a four-chair turn on his blind audition and was coached by Blake Shelton & Kelly Clarkson and highly praised by coaches Chance the Rapper\, Niall Horan and Reba McEntire. The group is also an in-demand studio band and recently recorded with Michael McDonald and Brian Owens. They are busy planning the release of two new albums\, a single with Michael McDonald. \nThis event is free and family friendly event. \n\n\n\n\n Add to calendar
URL:https://www.therootsfm.org/event/the-mighty-pines-benton-park/
LOCATION:Benton Park\, 3100 S Jefferson Ave\, St Louis\, MO\, 63118\, United States
END:VEVENT
END:VCALENDAR