BEGIN:VCALENDAR
VERSION:2.0
PRODID:-//TheRoots FM - ECPv6.15.20//NONSGML v1.0//EN
CALSCALE:GREGORIAN
METHOD:PUBLISH
X-WR-CALNAME:TheRoots FM
X-ORIGINAL-URL:https://www.therootsfm.org
X-WR-CALDESC:Events for TheRoots FM
REFRESH-INTERVAL;VALUE=DURATION:PT1H
X-Robots-Tag:noindex
X-PUBLISHED-TTL:PT1H
BEGIN:VTIMEZONE
TZID:America/Chicago
BEGIN:DAYLIGHT
TZOFFSETFROM:-0600
TZOFFSETTO:-0500
TZNAME:CDT
DTSTART:20250309T080000
END:DAYLIGHT
BEGIN:STANDARD
TZOFFSETFROM:-0500
TZOFFSETTO:-0600
TZNAME:CST
DTSTART:20251102T070000
END:STANDARD
BEGIN:DAYLIGHT
TZOFFSETFROM:-0600
TZOFFSETTO:-0500
TZNAME:CDT
DTSTART:20260308T080000
END:DAYLIGHT
BEGIN:STANDARD
TZOFFSETFROM:-0500
TZOFFSETTO:-0600
TZNAME:CST
DTSTART:20261101T070000
END:STANDARD
BEGIN:DAYLIGHT
TZOFFSETFROM:-0600
TZOFFSETTO:-0500
TZNAME:CDT
DTSTART:20270314T080000
END:DAYLIGHT
BEGIN:STANDARD
TZOFFSETFROM:-0500
TZOFFSETTO:-0600
TZNAME:CST
DTSTART:20271107T070000
END:STANDARD
END:VTIMEZONE
BEGIN:VEVENT
DTSTART;TZID=America/Chicago:20260513T193000
DTEND;TZID=America/Chicago:20260515T193000
DTSTAMP:20260423T061323
CREATED:20260422T020408Z
LAST-MODIFIED:20260422T020408Z
UID:28696-1778700600-1778873400@www.therootsfm.org
SUMMARY:Lyle Lovett Up Close: "Songs & Stories" @ City Winery
DESCRIPTION:A singer\, composer and actor\, Lyle Lovett has broadened the definition of American music in a career that spans 14 albums. Coupled with his gift for storytelling\, the Texas-based musician fuses elements of country\, swing\, jazz\, folk\, gospel and blues in a convention-defying manner that breaks down barriers. \nLovett’s live performances show not only the breadth of this Texas legend’s deep talents\, but also the diversity of his influences\, making him one of the most compelling and captivating musicians in popular music. \nSince his self-titled debut in 1986\, Lyle Lovett has evolved into one of music’s most vibrant and iconic performers. Among his many accolades\, besides the four Grammy Awards\, he was given the Americana Music Association’s inaugural Trailblazer Award\, and was named Texas State Musician. \nHis works\, rich and eclectic\, are some of the most beloved of any artist working today. \nSee Lyle Lovett for three shows over three nights.
URL:https://www.therootsfm.org/event/lyle-lovett-up-close-songs-stories-city-winery/
LOCATION:City Winery-STL\, 3730 Foundry Way\, St Louis\, MO\, 63110\, United States
END:VEVENT
END:VCALENDAR