BEGIN:VCALENDAR
VERSION:2.0
PRODID:-//TheRoots FM - ECPv6.15.20//NONSGML v1.0//EN
CALSCALE:GREGORIAN
METHOD:PUBLISH
X-ORIGINAL-URL:https://www.therootsfm.org
X-WR-CALDESC:Events for TheRoots FM
REFRESH-INTERVAL;VALUE=DURATION:PT1H
X-Robots-Tag:noindex
X-PUBLISHED-TTL:PT1H
BEGIN:VTIMEZONE
TZID:America/Chicago
BEGIN:DAYLIGHT
TZOFFSETFROM:-0600
TZOFFSETTO:-0500
TZNAME:CDT
DTSTART:20250309T080000
END:DAYLIGHT
BEGIN:STANDARD
TZOFFSETFROM:-0500
TZOFFSETTO:-0600
TZNAME:CST
DTSTART:20251102T070000
END:STANDARD
BEGIN:DAYLIGHT
TZOFFSETFROM:-0600
TZOFFSETTO:-0500
TZNAME:CDT
DTSTART:20260308T080000
END:DAYLIGHT
BEGIN:STANDARD
TZOFFSETFROM:-0500
TZOFFSETTO:-0600
TZNAME:CST
DTSTART:20261101T070000
END:STANDARD
BEGIN:DAYLIGHT
TZOFFSETFROM:-0600
TZOFFSETTO:-0500
TZNAME:CDT
DTSTART:20270314T080000
END:DAYLIGHT
BEGIN:STANDARD
TZOFFSETFROM:-0500
TZOFFSETTO:-0600
TZNAME:CST
DTSTART:20271107T070000
END:STANDARD
END:VTIMEZONE
BEGIN:VEVENT
DTSTART;TZID=America/Chicago:20260509T200000
DTEND;TZID=America/Chicago:20260509T200000
DTSTAMP:20260423T120445
CREATED:20251016T221736Z
LAST-MODIFIED:20251016T221901Z
UID:28289-1778356800-1778356800@www.therootsfm.org
SUMMARY:Kenny Wayne Shepherd @ The Factory
DESCRIPTION:For the last quarter-century\, riding shotgun with Kenny Wayne Shepherd has been the greatest road-trip in rock ‘n’ roll. Gone is the young Louisiana gunslinger who erupted onto the early-’90s scene with his burn-it-down guitar solos and gut-punch songcraft. The man he’s become is even more magnetic\, still pushing his Fender Strat where others fear to fret\, while diving deep into human truths and personal evolution with an honesty that only comes with miles on the clock. If that quarter-century journey has taught Shepherd anything\, it’s that there’s no such thing as mission accomplished. A restless creativity has driven Shepherd ever since he taught himself to play guitar at the age of 7. A musician in constant motion\, Shepherd has spent his career burning up the highways and crossing continents\, bringing his unique style of rock/blues to the world. \nIn an industry that’s changed drastically over the years\, Shepherd’s versatility and drive has served him well. He plans to keep making music and to keep touring\, “I don’t have any intention of sitting idly. We’re a live band\, and when people listen to our records\, I want them to hear what we sound like when we play live. I just want to keep moving and keep creating and keep doing what I love – for as long as I possibly can…” \nBand Members:\nChris Layton – Drums\, Kenny Wayne Shepherd – Guitar & Vocals\, Noah Hunt – Vocals\, Joe Krown – Keyboards & B-3\n 
URL:https://www.therootsfm.org/event/kenny-wayne-shepherd-the-factory/
LOCATION:The Factory\, 17105 North Outer 40 Road\, Chesterfield\, Missouri\, 63005
END:VEVENT
BEGIN:VEVENT
DTSTART;TZID=America/Chicago:20260509T200000
DTEND;TZID=America/Chicago:20260509T200000
DTSTAMP:20260423T120445
CREATED:20260126T203350Z
LAST-MODIFIED:20260126T203350Z
UID:28503-1778356800-1778356800@www.therootsfm.org
SUMMARY:The Greyboy Allstars @ Delmar Hall
DESCRIPTION:Born in San Diego as the “Allstars” of DJ Greyboy’s underground label\, the five musicians offered living\, breathing interpretations of his rare groove\, crate-digging discoveries. Flash forward thirty years later and GBA have grown into legitimate “Allstars” in modern music. Away from GBA\, guitarist Elgin Park aka Michael Andrews is a notable composer of scores for film and television\, ranging from Donnie Darko to Freaks & Geeks to his most recent work on the upcoming animated documentary Piece by Piece that tells the life story of singer and producer Pharrell Williams through LEGO pieces. Robert Walter\, the group’s keyboardist\, has been jumping between tours with Pink Floyd’s Roger Waters\, and Phish’s Mike Gordon\, among others\, while leading his own 20th Congress. Saxophonist Karl Denson divides time between his touring juggernaut Tiny Universe\, as well as the jazz-based KD3 trio\, while handling saxophone duties on tour with no less than The Rolling Stones. And then there’s the liquid cool of GBA’s rhythm section: bassist Chris Stillwell and drummer Aaron Redfield\, a formidable\, first call rhythm section on pop and hip-hop sessions\, including credits on recordings by Sia\, Elton John\, CeeLo\, and Charli XCX. \nAs they continue to tour and record\, The Greyboy Allstars remain one of the most exciting live bands on the planet—schooled in tradition but never bound by it. Their music nods to legends like Ahmad Jamal\, Wayne Shorter\, Thelonious Monk\, and Eddie Harris\, while sounding utterly timeless and unmistakably their own. In a time when jazz is colliding with hip-hop\, Afrobeat\, psych\, and beat culture\, The Greyboy Allstars are not just relevant—they’re foundational. They’ve been laying bricks in this house since day one\, and their influence only grows deeper. \n 
URL:https://www.therootsfm.org/event/the-greyboy-allstars-delmar-hall/
LOCATION:Delmar Hall\, 6133 Delmar Blvd.\, Saint Louis\, MO\, 63112\, United States
END:VEVENT
BEGIN:VEVENT
DTSTART;TZID=America/Chicago:20260509T200000
DTEND;TZID=America/Chicago:20260509T200000
DTSTAMP:20260423T120445
CREATED:20260215T210001Z
LAST-MODIFIED:20260215T210318Z
UID:28564-1778356800-1778356800@www.therootsfm.org
SUMMARY:The Garcia Project w/Shakedown Strings @ Old Rockhouse
DESCRIPTION:The Garcia Project performs full\, unaltered classic Jerry Garcia Band setlists from 1976–1995 — song for song\, set for set — using era-correct arrangements\, tempos\, instrumentation\, and gear to recreate the authentic sound that defined those legendary shows. \nSince 2010\, The Garcia Project is more than a tribute\, the band delivers the emotional and communal experience that made the classic Jerry Garcia Band so beloved. A recent Grateful Web feature described their performances as “a night of healing\, heart\, and pure Jerry magic\,” noting that The Garcia Project opens “a little doorway back to the Jerry Garcia Band years\,” with the same warmth\, looseness\, and deep musical breath that defined the original concerts. \nTheir authenticity has earned praise from the musicians who lived it: \n“…they almost make me feel like I’m back in\, say\, 1992 at the Warfield.”\n— Dennis McNally\, former publicist for the Jerry Garcia Band and The Grateful Dead \n  \n \nShakedown Strings\, a Kansas City\, MO based trio\, consisting of Adam Galblum on vocals and violin\, Clayton DeLong on vocals and acoustic guitar\, and Rick Willoughby on vocals and upright bass\, bring their energy\, passion\, and joy to the stage. Drawing upon their improvisational prowess\, and experience as jazz musicians\, they celebrate the music of the Grateful Dead and explore the band’s vast repertoire of songs and musical ideas.
URL:https://www.therootsfm.org/event/the-garcia-project-w-shakedown-strings-old-rockhouse/
LOCATION:Old Rock House\, 1200 S 7th St\, St Louis\, Missouri\, 63104\, United States
END:VEVENT
BEGIN:VEVENT
DTSTART;TZID=America/Chicago:20260509T200000
DTEND;TZID=America/Chicago:20260509T200000
DTSTAMP:20260423T120445
CREATED:20260331T155714Z
LAST-MODIFIED:20260331T155714Z
UID:28634-1778356800-1778356800@www.therootsfm.org
SUMMARY:Samantha Fish @ Atomic
DESCRIPTION:With an esteemed career that includes sharing stages with giants like The Rolling Stones\, Eric Clapton\, SLASH\, Kenny Wayne Shepherd\, and Eric Johnson on the legendary Experience Hendrix Tour\, Samantha Fish offers a concert experience unlike any other. \nPrepare to be captivated by one of the most formidable guitarists of her generation as Samantha Fish embarks on her 2025 Paper Doll Tour. Samantha and her all-star band bring a relentless energy and emotional depth to every stage they grace. \nFollowing her multi-award-winning success and a Grammy-nominated album\, Death Wish Blues\, in collaboration with rocker Jesse Dayton\, which soared to #1 on the Billboard Blues Chart\, Samantha Fish is back with her new album\, Paper Doll. The album’s nine powerful tracks come alive on the Paper Doll Tour along with fan favorites. \nJoin Samantha Fish on the Paper Doll Tour for an electrifying night of masterful guitar work\, raw soul\, and songs that resonate deep within. Whether you’re a lifelong fan or new to her music\, Samantha Fish is sure to leave you awestruck with her passionate performance and undeniable talent. \nGet your tickets fast!
URL:https://www.therootsfm.org/event/samantha-fish-atomic/
LOCATION:Atomic\, 4140 Manchester Ave\, St. Louis\, MO\, 62110\, United States
END:VEVENT
END:VCALENDAR