BEGIN:VCALENDAR
VERSION:2.0
PRODID:-//TheRoots FM - ECPv6.15.20//NONSGML v1.0//EN
CALSCALE:GREGORIAN
METHOD:PUBLISH
X-WR-CALNAME:TheRoots FM
X-ORIGINAL-URL:https://www.therootsfm.org
X-WR-CALDESC:Events for TheRoots FM
REFRESH-INTERVAL;VALUE=DURATION:PT1H
X-Robots-Tag:noindex
X-PUBLISHED-TTL:PT1H
BEGIN:VTIMEZONE
TZID:America/Chicago
BEGIN:DAYLIGHT
TZOFFSETFROM:-0600
TZOFFSETTO:-0500
TZNAME:CDT
DTSTART:20250309T080000
END:DAYLIGHT
BEGIN:STANDARD
TZOFFSETFROM:-0500
TZOFFSETTO:-0600
TZNAME:CST
DTSTART:20251102T070000
END:STANDARD
BEGIN:DAYLIGHT
TZOFFSETFROM:-0600
TZOFFSETTO:-0500
TZNAME:CDT
DTSTART:20260308T080000
END:DAYLIGHT
BEGIN:STANDARD
TZOFFSETFROM:-0500
TZOFFSETTO:-0600
TZNAME:CST
DTSTART:20261101T070000
END:STANDARD
BEGIN:DAYLIGHT
TZOFFSETFROM:-0600
TZOFFSETTO:-0500
TZNAME:CDT
DTSTART:20270314T080000
END:DAYLIGHT
BEGIN:STANDARD
TZOFFSETFROM:-0500
TZOFFSETTO:-0600
TZNAME:CST
DTSTART:20271107T070000
END:STANDARD
END:VTIMEZONE
BEGIN:VEVENT
DTSTART;TZID=America/Chicago:20260428T190000
DTEND;TZID=America/Chicago:20260428T190000
DTSTAMP:20260423T033402
CREATED:20260331T154355Z
LAST-MODIFIED:20260331T154753Z
UID:28633-1777402800-1777402800@www.therootsfm.org
SUMMARY:The Wailers @ Atomic
DESCRIPTION:In 2026\, The Wailers celebrate 50 years of Rastaman Vibration\, marking a defining moment in reggae history and honoring one of Bob Marley & The Wailers’ most influential albums. This special tour\, 50 Years of Positive Vibrations\, highlights select cuts from Rastaman Vibration alongside the timeless classics that continue to unite audiences across generations. \nReleased in 1976\, Rastaman Vibration was a pivotal album that carried reggae’s message of resistance\, spirituality\, and hope onto the global stage. Songs like “Positive Vibration\,” “Roots\, Rock\, Reggae\,” and “War” remain as relevant today as ever — powerful expressions of music as both a cultural force and a call for unity. \nUnder the leadership of Aston Barrett Jr.\, son of legendary bassist Aston “Familyman” Barrett\, The Wailers continue to honor their roots while carrying the music forward with purpose and authenticity. Joined by Mitchell Brunings\, whose soulful vocals and commanding stage presence have captivated audiences worldwide\, the band delivers performances that embody the enduring spirit of reggae — uplifting\, conscious\, and deeply human. \nAudiences can expect a soul-stirring setlist that weaves together the revolutionary spirit of Rastaman Vibration\, the band’s classic anthems\, and select modern highlights — all delivered with the same authenticity\, musicianship\, and heart that made The Wailers a cornerstone of global music. \n50 Years of Positive Vibrations is more than a tour — it’s a celebration of music with meaning\, a living connection between reggae’s golden era and its continuing power to inspire unity\, resilience\, and hope.
URL:https://www.therootsfm.org/event/the-wailers-atomic/
LOCATION:Atomic\, 4140 Manchester Ave\, St. Louis\, MO\, 62110\, United States
END:VEVENT
END:VCALENDAR