BEGIN:VCALENDAR
VERSION:2.0
PRODID:-//TheRoots FM - ECPv6.15.20//NONSGML v1.0//EN
CALSCALE:GREGORIAN
METHOD:PUBLISH
X-WR-CALNAME:TheRoots FM
X-ORIGINAL-URL:https://www.therootsfm.org
X-WR-CALDESC:Events for TheRoots FM
REFRESH-INTERVAL;VALUE=DURATION:PT1H
X-Robots-Tag:noindex
X-PUBLISHED-TTL:PT1H
BEGIN:VTIMEZONE
TZID:America/Chicago
BEGIN:DAYLIGHT
TZOFFSETFROM:-0600
TZOFFSETTO:-0500
TZNAME:CDT
DTSTART:20250309T080000
END:DAYLIGHT
BEGIN:STANDARD
TZOFFSETFROM:-0500
TZOFFSETTO:-0600
TZNAME:CST
DTSTART:20251102T070000
END:STANDARD
BEGIN:DAYLIGHT
TZOFFSETFROM:-0600
TZOFFSETTO:-0500
TZNAME:CDT
DTSTART:20260308T080000
END:DAYLIGHT
BEGIN:STANDARD
TZOFFSETFROM:-0500
TZOFFSETTO:-0600
TZNAME:CST
DTSTART:20261101T070000
END:STANDARD
BEGIN:DAYLIGHT
TZOFFSETFROM:-0600
TZOFFSETTO:-0500
TZNAME:CDT
DTSTART:20270314T080000
END:DAYLIGHT
BEGIN:STANDARD
TZOFFSETFROM:-0500
TZOFFSETTO:-0600
TZNAME:CST
DTSTART:20271107T070000
END:STANDARD
END:VTIMEZONE
BEGIN:VEVENT
DTSTART;TZID=America/Chicago:20260426T200000
DTEND;TZID=America/Chicago:20260426T200000
DTSTAMP:20260423T045108
CREATED:20251219T195018Z
LAST-MODIFIED:20251219T195018Z
UID:28420-1777233600-1777233600@www.therootsfm.org
SUMMARY:Dogs In A Pile @ Delmar Hall
DESCRIPTION:The sandy shores of Asbury Park\, New Jersey are hallowed ground in the Northeast; the rolling waves have ushered generations of venerated musicians to worldwide acclaim. Dogs In A Pile\, an eclectic quintet\, has emerged as the heir apparent to the town’s rich musical legacy. Merging funk\, jazz\, and rock and roll with psychedelia\, the band presents a completely original vibe built on kaleidoscopic soundscapes eerily reminiscent of the days of yesteryear. \nDogs formed when Jersey Shore native and guitar gun-slinger Jimmy Law began playing with family friend Joe Babick (drums) at a young age. Lightning struck when they were introduced to Berklee School of Music student and bass player Sam Lucid\, who immediately suggested fellow Berklee student and keyboard player Jeremy Kaplan. The addition of Berklee student Brian Murray (guitar) in 2019 made for the quintessential final piece in the Dogs’ puzzle. \nA string of sold-out local shows drove the development of a massive Northeast fan base\, affectionately known as the Dog Pound. As the band has traversed new territory\, their astronomical rise has continued nationwide. Armed with an evolving catalog of material and cultivation of an identity unique to Dogs In A Pile\, the quintet is laying down a musical and communal foundation most often associated with the scene’s most beloved acts.
URL:https://www.therootsfm.org/event/dogs-in-a-pile-delmar-hall/
LOCATION:Delmar Hall\, 6133 Delmar Blvd.\, Saint Louis\, MO\, 63112\, United States
END:VEVENT
END:VCALENDAR