BEGIN:VCALENDAR
VERSION:2.0
PRODID:-//TheRoots FM - ECPv6.15.20//NONSGML v1.0//EN
CALSCALE:GREGORIAN
METHOD:PUBLISH
X-WR-CALNAME:TheRoots FM
X-ORIGINAL-URL:https://www.therootsfm.org
X-WR-CALDESC:Events for TheRoots FM
REFRESH-INTERVAL;VALUE=DURATION:PT1H
X-Robots-Tag:noindex
X-PUBLISHED-TTL:PT1H
BEGIN:VTIMEZONE
TZID:America/Chicago
BEGIN:DAYLIGHT
TZOFFSETFROM:-0600
TZOFFSETTO:-0500
TZNAME:CDT
DTSTART:20250309T080000
END:DAYLIGHT
BEGIN:STANDARD
TZOFFSETFROM:-0500
TZOFFSETTO:-0600
TZNAME:CST
DTSTART:20251102T070000
END:STANDARD
BEGIN:DAYLIGHT
TZOFFSETFROM:-0600
TZOFFSETTO:-0500
TZNAME:CDT
DTSTART:20260308T080000
END:DAYLIGHT
BEGIN:STANDARD
TZOFFSETFROM:-0500
TZOFFSETTO:-0600
TZNAME:CST
DTSTART:20261101T070000
END:STANDARD
BEGIN:DAYLIGHT
TZOFFSETFROM:-0600
TZOFFSETTO:-0500
TZNAME:CDT
DTSTART:20270314T080000
END:DAYLIGHT
BEGIN:STANDARD
TZOFFSETFROM:-0500
TZOFFSETTO:-0600
TZNAME:CST
DTSTART:20271107T070000
END:STANDARD
END:VTIMEZONE
BEGIN:VEVENT
DTSTART;TZID=America/Chicago:20260418T190000
DTEND;TZID=America/Chicago:20260418T190000
DTSTAMP:20260423T061312
CREATED:20260107T185919Z
LAST-MODIFIED:20260216T175500Z
UID:28467-1776538800-1776538800@www.therootsfm.org
SUMMARY:Something's Happening Here: The Songs and Stories of Laurel Canyon @ Kirkwood Performing Arts Center
DESCRIPTION:In the Strauss Black Box Theatre at the Kirkwood Performing Arts Center \n\nThis show has been CANCELLED.\nThis brand-new\, live musical production tells the story of the myriad songwriters who flocked to Laurel Canyon in the Hollywood Hills during the 1960s and 1970s. From the Mamas and the Papas to the Eagles\, from the Byrds to CSN. With Jackson and JT\, and ladies of the Canyon including Joni\, Judy\, Linda and Carole\, they created a music scene that defined a generation and redefined both folk music and rock n’ roll. More than 25 songs are performed live by The Troubadours.
URL:https://www.therootsfm.org/event/somethings-happening-here-the-songs-and-stories-of-laurel-canyon-kirkwood-performing-arts-center-2/
LOCATION:Kirkwood Performing Arts Center KPAC\, 210 E Monroe Ave\, Kirkwood\, MO\, MO\, 63122\, United States
END:VEVENT
BEGIN:VEVENT
DTSTART;TZID=America/Chicago:20260418T190000
DTEND;TZID=America/Chicago:20260418T190000
DTSTAMP:20260423T061312
CREATED:20260331T164831Z
LAST-MODIFIED:20260331T164831Z
UID:28637-1776538800-1776538800@www.therootsfm.org
SUMMARY:"Welcome To The Rock" Showcase @ The Sovereign
DESCRIPTION:What happens when you put The Breakdowwns\, Inner Outlines\, Mister Malone and The 45 in the same venue on the same night? You get a wall of sound that captures exactly where the city’s modern rock scene is headed. Welcome to… The Rock!\n\nTHE 45 – Original rock and roll grown in the birthplace of its founder\, St. Louis\, MO.\n\nMISTER MALONE – Original rock n roll band from St. Louis MO.\n\nINNER OUTLINES – Inner Outlines is a 4 piece Emo Alt/Rock Band from Central Illinois.  Formed by original members Matt\, Billie\, Cody\, & Andrew in the basement of a rural IL home in 2014.  Current Members Matt\, Cody\, Andrew\, & Tyler continue the mission to honor their fallen brother Billie and a promise to each other with a wall of sound\, rock & roll attitude\, & a touch of metal.\n\nTHE BREAKDOWWNS – Psychedelic blues rock from St Louis\, MO.
URL:https://www.therootsfm.org/event/welcome-to-the-rock-showcase-the-sovereign/
LOCATION:The Sovereign\, 3300 Washington Ave\, St Louis\, MO\, 63103\, United States
END:VEVENT
BEGIN:VEVENT
DTSTART;TZID=America/Chicago:20260418T190000
DTEND;TZID=America/Chicago:20260418T190000
DTSTAMP:20260423T061312
CREATED:20260406T025433Z
LAST-MODIFIED:20260406T025911Z
UID:28654-1776538800-1776538800@www.therootsfm.org
SUMMARY:The Mighty Pines @ Cosmo Park
DESCRIPTION:Bear Creek Bluegrass Festival – Columbia\, MO\nThe Mighty Pines are a soul-inspired roots rock band influenced by the wide rivers and red-brick streets of St. Louis. Like the steady and strong trees from which they take their name\, the band continues to grow in stature and sound\, creating vast musical landscapes with their layered harmonies and thoughtfully crafted instrumentation. They generate a palpable vibe on their latest album\, Late Last Night. Produced by Steve Berlin (Los Lobos)\, Late Last Night stretches out with a sonic spaciousness\, sliding effortlessly from roots and folk ballads to rock and soul. It also showcases the band’s growth as songwriters\, arrangers\, singers\, and musicians. The Mighty Pines are touring nationally and have supported renowned acts such as JJ Grey & Mofro\, The Dead South\, Railroad Earth\, Martin Sexton\, Fruition and Sam Bush. \nThe Mighty Pines are Neil Salsich-vocals and guitar\, Gerard Erker-vocals\, mandolin and banjo\, John Hussung-vocals and bass\, Mike Murano-drums. \nSinger/guitarist Neil Salsich reached national acclaim on Season 23 of NBC’s The Voice. He earned a four-chair turn on his blind audition and was coached by Blake Shelton & Kelly Clarkson and highly praised by coaches Chance the Rapper\, Niall Horan and Reba McEntire. The group is also an in-demand studio band and recently recorded with Michael McDonald and Brian Owens. They are busy planning the release of two new albums\, a single with Michael McDonald.
URL:https://www.therootsfm.org/event/the-mighty-pines-cosmo-park/
LOCATION:Cosmo Park\, 1615 Business Loop 70 W\, Columbia\, MO\, 65202\, United States
END:VEVENT
BEGIN:VEVENT
DTSTART;TZID=America/Chicago:20260418T200000
DTEND;TZID=America/Chicago:20260418T200000
DTSTAMP:20260423T061312
CREATED:20260209T205332Z
LAST-MODIFIED:20260209T205332Z
UID:28535-1776542400-1776542400@www.therootsfm.org
SUMMARY:Funky Butt Brass Band @ Wildey Theatre
DESCRIPTION:  \n \nFunky Butt Brass Band is a 6-piece brass powerhouse\, unafraid to tackle any style – blending jazz\, funk\, blues\, soul and rock into electrifying\, high-energy performances. Their high-energy shows consist of infectious originals and creative\, unique covers of their biggest influences from P-Funk to Prince\, Willie to WuTang\, Neville Brothers to Nelly and everything in between. Funky Butt Brass Band is what St. Louis sounds like\, an eclectic mix of brass\, funk\, rock and soul. \nThe band is comprised of Aaron Chandler (trombone\, vocals)\, Bryan Fritz (sax\, vocals)\, Cody Henry (sousaphone)\, Adam Hucke (trumpet\, vocals)\, Jim Peters (guitar\, vocals) and Ron Sikes\, (drums)\, Funky Butt Brass Band is one of the funkiest and most unique bands to ever come out of St. Louis. \nSince 2007\, they’ve thrilled audiences with 100’s of shows a year\, from Mardi Gras parades to their legendary holiday Brasstravaganza. They deliver bold brass\, fiery solos\, and an unstoppable groove. Whether playing New Orleans second-line traditions or genre-bending original music\, Funky Butt doesn’t just bring the party —they are the party.
URL:https://www.therootsfm.org/event/funky-butt-brass-band-wildey-theatre/
LOCATION:Wildey Theatre\, 252 N. Main St.\, Edwardsville\, IL\, 62025\, United States
END:VEVENT
BEGIN:VEVENT
DTSTART;TZID=America/Chicago:20260418T200000
DTEND;TZID=America/Chicago:20260418T200000
DTSTAMP:20260423T061312
CREATED:20260404T192047Z
LAST-MODIFIED:20260404T192047Z
UID:28650-1776542400-1776542400@www.therootsfm.org
SUMMARY:Santa Trova @ Dark Room
DESCRIPTION:Santa Trova is a Latin-based music band created in 2024 in Saint Louis\, Missouri. Its main objective is to preserve and foster both Trova music and Latin-based genres by performing original and cover songs in those styles. The name of the project is inspired by the Cuban New Trova (or Nueva Trova Cubana in Spanish)\, a musical movement that originated at the end of the 60s in Cuba\, characterized by the mix of guitar\, poetry\, and singing.
URL:https://www.therootsfm.org/event/santa-trova-dark-room/
LOCATION:Dark Room\, 3610 Grandel Square\, St Louis\, MO\, 63108\, United States
END:VEVENT
END:VCALENDAR