BEGIN:VCALENDAR
VERSION:2.0
PRODID:-//TheRoots FM - ECPv6.15.20//NONSGML v1.0//EN
CALSCALE:GREGORIAN
METHOD:PUBLISH
X-ORIGINAL-URL:https://www.therootsfm.org
X-WR-CALDESC:Events for TheRoots FM
REFRESH-INTERVAL;VALUE=DURATION:PT1H
X-Robots-Tag:noindex
X-PUBLISHED-TTL:PT1H
BEGIN:VTIMEZONE
TZID:America/Chicago
BEGIN:DAYLIGHT
TZOFFSETFROM:-0600
TZOFFSETTO:-0500
TZNAME:CDT
DTSTART:20250309T080000
END:DAYLIGHT
BEGIN:STANDARD
TZOFFSETFROM:-0500
TZOFFSETTO:-0600
TZNAME:CST
DTSTART:20251102T070000
END:STANDARD
BEGIN:DAYLIGHT
TZOFFSETFROM:-0600
TZOFFSETTO:-0500
TZNAME:CDT
DTSTART:20260308T080000
END:DAYLIGHT
BEGIN:STANDARD
TZOFFSETFROM:-0500
TZOFFSETTO:-0600
TZNAME:CST
DTSTART:20261101T070000
END:STANDARD
BEGIN:DAYLIGHT
TZOFFSETFROM:-0600
TZOFFSETTO:-0500
TZNAME:CDT
DTSTART:20270314T080000
END:DAYLIGHT
BEGIN:STANDARD
TZOFFSETFROM:-0500
TZOFFSETTO:-0600
TZNAME:CST
DTSTART:20271107T070000
END:STANDARD
END:VTIMEZONE
BEGIN:VEVENT
DTSTART;TZID=America/Chicago:20260417T190000
DTEND;TZID=America/Chicago:20260417T190000
DTSTAMP:20260423T061439
CREATED:20260107T185153Z
LAST-MODIFIED:20260216T174848Z
UID:28466-1776452400-1776452400@www.therootsfm.org
SUMMARY:Something's Happening Here: The Songs and Stories of Laurel Canyon @ Kirkwood Performing Arts Center
DESCRIPTION:In the Strauss Black Box Theatre at the Kirkwood Performing Arts Center \n\nThis show has been CANCELLED.\nThis brand-new\, live musical production tells the story of the myriad songwriters who flocked to Laurel Canyon in the Hollywood Hills during the 1960s and 1970s. From the Mamas and the Papas to the Eagles\, from the Byrds to CSN. With Jackson and JT\, and ladies of the Canyon including Joni\, Judy\, Linda and Carole\, they created a music scene that defined a generation and redefined both folk music and rock n’ roll. More than 25 songs are performed live by The Troubadours.
URL:https://www.therootsfm.org/event/somethings-happening-here-the-songs-and-stories-of-laurel-canyon-kirkwood-performing-arts-center/
LOCATION:Kirkwood Performing Arts Center KPAC\, 210 E Monroe Ave\, Kirkwood\, MO\, MO\, 63122\, United States
END:VEVENT
BEGIN:VEVENT
DTSTART;TZID=America/Chicago:20260417T193000
DTEND;TZID=America/Chicago:20260417T193000
DTSTAMP:20260423T061439
CREATED:20260223T184122Z
LAST-MODIFIED:20260223T184122Z
UID:28575-1776454200-1776454200@www.therootsfm.org
SUMMARY:Route 66 Jazz Orchestra @ First Unity
DESCRIPTION:  \nThe Route 66 Jazz Orchestra is a 22-piece jazz band dedicated to the preservation and promotion of “Big Band” Jazz.  Ron Wilkinson appears as a featured vocalist. \nThe roots of the Route 66 Jazz Orchestra trace back to 1969\, when Meramec Community College band director\, Dr. Ron Stilwell\, realized the need and potential to add a jazz band to the music program at the college. As the “Meramec Jazz Lab Band”\, the band flourished for over 40 years in their role as jazz ambassadors for the college. Since 2005\, the band has been under the leadership of lifelong music educator and band director\, Bob Boedges. In the fall of 2012\, the band decided to leave the college in pursuit of the further opportunities available as an “independent” organization and in 2023 Gary Brandes joined the band as the associate director.
URL:https://www.therootsfm.org/event/route-66-jazz-orchestra-first-unity/
LOCATION:First Unity\, 4753 Butler Hill Rd\, St Louis\, MO\, 63128\, United States
END:VEVENT
BEGIN:VEVENT
DTSTART;TZID=America/Chicago:20260417T200000
DTEND;TZID=America/Chicago:20260417T200000
DTSTAMP:20260423T061439
CREATED:20260331T171237Z
LAST-MODIFIED:20260331T171237Z
UID:28639-1776456000-1776456000@www.therootsfm.org
SUMMARY:Mississippi Moon & Crossroads w/The Dave Glover Band @ Delmar Hall
DESCRIPTION:Mississippi Moon is St. Louis’s very own tribute to the music of the Doobie Brothers and Michael McDonald. \nCrossroads is a tribute to the music of Eric Clapton. \n  \n 
URL:https://www.therootsfm.org/event/mississippi-moon-crossroads-w-the-dave-glover-band-delmar-hall/
LOCATION:Delmar Hall\, 6133 Delmar Blvd.\, Saint Louis\, MO\, 63112\, United States
END:VEVENT
BEGIN:VEVENT
DTSTART;TZID=America/Chicago:20260417T200000
DTEND;TZID=America/Chicago:20260417T200000
DTSTAMP:20260423T061439
CREATED:20260413T001205Z
LAST-MODIFIED:20260413T002339Z
UID:28675-1776456000-1776456000@www.therootsfm.org
SUMMARY:Temptress @ Fubar
DESCRIPTION:Temptress is a trio of veteran touring musicians\, which includes Andi Cuba drums/vocals\, Kelsey Wilson guitar/vocals\, and Christian Wright bass/vocals. All members converged in Dallas\, Texas and began their musical journey in 2019.  \nIn five months\, these experienced players went from jamming for fun to writing and recording some potent heavy songs. They immediately began performing live as Temptress and then presented their first three original songs in a debut EP release\, Temptress.
URL:https://www.therootsfm.org/event/temptress-fubar/
LOCATION:Fubar\, 3210 Tesson Ferry Rd\, St Louis\, MO\, 63128\, United States
END:VEVENT
END:VCALENDAR