BEGIN:VCALENDAR
VERSION:2.0
PRODID:-//TheRoots FM - ECPv6.15.20//NONSGML v1.0//EN
CALSCALE:GREGORIAN
METHOD:PUBLISH
X-WR-CALNAME:TheRoots FM
X-ORIGINAL-URL:https://www.therootsfm.org
X-WR-CALDESC:Events for TheRoots FM
REFRESH-INTERVAL;VALUE=DURATION:PT1H
X-Robots-Tag:noindex
X-PUBLISHED-TTL:PT1H
BEGIN:VTIMEZONE
TZID:America/Chicago
BEGIN:DAYLIGHT
TZOFFSETFROM:-0600
TZOFFSETTO:-0500
TZNAME:CDT
DTSTART:20250309T080000
END:DAYLIGHT
BEGIN:STANDARD
TZOFFSETFROM:-0500
TZOFFSETTO:-0600
TZNAME:CST
DTSTART:20251102T070000
END:STANDARD
BEGIN:DAYLIGHT
TZOFFSETFROM:-0600
TZOFFSETTO:-0500
TZNAME:CDT
DTSTART:20260308T080000
END:DAYLIGHT
BEGIN:STANDARD
TZOFFSETFROM:-0500
TZOFFSETTO:-0600
TZNAME:CST
DTSTART:20261101T070000
END:STANDARD
BEGIN:DAYLIGHT
TZOFFSETFROM:-0600
TZOFFSETTO:-0500
TZNAME:CDT
DTSTART:20270314T080000
END:DAYLIGHT
BEGIN:STANDARD
TZOFFSETFROM:-0500
TZOFFSETTO:-0600
TZNAME:CST
DTSTART:20271107T070000
END:STANDARD
END:VTIMEZONE
BEGIN:VEVENT
DTSTART;TZID=America/Chicago:20260415T193000
DTEND;TZID=America/Chicago:20260415T193000
DTSTAMP:20260423T033434
CREATED:20251220T190711Z
LAST-MODIFIED:20251220T190711Z
UID:28433-1776281400-1776281400@www.therootsfm.org
SUMMARY:Jorma Kaukonen and John Hurlbut @ City Winery-STL
DESCRIPTION:A member of the Rock & Roll Hall of Fame and a Grammy recipient\, Jorma was at the forefront of popular rock and roll\, one of the founders of the San Francisco sound and a progenitor of Psychedelic Rock. He is a founding member of two legendary bands\, Jefferson Airplane and the still-touring Hot Tuna. Jorma Kaukonen is a music legend and one of the finest singer-songwriters in his field. He continues to tour the world bringing his unique styling to old blues tunes while presenting new songs of weight and dimension. His secret is in playing spontaneous and unfiltered music\, with an individual expression of personality. \nIn 2016\, Jorma\, Jack Casady and the other members of Jefferson Airplane were awarded The GRAMMY Lifetime Achievement Award for their contributions to American music. “A mesmerizing storyteller\, Kaukonen delivers a memoir as intricate and dazzling as his music.” —Publishers Weekly\, starred review In 2019 St. Martin’s Press published Jorma‘s autobiography\, Been So Long: My Life and Music\, written to express his life both in and out of the music world. As Kaukonen describes\, “My story is my story. Having told bits and pieces of it over my lifetime to a treasured few\, it was time to tell all to a bigger audience…From rehearsals and jams in small apartments and tiny back rooms to Monterey\, Woodstock\, Altamont\, the Rock And Roll Hall Of Fame\, the world of the Grammys and beyond… this is part of the road I live on. This is my embryonic journey and much\, much more!
URL:https://www.therootsfm.org/event/jorma-kaukonen-and-john-hurlbut-city-winery-stl/
LOCATION:City Winery-STL\, 3730 Foundry Way\, St Louis\, MO\, 63110\, United States
END:VEVENT
BEGIN:VEVENT
DTSTART;TZID=America/Chicago:20260415T193000
DTEND;TZID=America/Chicago:20260415T193000
DTSTAMP:20260423T033434
CREATED:20260313T182132Z
LAST-MODIFIED:20260313T182132Z
UID:28618-1776281400-1776281400@www.therootsfm.org
SUMMARY:Tower of Power w/SLSO @ Powell Hall
DESCRIPTION:Get ready for a high-voltage musical experience as Tower of Power teams up with the St. Louis Symphony Orchestra. Fusing their signature funk and soul with sweeping symphonic arrangements\, this concert transforms iconic hits like “What Is Hip?” and “You’re Still a Young Man” with lush orchestrations. The band’s powerhouse horns and irresistible grooves meet the grandeur of the orchestra in a one-night-only event that promises rhythm\, energy\, and excitement. It’s a genre-bending celebration that redefines what live music can be. \n\nDamon Gupton – Conductor \nBand website:  The Band | Tower of Power
URL:https://www.therootsfm.org/event/tower-of-power-w-slso-powell-hall/
LOCATION:Powell Hall\, 718 N. Grand Blvd\,\, St Louis\, MO\, 63103\, United States
END:VEVENT
END:VCALENDAR