BEGIN:VCALENDAR
VERSION:2.0
PRODID:-//TheRoots FM - ECPv6.15.20//NONSGML v1.0//EN
CALSCALE:GREGORIAN
METHOD:PUBLISH
X-ORIGINAL-URL:https://www.therootsfm.org
X-WR-CALDESC:Events for TheRoots FM
REFRESH-INTERVAL;VALUE=DURATION:PT1H
X-Robots-Tag:noindex
X-PUBLISHED-TTL:PT1H
BEGIN:VTIMEZONE
TZID:America/Chicago
BEGIN:DAYLIGHT
TZOFFSETFROM:-0600
TZOFFSETTO:-0500
TZNAME:CDT
DTSTART:20250309T080000
END:DAYLIGHT
BEGIN:STANDARD
TZOFFSETFROM:-0500
TZOFFSETTO:-0600
TZNAME:CST
DTSTART:20251102T070000
END:STANDARD
BEGIN:DAYLIGHT
TZOFFSETFROM:-0600
TZOFFSETTO:-0500
TZNAME:CDT
DTSTART:20260308T080000
END:DAYLIGHT
BEGIN:STANDARD
TZOFFSETFROM:-0500
TZOFFSETTO:-0600
TZNAME:CST
DTSTART:20261101T070000
END:STANDARD
BEGIN:DAYLIGHT
TZOFFSETFROM:-0600
TZOFFSETTO:-0500
TZNAME:CDT
DTSTART:20270314T080000
END:DAYLIGHT
BEGIN:STANDARD
TZOFFSETFROM:-0500
TZOFFSETTO:-0600
TZNAME:CST
DTSTART:20271107T070000
END:STANDARD
END:VTIMEZONE
BEGIN:VEVENT
DTSTART;TZID=America/Chicago:20260414T183000
DTEND;TZID=America/Chicago:20260414T183000
DTSTAMP:20260423T052103
CREATED:20260409T033703Z
LAST-MODIFIED:20260409T033703Z
UID:28672-1776191400-1776191400@www.therootsfm.org
SUMMARY:Dusty James and Abalone Pearl @ Coffeyville CC
DESCRIPTION:Dusty James and Abalone Pearl mix up the music\, playing pop acoustic and traditional tunes\, Americana and Beatles and original songs. They bring a carload of stringed musical instruments\, swapping off banjo\, mandolin\, guitar\, dulcimer and harmonica. \nDusty James is a champion flat-picker who was awarded third place in the guitar competition at the Walnut Valley Festival in Winfield\, Kansas. He has written award-winning songs alongside musical partner\, (Ms) Abalone Pearl. \nThis truly Midwestern duo brings a festive rhythm and a surprising down-home twang to songs you might not expect alongside original tunes with sweet melodies and lyrical ballads with a dash of humor to match their band’s name! \nIn addtion to this concert\, Dusty and Pearl will become part of the Coffeyville community for three days – April 13\, April 14 (this show) and April 15 – performing at venues all around the city\, giving a city-wide large concert and being interviewed live on the local radio station KGGF Radio – Listen Live . \n 
URL:https://www.therootsfm.org/event/dusty-james-and-abalone-pearl-coffeyvillecc/
LOCATION:Coffeyville CC\, 400 W 11th St\, Coffeyville\, KS\, 67337\, United States
END:VEVENT
END:VCALENDAR