BEGIN:VCALENDAR
VERSION:2.0
PRODID:-//TheRoots FM - ECPv6.15.20//NONSGML v1.0//EN
CALSCALE:GREGORIAN
METHOD:PUBLISH
X-WR-CALNAME:TheRoots FM
X-ORIGINAL-URL:https://www.therootsfm.org
X-WR-CALDESC:Events for TheRoots FM
REFRESH-INTERVAL;VALUE=DURATION:PT1H
X-Robots-Tag:noindex
X-PUBLISHED-TTL:PT1H
BEGIN:VTIMEZONE
TZID:America/Chicago
BEGIN:DAYLIGHT
TZOFFSETFROM:-0600
TZOFFSETTO:-0500
TZNAME:CDT
DTSTART:20250309T080000
END:DAYLIGHT
BEGIN:STANDARD
TZOFFSETFROM:-0500
TZOFFSETTO:-0600
TZNAME:CST
DTSTART:20251102T070000
END:STANDARD
BEGIN:DAYLIGHT
TZOFFSETFROM:-0600
TZOFFSETTO:-0500
TZNAME:CDT
DTSTART:20260308T080000
END:DAYLIGHT
BEGIN:STANDARD
TZOFFSETFROM:-0500
TZOFFSETTO:-0600
TZNAME:CST
DTSTART:20261101T070000
END:STANDARD
BEGIN:DAYLIGHT
TZOFFSETFROM:-0600
TZOFFSETTO:-0500
TZNAME:CDT
DTSTART:20270314T080000
END:DAYLIGHT
BEGIN:STANDARD
TZOFFSETFROM:-0500
TZOFFSETTO:-0600
TZNAME:CST
DTSTART:20271107T070000
END:STANDARD
END:VTIMEZONE
BEGIN:VEVENT
DTSTART;TZID=America/Chicago:20260408T193000
DTEND;TZID=America/Chicago:20260412T183000
DTSTAMP:20260423T045149
CREATED:20260309T175131Z
LAST-MODIFIED:20260309T175131Z
UID:28599-1775676600-1776018600@www.therootsfm.org
SUMMARY:MEB: Miles Electric Band @ Jazz St Louis
DESCRIPTION:This electrifying evening with the MEB (Miles Electric Band)\, led by Emmy and Grammy-winning producer/drummer Vince Wilburn\, Jr. and featuring Keyon Harrold\, unites Miles Davis alumni with rising modern jazz stars. This dynamic ensemble celebrates the groundbreaking legacy of Miles Davis and his iconic electric era. \nMEB is a progressive All-Star ensemble featuring Miles Davis alumni revises the framework for modern jazz improvisation. The avant-garde collective revisits repertoire from Davis’ electric period to pay homage to The Chief. The band represents two generations of players: Davis’ contemporaries and the next generation of music all stars. This is a rotating ensemble of master musicians. The highly eclectic group was put together by Vince Wilburn\, Jr. with the intention to continue expanding the boundaries of music\, while also paying homage to the classics. \nFor more information about MEB\, see their website: Miles Electric Band \n 
URL:https://www.therootsfm.org/event/meb-miles-electric-band-jazz-st-louis/
LOCATION:Jazz St Louis\, 3536 Washington Avenue\, St Louis\, MO\, 63103\, United States
END:VEVENT
BEGIN:VEVENT
DTSTART;TZID=America/Chicago:20260409T200000
DTEND;TZID=America/Chicago:20260409T200000
DTSTAMP:20260423T045149
CREATED:20260202T195017Z
LAST-MODIFIED:20260202T195017Z
UID:28519-1775764800-1775764800@www.therootsfm.org
SUMMARY:Pert' Near Sandstone & Sicard Hollow @ Atomic
DESCRIPTION:Sicard Hollow –   Nashville’s psychedelic punk-grass rockers\, Sicard Hollow\, grew up sick of any existing institution telling them who and what to be. Now\, as they navigate adulthood\, they’re equally tired of the music institutions telling them what their music should sound like— so they dunked it in patchouli and a skate-and-destroy ethos that brings an enduring sound into the modern age.\nPert Near Sandstone   – Formed by old friends within the vibrant Minneapolis music scene\, they have been tireless stewards of the midwestern roots music community for over two decades. Performing with infectious energy and an undeniable joy\, Pert Near’s strong songcraft melds with old-time sensibilities in a unique brand of modern string band music they deliver to fans around the world. Pert Near has had the privilege of helping to establish and continuing to curate and host the Blue Ox Music Festival. Their next studio album is due to be released in the fall of this year.
URL:https://www.therootsfm.org/event/pert-near-sandstone-sicard-hollow-atomic/
LOCATION:Atomic\, 4140 Manchester Ave\, St. Louis\, MO\, 62110\, United States
END:VEVENT
END:VCALENDAR