BEGIN:VCALENDAR
VERSION:2.0
PRODID:-//TheRoots FM - ECPv6.15.20//NONSGML v1.0//EN
CALSCALE:GREGORIAN
METHOD:PUBLISH
X-WR-CALNAME:TheRoots FM
X-ORIGINAL-URL:https://www.therootsfm.org
X-WR-CALDESC:Events for TheRoots FM
REFRESH-INTERVAL;VALUE=DURATION:PT1H
X-Robots-Tag:noindex
X-PUBLISHED-TTL:PT1H
BEGIN:VTIMEZONE
TZID:America/Chicago
BEGIN:DAYLIGHT
TZOFFSETFROM:-0600
TZOFFSETTO:-0500
TZNAME:CDT
DTSTART:20250309T080000
END:DAYLIGHT
BEGIN:STANDARD
TZOFFSETFROM:-0500
TZOFFSETTO:-0600
TZNAME:CST
DTSTART:20251102T070000
END:STANDARD
BEGIN:DAYLIGHT
TZOFFSETFROM:-0600
TZOFFSETTO:-0500
TZNAME:CDT
DTSTART:20260308T080000
END:DAYLIGHT
BEGIN:STANDARD
TZOFFSETFROM:-0500
TZOFFSETTO:-0600
TZNAME:CST
DTSTART:20261101T070000
END:STANDARD
BEGIN:DAYLIGHT
TZOFFSETFROM:-0600
TZOFFSETTO:-0500
TZNAME:CDT
DTSTART:20270314T080000
END:DAYLIGHT
BEGIN:STANDARD
TZOFFSETFROM:-0500
TZOFFSETTO:-0600
TZNAME:CST
DTSTART:20271107T070000
END:STANDARD
END:VTIMEZONE
BEGIN:VEVENT
DTSTART;TZID=America/Chicago:20260328T200000
DTEND;TZID=America/Chicago:20260328T200000
DTSTAMP:20260423T110344
CREATED:20260119T001954Z
LAST-MODIFIED:20260119T001954Z
UID:28487-1774728000-1774728000@www.therootsfm.org
SUMMARY:Brooklyn Charmers - The Music of Steely Dan @ Wildey Theatre
DESCRIPTION:The Brooklyn Charmers return to the Wildey Theatre for an amazing night of Steely Dan favorites. \nWith masterful precision and obsessive dedication to the music\, Brooklyn Charmers injects a new energy into the beloved Steely Dan catalogue\, bridging the gap between new and lifelong fans alike.
URL:https://www.therootsfm.org/event/brooklyn-charmers-the-music-of-steely-dan-wildey-theatre/
LOCATION:Wildey Theatre\, 252 N. Main St.\, Edwardsville\, IL\, 62025\, United States
END:VEVENT
BEGIN:VEVENT
DTSTART;TZID=America/Chicago:20260328T200000
DTEND;TZID=America/Chicago:20260328T200000
DTSTAMP:20260423T110344
CREATED:20260214T063559Z
LAST-MODIFIED:20260214T063559Z
UID:28554-1774728000-1774728000@www.therootsfm.org
SUMMARY:Hunter Peebles and the Moonlighters @ Contrarian Concert Hall
DESCRIPTION:Although he originally began as a solo artist in 2012\, Peebles formed his band by happenstance after realizing his set benefited from having accompanying musicians. He’d attended high school with lead guitarist Jakob Baxter\, occasionally playing in side bands together before forming the Moonlighters in 2020. Steel guitarist Matt Maher and bassist Britton Wood also joined early on. Drummer Isaac Johnston was the final piece of Peebles’ musical puzzle.  With each member still playing in other local bands\, the name the Moonlighters seemed like an appropriate moniker. \nBlending the raw storytelling tradition of John Prine with the timeless sounds of George Jones\, Hunter Peebles & The Moonlighters bring a fresh yet classic energy to the Country/Americana scene.  Fronted by Hunter Peebles\, whose powerful vocals and poignant lyrics explore the highs and lows of the human experience\, the band features a signature mix of crying steel guitar\, rich instrumentation\, and heartfelt melodies. \nBased in St. Louis\, MO\, Hunter Peebles & The Moonlighters have quickly made their mark\, sharing the stage with notable acts such as Ben Haggard\, Sunny Sweeney\, Vincent Neil Emerson\, and Willie Watson.  With a sound that honors the past while embracing the future\, Hunter Peebles & The Moonlighters are poised to make their mark on the country music landscape.
URL:https://www.therootsfm.org/event/hunter-peebles-and-the-moonlighters-contrarian-concert-hall/
LOCATION:Contrarian Concert Hall\, 125 East Main St\, Festus\, MO\, 63028\, United States
END:VEVENT
BEGIN:VEVENT
DTSTART;TZID=America/Chicago:20260328T200000
DTEND;TZID=America/Chicago:20260328T200000
DTSTAMP:20260423T110344
CREATED:20260214T072918Z
LAST-MODIFIED:20260214T072918Z
UID:28556-1774728000-1774728000@www.therootsfm.org
SUMMARY:Anthology-A Tribute to The Allman Brothers Band w/Ghost Kitchen @ Delmar Hall
DESCRIPTION:Anthology pays homage to the music of the Allman Brothers Band and its members through a cast of accomplished musicians that have personal connections and a love for this great music. Bringing a true\, high energy set of the most popular works of the Allman Brothers\, as well as digging deep into the catalog\, Anthology recreates this iconic music with startling emotion and a intensity that you have to hear and feel to truly experience and understand! \nThe band includes Mama’s Pride members Danny Liston\, Dickie Steltenpohl and Tom Deman along with Joe Meyer\, Terry Midkiff and Matt Rowland. \n \nGhost Kitchen plays music from the 60’s & 70’s – Grateful Dead\, Allman Brothers\, Tom Petty\, Santana and many more\, plus some later tunes that fit the vibe. \nThey started during covid lock down when going out to hear live music wasn’t an option. St. Joseph church in Manchester asked if we would play some outdoor shows as a service to the community. We had so much fun we just kept going.  Come see what the Kitchen is cooking up to feed your soul. \nThe band includes Bryan Toben – Lead Vocals & Guitar\, Brian Zielie – Drums\, Jeff Lance – Keys & Vocals\, John Maniaci – bass\, Paul Counts – percussion and George Prsha – Guitar & Vocals.
URL:https://www.therootsfm.org/event/anthology-a-tribute-to-the-allman-brothers-band-w-ghost-kitchen-delmar-hall/
LOCATION:Delmar Hall\, 6133 Delmar Blvd.\, Saint Louis\, MO\, 63112\, United States
END:VEVENT
END:VCALENDAR