BEGIN:VCALENDAR
VERSION:2.0
PRODID:-//TheRoots FM - ECPv6.15.20//NONSGML v1.0//EN
CALSCALE:GREGORIAN
METHOD:PUBLISH
X-ORIGINAL-URL:https://www.therootsfm.org
X-WR-CALDESC:Events for TheRoots FM
REFRESH-INTERVAL;VALUE=DURATION:PT1H
X-Robots-Tag:noindex
X-PUBLISHED-TTL:PT1H
BEGIN:VTIMEZONE
TZID:America/Chicago
BEGIN:DAYLIGHT
TZOFFSETFROM:-0600
TZOFFSETTO:-0500
TZNAME:CDT
DTSTART:20250309T080000
END:DAYLIGHT
BEGIN:STANDARD
TZOFFSETFROM:-0500
TZOFFSETTO:-0600
TZNAME:CST
DTSTART:20251102T070000
END:STANDARD
BEGIN:DAYLIGHT
TZOFFSETFROM:-0600
TZOFFSETTO:-0500
TZNAME:CDT
DTSTART:20260308T080000
END:DAYLIGHT
BEGIN:STANDARD
TZOFFSETFROM:-0500
TZOFFSETTO:-0600
TZNAME:CST
DTSTART:20261101T070000
END:STANDARD
BEGIN:DAYLIGHT
TZOFFSETFROM:-0600
TZOFFSETTO:-0500
TZNAME:CDT
DTSTART:20270314T080000
END:DAYLIGHT
BEGIN:STANDARD
TZOFFSETFROM:-0500
TZOFFSETTO:-0600
TZNAME:CST
DTSTART:20271107T070000
END:STANDARD
END:VTIMEZONE
BEGIN:VEVENT
DTSTART;TZID=America/Chicago:20260321T193000
DTEND;TZID=America/Chicago:20260321T193000
DTSTAMP:20260423T124831
CREATED:20251219T191634Z
LAST-MODIFIED:20251219T191634Z
UID:28415-1774121400-1774121400@www.therootsfm.org
SUMMARY:Head East @ Wildey Theatre
DESCRIPTION:  \nA Favorite of the Wildey Returns! \n\n\n\n\nThe legendary classic rock band Head East has long set the standard for authentic\, full-vocal\, goodtime rock harmonies that few bands can equal. Their high-energy shows are filled with superb vocals\, flashy guitar work and memorable keyboard melodies that continue to rock audiences of all ages. Their signature song\, “NEVER BEEN ANY REASON” with notable chorus “Save my life I’m going down for the last time” has long been considered by many radio stations across the country as “The Rock & Roll National Anthem.”
URL:https://www.therootsfm.org/event/head-east-wildey-theatre/
LOCATION:Wildey Theatre\, 252 N. Main St.\, Edwardsville\, IL\, 62025\, United States
END:VEVENT
BEGIN:VEVENT
DTSTART;TZID=America/Chicago:20260321T200000
DTEND;TZID=America/Chicago:20260321T200000
DTSTAMP:20260423T124831
CREATED:20260312T195613Z
LAST-MODIFIED:20260312T195613Z
UID:28609-1774123200-1774123200@www.therootsfm.org
SUMMARY:Trophy Mules Acoustic @ The Drawing Board
DESCRIPTION:Trophy Mules Acoustic is Corey Saathoff and Josh Kean of The Trophy Mules performing at The Drawing Board in South City\, St. Louis. \nMusic from 8-11 p.m. \nGood tunes\, food and brew. \nBand website: https://www.thetrophymules.com/
URL:https://www.therootsfm.org/event/trophy-mules-acoustic-the-drawing-board/
LOCATION:The Drawing Board\, 4123 Chippewa St\, St Louis\, MO\, 63116\, United States
END:VEVENT
END:VCALENDAR