BEGIN:VCALENDAR
VERSION:2.0
PRODID:-//TheRoots FM - ECPv6.15.20//NONSGML v1.0//EN
CALSCALE:GREGORIAN
METHOD:PUBLISH
X-ORIGINAL-URL:https://www.therootsfm.org
X-WR-CALDESC:Events for TheRoots FM
REFRESH-INTERVAL;VALUE=DURATION:PT1H
X-Robots-Tag:noindex
X-PUBLISHED-TTL:PT1H
BEGIN:VTIMEZONE
TZID:America/Chicago
BEGIN:DAYLIGHT
TZOFFSETFROM:-0600
TZOFFSETTO:-0500
TZNAME:CDT
DTSTART:20250309T080000
END:DAYLIGHT
BEGIN:STANDARD
TZOFFSETFROM:-0500
TZOFFSETTO:-0600
TZNAME:CST
DTSTART:20251102T070000
END:STANDARD
BEGIN:DAYLIGHT
TZOFFSETFROM:-0600
TZOFFSETTO:-0500
TZNAME:CDT
DTSTART:20260308T080000
END:DAYLIGHT
BEGIN:STANDARD
TZOFFSETFROM:-0500
TZOFFSETTO:-0600
TZNAME:CST
DTSTART:20261101T070000
END:STANDARD
BEGIN:DAYLIGHT
TZOFFSETFROM:-0600
TZOFFSETTO:-0500
TZNAME:CDT
DTSTART:20270314T080000
END:DAYLIGHT
BEGIN:STANDARD
TZOFFSETFROM:-0500
TZOFFSETTO:-0600
TZNAME:CST
DTSTART:20271107T070000
END:STANDARD
END:VTIMEZONE
BEGIN:VEVENT
DTSTART;TZID=America/Chicago:20260320T193000
DTEND;TZID=America/Chicago:20260320T193000
DTSTAMP:20260423T105521
CREATED:20260119T232044Z
LAST-MODIFIED:20260119T232044Z
UID:28489-1774035000-1774035000@www.therootsfm.org
SUMMARY:Head East @ Wildey Theatre
DESCRIPTION:**Second Show Added**\nA Favorite of the Wildey Returns! \nThe legendary classic rock band Head East has long set the standard for authentic\, full-vocal\, goodtime rock harmonies that few bands can equal. Their high-energy shows are filled with superb vocals\, flashy guitar work and memorable keyboard melodies that continue to rock audiences of all ages. Their signature song\, “NEVER BEEN ANY REASON” with notable chorus “Save my life I’m going down for the last time” has long been considered by many radio stations across the country as “The Rock & Roll National Anthem.”
URL:https://www.therootsfm.org/event/head-east-wildey-theatre-2/
LOCATION:Wildey Theatre\, 252 N. Main St.\, Edwardsville\, IL\, 62025\, United States
END:VEVENT
BEGIN:VEVENT
DTSTART;TZID=America/Chicago:20260320T200000
DTEND;TZID=America/Chicago:20260320T200000
DTSTAMP:20260423T105521
CREATED:20260304T031716Z
LAST-MODIFIED:20260304T031716Z
UID:28585-1774036800-1774036800@www.therootsfm.org
SUMMARY:Sam Robbins @ Focal Point
DESCRIPTION:One of 6 nominees for Artist of the year at the 2026 International Folk Music Awards\, Sam is a Focal Point favorite and he is returning for his 5th appearance!   His latest release reached the top 10 albums on the Folk Alliance chart for THE YEAR!! \nSam Robbins is often described as an “old soul singer songwriter.” A Nashville based musician whose music evokes classic 70’s singer songwriters like James Taylor and Neil Young\, Sam adds a modern\, upbeat edge to the storyteller troubadour persona. \nSam Robbins’ third album\, So Much I Still Don’t See is a testament to a singer songwriter’s journey through his 20’s\, through his formative years of 45\,000 miles per year touring and the beginning of a troubadour’s career. Most of all\, it is the culmination of firsthand experiences gathered through hard travel and big adventures.
URL:https://www.therootsfm.org/event/sam-robbins-focal-point/
LOCATION:Focal Point\, 2720 Sutton Blvd\, Maplewood\, MO\, 63143.\, United States
END:VEVENT
END:VCALENDAR