BEGIN:VCALENDAR
VERSION:2.0
PRODID:-//TheRoots FM - ECPv6.15.20//NONSGML v1.0//EN
CALSCALE:GREGORIAN
METHOD:PUBLISH
X-ORIGINAL-URL:https://www.therootsfm.org
X-WR-CALDESC:Events for TheRoots FM
REFRESH-INTERVAL;VALUE=DURATION:PT1H
X-Robots-Tag:noindex
X-PUBLISHED-TTL:PT1H
BEGIN:VTIMEZONE
TZID:America/Chicago
BEGIN:DAYLIGHT
TZOFFSETFROM:-0600
TZOFFSETTO:-0500
TZNAME:CDT
DTSTART:20250309T080000
END:DAYLIGHT
BEGIN:STANDARD
TZOFFSETFROM:-0500
TZOFFSETTO:-0600
TZNAME:CST
DTSTART:20251102T070000
END:STANDARD
BEGIN:DAYLIGHT
TZOFFSETFROM:-0600
TZOFFSETTO:-0500
TZNAME:CDT
DTSTART:20260308T080000
END:DAYLIGHT
BEGIN:STANDARD
TZOFFSETFROM:-0500
TZOFFSETTO:-0600
TZNAME:CST
DTSTART:20261101T070000
END:STANDARD
BEGIN:DAYLIGHT
TZOFFSETFROM:-0600
TZOFFSETTO:-0500
TZNAME:CDT
DTSTART:20270314T080000
END:DAYLIGHT
BEGIN:STANDARD
TZOFFSETFROM:-0500
TZOFFSETTO:-0600
TZNAME:CST
DTSTART:20271107T070000
END:STANDARD
END:VTIMEZONE
BEGIN:VEVENT
DTSTART;TZID=America/Chicago:20260318T190000
DTEND;TZID=America/Chicago:20260318T190000
DTSTAMP:20260423T111932
CREATED:20260304T030927Z
LAST-MODIFIED:20260304T030927Z
UID:28584-1773860400-1773860400@www.therootsfm.org
SUMMARY:Todd Sheaffer @ Focal Point
DESCRIPTION:The esteemed singer-songwriter and Railroad Earth frontman Todd Sheaffer appears for his fourth appearance at The Focal Point. Todd’s talents have made Railroad Earth a hot ticket on the bluegrass jam band circuits as they celebrate their 25th anniversary.  His one-man performances offer an intimate folk and Americana atmosphere\, featuring songs from his bands\, Good Homes\, Railroad Earth\, as well as his solo catalog\, and will often include selections that have never been recorded!\n\nThis event serves as a fundraiser for Lydia’s House\, a 501(c)(3) non-profit organization. Lydia’s House provides domestic violence survivors\, their children\, and their pets with a safe place to heal\, a voice for justice\, and opportunities for sustainable lives. You can learn more at: Home – Lydia’s House\n\nA VIP ticket gets entry into a meet and great session taking place at our neighboring business\, Sabroso.  The meet and greet will start at 5:30pm with general admission opening in the Focal Point at 6:30pm.
URL:https://www.therootsfm.org/event/todd-sheaffer-focal-point/
LOCATION:Focal Point\, 2720 Sutton Blvd\, Maplewood\, MO\, 63143.\, United States
END:VEVENT
END:VCALENDAR