BEGIN:VCALENDAR
VERSION:2.0
PRODID:-//TheRoots FM - ECPv6.15.20//NONSGML v1.0//EN
CALSCALE:GREGORIAN
METHOD:PUBLISH
X-WR-CALNAME:TheRoots FM
X-ORIGINAL-URL:https://www.therootsfm.org
X-WR-CALDESC:Events for TheRoots FM
REFRESH-INTERVAL;VALUE=DURATION:PT1H
X-Robots-Tag:noindex
X-PUBLISHED-TTL:PT1H
BEGIN:VTIMEZONE
TZID:America/Chicago
BEGIN:DAYLIGHT
TZOFFSETFROM:-0600
TZOFFSETTO:-0500
TZNAME:CDT
DTSTART:20250309T080000
END:DAYLIGHT
BEGIN:STANDARD
TZOFFSETFROM:-0500
TZOFFSETTO:-0600
TZNAME:CST
DTSTART:20251102T070000
END:STANDARD
BEGIN:DAYLIGHT
TZOFFSETFROM:-0600
TZOFFSETTO:-0500
TZNAME:CDT
DTSTART:20260308T080000
END:DAYLIGHT
BEGIN:STANDARD
TZOFFSETFROM:-0500
TZOFFSETTO:-0600
TZNAME:CST
DTSTART:20261101T070000
END:STANDARD
BEGIN:DAYLIGHT
TZOFFSETFROM:-0600
TZOFFSETTO:-0500
TZNAME:CDT
DTSTART:20270314T080000
END:DAYLIGHT
BEGIN:STANDARD
TZOFFSETFROM:-0500
TZOFFSETTO:-0600
TZNAME:CST
DTSTART:20271107T070000
END:STANDARD
END:VTIMEZONE
BEGIN:VEVENT
DTSTART;TZID=America/Chicago:20260313T193000
DTEND;TZID=America/Chicago:20260315T183000
DTSTAMP:20260423T140639
CREATED:20260309T171513Z
LAST-MODIFIED:20260313T180152Z
UID:28597-1773430200-1773599400@www.therootsfm.org
SUMMARY:Bria Skonberg @ Jazz St Louis
DESCRIPTION:JUNO Award–winning trumpeter and vocalist Bria Skonberg stands at the forefront of today’s jazz renaissance\, redefining the genre with brilliance and charisma. Recognized by DownBeat and championed by Jazz at Lincoln Center\, Skonberg has captivated audiences around the world with her deep commitment to performance\, education\, and mentorship. \nNow\, she brings that signature artistry to the stage in celebration of her latest release\, Brass. This album showcases her bold musical vision and virtuosic command. Expect an evening that is vibrant\, masterful\, and compelling. Her talented ensemble includes Jon Thomas & Luther Allison (piano)\, Mark Lewandowski & Liany Mateo (bass)\, and Zach Adleman (drums). \nFor more information\, see her website: Bria Skonberg | HOME
URL:https://www.therootsfm.org/event/bria-skonberg-jazz-st-louis/
LOCATION:Jazz St Louis\, 3536 Washington Avenue\, St Louis\, MO\, 63103\, United States
END:VEVENT
BEGIN:VEVENT
DTSTART;TZID=America/Chicago:20260313T200000
DTEND;TZID=America/Chicago:20260313T200000
DTSTAMP:20260423T140639
CREATED:20251217T212806Z
LAST-MODIFIED:20260206T014643Z
UID:28407-1773432000-1773432000@www.therootsfm.org
SUMMARY:Tommy Castro & The Painkillers @ Old Rock House
DESCRIPTION:  \n \nKnown for their signature sound that fuses classic R&B\, rock ‘n’ roll swagger\, and gritty blues\, Tommy Castro and his Painkillers are a force of nature live. This is true roots music played with passion and undeniable groove. If you love powerful guitar and deep soul\, this show is for you! \n“The hardest thing to do\,” says internationally beloved soul-blues rocker Tommy Castro\, “is be yourself\, take some chances and bring your fans along with you.” Throughout his long\, constantly evolving career\, guitarist\, singer and songwriter Tommy Castro has always remained true to himself while exploring\, growing and creating new music\, and he has taken his thousands of devoted fans right along with him. Since his solo debut in 1994\, he’s made 16 albums—the last seven for Alligator—each its own unique chapter in the book of Tommy Castro. Ranging from horn-fueled R&B to piping hot blues to fiery\, stripped-down rock ‘n’ roll\, each release is solidly built upon Castro’s unshakable musical foundation—a dynamic mix of 1960s-influenced guitar-fueled blues\, testifying Memphis-soaked blue-eyed soul and Latin-tinged East San Jose funk\, all driven by Castro’s grab-you-by-the-collar vocals and passionate guitar work. Blues Revue declared\, “Tommy Castro can do no wrong.”
URL:https://www.therootsfm.org/event/tommy-castro-the-painkillers-old-rock-house/
LOCATION:Old Rock House\, 1200 S 7th St\, St Louis\, Missouri\, 63104\, United States
END:VEVENT
BEGIN:VEVENT
DTSTART;TZID=America/Chicago:20260313T200000
DTEND;TZID=America/Chicago:20260313T200000
DTSTAMP:20260423T140639
CREATED:20260126T185602Z
LAST-MODIFIED:20260126T193907Z
UID:28502-1773432000-1773432000@www.therootsfm.org
SUMMARY:Melvin Seals\, The Jerry Garcia Band & Jake's Leg @ The Pageant
DESCRIPTION:  \n \nMelvin Seals has been a powerful presence in the music industry for over 30 years with a long-established reputation as a performer\, recording artist and producer.  Melvin is most revered for his powerful\, high-spirited\, Hammond B-3 organ\, and keyboards in the Jerry Garcia Band.  Melvin spun his B-3 magic with the Jerry Garcia Band for 18 years and in doing so helped pioneer and define what has now become “Jam Band Music”. \nFrom blues to funk to rock to jazz\, Melvin Seals serves up a tasty mix with a little R&B and gospel thrown in to spice things up.  JGB is John Kadlecik-guitar and lead vocals\, John-Paul McLean-bass and Jeremy Hoenig-drums. \nMelvin and JGB brings an intuitive\, expressive style\, soul\, spontaneity and remarkable chops to the table. With a heapin’ helpin’ of the wizard’s magic on Hammond B-3 Organ and keyboards.  Along with backing vocals\, the result is a most satisfying blend of natural organic grooves that challenges genre boundaries. Their chemistry is the focus from which they create a spontaneous and high art where the sky is the limit musically. They offer an exciting\, often psychedelic musical journey that changes nightly and keeps the audience dancing and smiling (and some staring in amazement) for hours.\nIn addition to the often-played staples\, the band has recently been exploring the back catalog and performing a ton of super rare tunes\, some of which The Jerry Garcia Band played only a few times over all those years. \nAdding his rock-gospel-soul-rhythm and blues touch with his funky style of playing\, no wonder Jerry nicknamed him “Master of the Universe”. Melvin continues to treat music lovers to his unique brand of melodic flavor with JGB. \n  \n \nJake’s Leg steps onto the Pageant stage on March 13th to launch their 50th year!  They are not just celebrating a milestone; they’re re-affirming a legacy. What began in 1976 has become a living thread woven through the cultural fabric of St. Louis and the wider Deadhead universe. No other tribute has carried the torch longer\, and no other band in St. Louis has sustained such an unbroken\, vibrant run. Jake’s Leg stands not only as a testament to endurance\, musicianship\, and community\, but as a permanent chapter in Grateful Dead and St. Louis history – proof that the music really never stopped.  JAKE’S LEG is Randy Furrer – guitar & vocals\, Dave Casper – guitar\, Joe Trunko – bass & vocals\, Ryan Wilhite – drums and Bill Murphy – keyboards & vocals.
URL:https://www.therootsfm.org/event/melvin-seals-the-jerry-garcia-band-jakes-leg-the-pageant/
LOCATION:The Pageant\, 6161 Delmar Blvd\, St. Louis\, MO\, 63112\, United States
END:VEVENT
END:VCALENDAR