BEGIN:VCALENDAR
VERSION:2.0
PRODID:-//TheRoots FM - ECPv6.15.20//NONSGML v1.0//EN
CALSCALE:GREGORIAN
METHOD:PUBLISH
X-ORIGINAL-URL:https://www.therootsfm.org
X-WR-CALDESC:Events for TheRoots FM
REFRESH-INTERVAL;VALUE=DURATION:PT1H
X-Robots-Tag:noindex
X-PUBLISHED-TTL:PT1H
BEGIN:VTIMEZONE
TZID:America/Chicago
BEGIN:DAYLIGHT
TZOFFSETFROM:-0600
TZOFFSETTO:-0500
TZNAME:CDT
DTSTART:20250309T080000
END:DAYLIGHT
BEGIN:STANDARD
TZOFFSETFROM:-0500
TZOFFSETTO:-0600
TZNAME:CST
DTSTART:20251102T070000
END:STANDARD
BEGIN:DAYLIGHT
TZOFFSETFROM:-0600
TZOFFSETTO:-0500
TZNAME:CDT
DTSTART:20260308T080000
END:DAYLIGHT
BEGIN:STANDARD
TZOFFSETFROM:-0500
TZOFFSETTO:-0600
TZNAME:CST
DTSTART:20261101T070000
END:STANDARD
BEGIN:DAYLIGHT
TZOFFSETFROM:-0600
TZOFFSETTO:-0500
TZNAME:CDT
DTSTART:20270314T080000
END:DAYLIGHT
BEGIN:STANDARD
TZOFFSETFROM:-0500
TZOFFSETTO:-0600
TZNAME:CST
DTSTART:20271107T070000
END:STANDARD
END:VTIMEZONE
BEGIN:VEVENT
DTSTART;TZID=America/Chicago:20260312T200000
DTEND;TZID=America/Chicago:20260312T200000
DTSTAMP:20260425T114218
CREATED:20251106T190538Z
LAST-MODIFIED:20251106T195148Z
UID:28314-1773345600-1773345600@www.therootsfm.org
SUMMARY:Robert Jon & The Wreck @ The Sovereign
DESCRIPTION:Robert Jon & The Wreck bring their signature blend of Southern rock and West Coast soul to the stage\, captivating audiences around the world with searing guitar work\, soulful harmonies\, and honest songwriting. Since forming in 2011\, they’ve toured extensively across the U.S. and Europe\, sharing stages with Joe Bonamassa\, Blackberry Smoke\, Rival Sons\, Samantha Fish\, Buddy Guy\, and more. Their 2023 release Live at the Ancienne Belgique was hailed by Music News as “one of the best live albums.” Now\, with their newest record Heartbreaks & Last Goodbyes produced by legendary Kevin Shirley earning widespread acclaim\, the band is riding a new wave of momentum and winning over fans everywhere.\n\nRobert Jon & The Wreck is quickly becoming a force to be reckoned with. Based out of Orange County\, CA\, this quintet is dedicated\, driven\, and committed to giving their fans one hell of a Rock and Roll show – night after night\, and town after town.\n\n……..with special guest Sam Morrow.\n\nAt 27 years old\, Morrow’s found his footing as an artist and appears poised to join the ranks of West Coast heavyweights like Sam Outlaw\, Jade Jackson\, and Morrow’s friend and label mate\, Jaime Wyatt whose vocals can be heard on three songs here. Musically\, this is Sam Morrow at his electrified\, energetic peak.\n\nMorrow croons one minute and growls the next with a sly nod to his influences while staking out new territory. From Lynyrd Skynyrd-friendly rockers like “Heartbreak Man” to the Little Feat-worthy grooves of “Cigarettes\,” Concrete and Mud boldly explores a wide range of styles and sounds. There’s also an undercurrent of classic country running throughout the mix.  “It’s about the fabric of America\, and how the Mississippi is a metaphor for what binds very different people together\,” says Morrow\, whose third album (Concrete and Mud) builds a similar bridge between opposing camps: country and rock & roll; the West Coast and the American South\, concrete and mud. “The sentiment is\,” he adds\, “the things that unite us are stronger than the forces that divide us.”
URL:https://www.therootsfm.org/event/robert-jon-the-wreck-the-sovereign/
LOCATION:The Sovereign\, 3300 Washington Ave\, St Louis\, MO\, 63103\, United States
END:VEVENT
END:VCALENDAR