BEGIN:VCALENDAR
VERSION:2.0
PRODID:-//TheRoots FM - ECPv6.15.20//NONSGML v1.0//EN
CALSCALE:GREGORIAN
METHOD:PUBLISH
X-ORIGINAL-URL:https://www.therootsfm.org
X-WR-CALDESC:Events for TheRoots FM
REFRESH-INTERVAL;VALUE=DURATION:PT1H
X-Robots-Tag:noindex
X-PUBLISHED-TTL:PT1H
BEGIN:VTIMEZONE
TZID:America/Chicago
BEGIN:DAYLIGHT
TZOFFSETFROM:-0600
TZOFFSETTO:-0500
TZNAME:CDT
DTSTART:20250309T080000
END:DAYLIGHT
BEGIN:STANDARD
TZOFFSETFROM:-0500
TZOFFSETTO:-0600
TZNAME:CST
DTSTART:20251102T070000
END:STANDARD
BEGIN:DAYLIGHT
TZOFFSETFROM:-0600
TZOFFSETTO:-0500
TZNAME:CDT
DTSTART:20260308T080000
END:DAYLIGHT
BEGIN:STANDARD
TZOFFSETFROM:-0500
TZOFFSETTO:-0600
TZNAME:CST
DTSTART:20261101T070000
END:STANDARD
BEGIN:DAYLIGHT
TZOFFSETFROM:-0600
TZOFFSETTO:-0500
TZNAME:CDT
DTSTART:20270314T080000
END:DAYLIGHT
BEGIN:STANDARD
TZOFFSETFROM:-0500
TZOFFSETTO:-0600
TZNAME:CST
DTSTART:20271107T070000
END:STANDARD
END:VTIMEZONE
BEGIN:VEVENT
DTSTART;TZID=America/Chicago:20260306T190000
DTEND;TZID=America/Chicago:20260306T190000
DTSTAMP:20260423T105531
CREATED:20260214T054723Z
LAST-MODIFIED:20260214T054858Z
UID:28550-1772823600-1772823600@www.therootsfm.org
SUMMARY:The Mighty Pines @ 4 Hands Brewing Company
DESCRIPTION:The Mighty Pines are a soul-inspired roots rock band influenced by the wide rivers and red-brick streets of St. Louis. With soaring vocals and thoughtful composition\, the two principal songwriters shift the band’s sound from catchy rock ‘n’ roll to earthy instrumentals. \nThe Mighty Pines formed in 2012 and is made up of Neil Salsich (vocals\, guitar)\, Gerard Erker (mandolin\, banjo\, vocals)\, John Hussung (bass\, vocals) and Mike Murano (drums). They have played hundreds of live shows and shared bills with renowned acts such as JJ Grey & Mofro\, Brian Owens\, Fruition\, Sam Bush and Railroad Earth.
URL:https://www.therootsfm.org/event/the-mighty-pines-4-hands-brewing-company/
LOCATION:4 Hands Brewing Co\, 1220 S 8th St\, St Louis\, MO\, 63104\, United States
END:VEVENT
BEGIN:VEVENT
DTSTART;TZID=America/Chicago:20260306T200000
DTEND;TZID=America/Chicago:20260306T200000
DTSTAMP:20260423T105531
CREATED:20260126T230414Z
LAST-MODIFIED:20260206T013714Z
UID:28508-1772827200-1772827200@www.therootsfm.org
SUMMARY:One Way Traffic @ The Sovereign
DESCRIPTION:  \n \nOne Way Traffic\nBorn from an open-mic bluegrass jam in St. Louis\, Missouri\, One Way Traffic is a five-piece band with an eclectic sound. Inspired greatly by Americana\, Blues\, and Jazz\, the band combines their individual influences to create a gumbo chock full of musical deliciousness and surprise.  One Way Traffic is Leah Osborne (Baritone Uke/Vocals)\, Sam Aubuchon (mandolin vocals)\, Justin Rose (guitar vocals)\, Erik Ferguson (Bass) and John Brighton (violin) \n \nFleetwood & Family Band\nFleetwood & Family is a band that has been formed by Rich and Jessica\, who have been playing music together for generations.  They are rooted in Blues\, Soul and Outlaw Country.  They have dipped their toes in various genres throughout the years.  The band is known for its family vibes and has been inspired by the Fleetwood family’s musical heritage.  \n \nTree One Four\nWe are a psychedelic reggae rocking funky blues band. \n  \nCome catch the grooves when One Way Traffic brings their eclectic Americana gumbo\, Fleetwood & Family serves up funky soul and blues\, and Tree One Four keeps the groove alive with their rock-reggae fusion on March 6th at St Louis’ newest venue in Grand Center!
URL:https://www.therootsfm.org/event/one-way-traffic-the-sovereign/
LOCATION:The Sovereign\, 3300 Washington Ave\, St Louis\, MO\, 63103\, United States
END:VEVENT
END:VCALENDAR