BEGIN:VCALENDAR
VERSION:2.0
PRODID:-//TheRoots FM - ECPv6.15.20//NONSGML v1.0//EN
CALSCALE:GREGORIAN
METHOD:PUBLISH
X-ORIGINAL-URL:https://www.therootsfm.org
X-WR-CALDESC:Events for TheRoots FM
REFRESH-INTERVAL;VALUE=DURATION:PT1H
X-Robots-Tag:noindex
X-PUBLISHED-TTL:PT1H
BEGIN:VTIMEZONE
TZID:America/Chicago
BEGIN:DAYLIGHT
TZOFFSETFROM:-0600
TZOFFSETTO:-0500
TZNAME:CDT
DTSTART:20250309T080000
END:DAYLIGHT
BEGIN:STANDARD
TZOFFSETFROM:-0500
TZOFFSETTO:-0600
TZNAME:CST
DTSTART:20251102T070000
END:STANDARD
BEGIN:DAYLIGHT
TZOFFSETFROM:-0600
TZOFFSETTO:-0500
TZNAME:CDT
DTSTART:20260308T080000
END:DAYLIGHT
BEGIN:STANDARD
TZOFFSETFROM:-0500
TZOFFSETTO:-0600
TZNAME:CST
DTSTART:20261101T070000
END:STANDARD
BEGIN:DAYLIGHT
TZOFFSETFROM:-0600
TZOFFSETTO:-0500
TZNAME:CDT
DTSTART:20270314T080000
END:DAYLIGHT
BEGIN:STANDARD
TZOFFSETFROM:-0500
TZOFFSETTO:-0600
TZNAME:CST
DTSTART:20271107T070000
END:STANDARD
END:VTIMEZONE
BEGIN:VEVENT
DTSTART;TZID=America/Chicago:20260301T193000
DTEND;TZID=America/Chicago:20260301T193000
DTSTAMP:20260423T111334
CREATED:20260126T213209Z
LAST-MODIFIED:20260126T214023Z
UID:28505-1772393400-1772393400@www.therootsfm.org
SUMMARY:Christopher Cross @ The Factory
DESCRIPTION:Christopher Cross made history with his 1980 self-titled debut album\, winning five Grammy Awards\, including—for the first time in Grammy history—the “Big Four” most prestigious awards: Record of the Year (for the single “Sailing”)\, Album of the Year\, Song of the Year (also “Sailing”)\, and Best New Artist. \nIn a career spanning over five decades\, Cross has sold over 10 million albums. His music has garnered five Grammys\, an Oscar\, a Golden Globe and five Top 10 singles. \nThis year\, Christopher Cross is celebrating the 40th anniversary of his breakthrough debut album with a major tour featuring songs from his debut album: “Sailing\,” “Ride Like the Wind\,” “Say You’ll Be Mine\,” and more. \nCross says\, “This tour celebrates the first chapter in what has been my life’s journey. I look forward to seeing everyone on the road.”
URL:https://www.therootsfm.org/event/christopher-cross-the-factory/
LOCATION:The Factory\, 17105 North Outer 40 Road\, Chesterfield\, Missouri\, 63005
END:VEVENT
END:VCALENDAR