BEGIN:VCALENDAR
VERSION:2.0
PRODID:-//TheRoots FM - ECPv6.15.20//NONSGML v1.0//EN
CALSCALE:GREGORIAN
METHOD:PUBLISH
X-ORIGINAL-URL:https://www.therootsfm.org
X-WR-CALDESC:Events for TheRoots FM
REFRESH-INTERVAL;VALUE=DURATION:PT1H
X-Robots-Tag:noindex
X-PUBLISHED-TTL:PT1H
BEGIN:VTIMEZONE
TZID:America/Chicago
BEGIN:DAYLIGHT
TZOFFSETFROM:-0600
TZOFFSETTO:-0500
TZNAME:CDT
DTSTART:20250309T080000
END:DAYLIGHT
BEGIN:STANDARD
TZOFFSETFROM:-0500
TZOFFSETTO:-0600
TZNAME:CST
DTSTART:20251102T070000
END:STANDARD
BEGIN:DAYLIGHT
TZOFFSETFROM:-0600
TZOFFSETTO:-0500
TZNAME:CDT
DTSTART:20260308T080000
END:DAYLIGHT
BEGIN:STANDARD
TZOFFSETFROM:-0500
TZOFFSETTO:-0600
TZNAME:CST
DTSTART:20261101T070000
END:STANDARD
BEGIN:DAYLIGHT
TZOFFSETFROM:-0600
TZOFFSETTO:-0500
TZNAME:CDT
DTSTART:20270314T080000
END:DAYLIGHT
BEGIN:STANDARD
TZOFFSETFROM:-0500
TZOFFSETTO:-0600
TZNAME:CST
DTSTART:20271107T070000
END:STANDARD
END:VTIMEZONE
BEGIN:VEVENT
DTSTART;TZID=America/Chicago:20260226T190000
DTEND;TZID=America/Chicago:20260226T190000
DTSTAMP:20260423T111344
CREATED:20260209T215613Z
LAST-MODIFIED:20260209T215613Z
UID:28539-1772132400-1772132400@www.therootsfm.org
SUMMARY:The Trophy Mules @ The Abbey
DESCRIPTION:The Trophy Mules combine rock\, country and folk elements to deliver a distinctive and timeless collection of material that stretches across musical boundaries. The St. Louis band fronted by Corey Saathoff who previously fronted St. Louis acts Jerkwater Junction and Brain Regiment prior to forming The Trophy Mules in 2009. Rounding out the band lineup is Scott Swartz on pedal steel\, Jerrod Gordon on bass\, Josh Kean on guitar\, keyboards and vocals\, and Dave Clark on drums. \nThe Trophy Mules have opened for such well-known music acts as Shooter Jennings\, Chris Knight\, Webb Wilder\, Sons of Bill\, American Aquarium\, Wayne “The Train” Hancock\, Trapper Schoepp\, Deadstring Brothers\, Star & Micey and Mountain Sprout. Whether it be as an acoustic solo/duo act or with his prior bands\, Saathoff has also had the honor of opening for The Bottle Rockets\, Slobberbone\, Marah and Bobby Bare Jr. \n 
URL:https://www.therootsfm.org/event/the-trophy-mules-the-abbey/
LOCATION:The Abbey\, 5801 W Main St\, Belleville\, IL\, 62226\, United States
END:VEVENT
BEGIN:VEVENT
DTSTART;TZID=America/Chicago:20260226T193000
DTEND;TZID=America/Chicago:20260226T193000
DTSTAMP:20260423T111344
CREATED:20260202T205734Z
LAST-MODIFIED:20260202T205734Z
UID:28526-1772134200-1772134200@www.therootsfm.org
SUMMARY:Richard Smith @ Music Folk
DESCRIPTION:Richard Smith will be returning to Music Folk! \nHe will be giving a 2-hour workshop at 2pm and will be performing in concert at 7:30pm. \nThis will be a great opportunity to see the renowned finger-style guitarist in a very intimate setting. \nSeating is limited. \nTickets \n\n$50 workshop\n$30 concert\n$70 for both\n\n\n\nThey are available only at the Music Folk store.\n\nTickets are VERY limited\, so hurry before you miss out!
URL:https://www.therootsfm.org/event/richard-smith-music-folk/
LOCATION:Music Folk\, 8015 Big Bend Blvd\, St Louis\, MO\, 63119\, United States
END:VEVENT
END:VCALENDAR