BEGIN:VCALENDAR
VERSION:2.0
PRODID:-//TheRoots FM - ECPv6.15.20//NONSGML v1.0//EN
CALSCALE:GREGORIAN
METHOD:PUBLISH
X-ORIGINAL-URL:https://www.therootsfm.org
X-WR-CALDESC:Events for TheRoots FM
REFRESH-INTERVAL;VALUE=DURATION:PT1H
X-Robots-Tag:noindex
X-PUBLISHED-TTL:PT1H
BEGIN:VTIMEZONE
TZID:America/Chicago
BEGIN:DAYLIGHT
TZOFFSETFROM:-0600
TZOFFSETTO:-0500
TZNAME:CDT
DTSTART:20250309T080000
END:DAYLIGHT
BEGIN:STANDARD
TZOFFSETFROM:-0500
TZOFFSETTO:-0600
TZNAME:CST
DTSTART:20251102T070000
END:STANDARD
BEGIN:DAYLIGHT
TZOFFSETFROM:-0600
TZOFFSETTO:-0500
TZNAME:CDT
DTSTART:20260308T080000
END:DAYLIGHT
BEGIN:STANDARD
TZOFFSETFROM:-0500
TZOFFSETTO:-0600
TZNAME:CST
DTSTART:20261101T070000
END:STANDARD
BEGIN:DAYLIGHT
TZOFFSETFROM:-0600
TZOFFSETTO:-0500
TZNAME:CDT
DTSTART:20270314T080000
END:DAYLIGHT
BEGIN:STANDARD
TZOFFSETFROM:-0500
TZOFFSETTO:-0600
TZNAME:CST
DTSTART:20271107T070000
END:STANDARD
END:VTIMEZONE
BEGIN:VEVENT
DTSTART;TZID=America/Chicago:20260131T190000
DTEND;TZID=America/Chicago:20260131T190000
DTSTAMP:20260423T111109
CREATED:20260108T182749Z
LAST-MODIFIED:20260108T182749Z
UID:28469-1769886000-1769886000@www.therootsfm.org
SUMMARY:All Together Now: Beatles Tribute @ Old Rockhouse
DESCRIPTION:Hailing from the vibrant music scene of St. Louis\, Missouri\, All Together Now is a powerhouse tribute band dedicated to celebrating the timeless music of The Beatles.  Comprising a lineup of seasoned professionals\, All Together Now boasts an impressive collective of musicianship including members of El Monstero\, The Hard Promises and Son Volt. With each member bringing their own unique flair and expertise to the table\, the band flawlessly captures the essence of The Beatles’ while offering a modern take on their timeless hits. \nMore than just a tribute to The Beatles – they also dive into the solo careers of the Fab Four members\, as well as other notable projects such as Wings and the Traveling Wilburys. With an expansive repertoire that spans the breadth of The Beatles’ catalog\, as well as their individual endeavors\, the band ensures that audiences are treated to a diverse and captivating musical experience. \nWhether they’re belting out classics like “Hey Jude” and “Let It Be” or delving into deeper cuts from The Beatles’ extensive catalog\, All Together Now never fail to captivate and enthrall audiences of all ages with their electrifying stage presence and light show. \nSo come together and experience the magic of All Together Now – a celebration of the music of the Beatles!
URL:https://www.therootsfm.org/event/all-together-now-beatles-tribute-old-rockhouse/
LOCATION:Old Rock House\, 1200 S 7th St\, St Louis\, Missouri\, 63104\, United States
END:VEVENT
BEGIN:VEVENT
DTSTART;TZID=America/Chicago:20260131T193000
DTEND;TZID=America/Chicago:20260131T193000
DTSTAMP:20260423T111109
CREATED:20251224T173722Z
LAST-MODIFIED:20260130T194616Z
UID:28439-1769887800-1769887800@www.therootsfm.org
SUMMARY:Black Magic - The Santana Experience @ Kirkwood Performing Arts Center KPAC
DESCRIPTION:In the Ross Family Theatre at the Kirkwood Performing Arts Center \nShow starts at – 7:30pm \nTheatre Doors open at 7:00pm \nLobby opens at 6:30pm \nBlack Magic honors the music of guitar legend Carlos Santana\, who attributes his music’s popularity to the blending of African based rhythms\, bluesy organ\, and of course that melodic guitar played straight from the heart. \nBlack Magic stays true to this formula and focuses heavily on the authenticity of Santana’s live concerts. Their audience is taken on a journey throughout Santana’s incredible 50+ year career with classics from the Woodstock Era (“Black Magic Woman” and “Oye Como Va”)\, tributes to his passionate and powerful ballads (“Europa” and “Samba Pa Ti”)\, and also performing his current Grammy hits (“Smooth” and “Maria Maria”). \nAlways creating an energetic yet soulful performance\, Black Magic delivers the true Santana Experience. \nMedia Sponsor: RootsFM
URL:https://www.therootsfm.org/event/black-magic-the-santana-experience-kirkwood-performing-arts-center-kpac/
LOCATION:Kirkwood Performing Arts Center KPAC\, 210 E Monroe Ave\, Kirkwood\, MO\, MO\, 63122\, United States
END:VEVENT
END:VCALENDAR