BEGIN:VCALENDAR
VERSION:2.0
PRODID:-//TheRoots FM - ECPv6.15.20//NONSGML v1.0//EN
CALSCALE:GREGORIAN
METHOD:PUBLISH
X-WR-CALNAME:TheRoots FM
X-ORIGINAL-URL:https://www.therootsfm.org
X-WR-CALDESC:Events for TheRoots FM
REFRESH-INTERVAL;VALUE=DURATION:PT1H
X-Robots-Tag:noindex
X-PUBLISHED-TTL:PT1H
BEGIN:VTIMEZONE
TZID:America/Chicago
BEGIN:DAYLIGHT
TZOFFSETFROM:-0600
TZOFFSETTO:-0500
TZNAME:CDT
DTSTART:20250309T080000
END:DAYLIGHT
BEGIN:STANDARD
TZOFFSETFROM:-0500
TZOFFSETTO:-0600
TZNAME:CST
DTSTART:20251102T070000
END:STANDARD
BEGIN:DAYLIGHT
TZOFFSETFROM:-0600
TZOFFSETTO:-0500
TZNAME:CDT
DTSTART:20260308T080000
END:DAYLIGHT
BEGIN:STANDARD
TZOFFSETFROM:-0500
TZOFFSETTO:-0600
TZNAME:CST
DTSTART:20261101T070000
END:STANDARD
BEGIN:DAYLIGHT
TZOFFSETFROM:-0600
TZOFFSETTO:-0500
TZNAME:CDT
DTSTART:20270314T080000
END:DAYLIGHT
BEGIN:STANDARD
TZOFFSETFROM:-0500
TZOFFSETTO:-0600
TZNAME:CST
DTSTART:20271107T070000
END:STANDARD
END:VTIMEZONE
BEGIN:VEVENT
DTSTART;TZID=America/Chicago:20260130T170000
DTEND;TZID=America/Chicago:20260130T200000
DTSTAMP:20260423T111846
CREATED:20260122T153905Z
LAST-MODIFIED:20260130T205639Z
UID:28495-1769792400-1769803200@www.therootsfm.org
SUMMARY:Duo Classico @ Pierce Creek
DESCRIPTION:This show has been cancelled.\nJazzical Guitars for All Occasions!\nEnjoy live\, original jazzical guitar music with Duo Classico.  Carol and Tom will treat you to original compositions\, improvisations and music you are familiar with.
URL:https://www.therootsfm.org/event/duo-classico-pierce-creek-2/
LOCATION:Pierce Creek\, 10405 Old Olive Street Rd\, Creve Coeur\, MO\, 63141\, United States
END:VEVENT
BEGIN:VEVENT
DTSTART;TZID=America/Chicago:20260130T200000
DTEND;TZID=America/Chicago:20260130T200000
DTSTAMP:20260423T111846
CREATED:20251208T174957Z
LAST-MODIFIED:20251208T175039Z
UID:28387-1769803200-1769803200@www.therootsfm.org
SUMMARY:Daniel Donato's Cosmic Country @ The Sovereign
DESCRIPTION:  \nDaniel Donato’s Cosmic Country is a unique blend of traditional country music infused with elements of rock\, bluegrass\, and funk\, showcasing a vibrant and improvisational musical style.   \nDaniel Donato is a talented guitarist and singer-songwriter who has carved out a niche in the music scene with his Cosmic Country project. His style combines the rich traditions of Nashville honky-tonks with an improvisational spirit\, creating a sound that resonates with a wide audience. He began his career busking on the streets of Nashville and has since evolved into a prominent figure in the cosmic country genre\, often compared to artists like Billy Strings. \nHe calls it Cosmic Country\, a moniker that’s both self-descriptive and a statement of purpose. It’s an organic rock band aesthetic with plenty of roadhouse twang\, a showcase for Donato’s instrumental virtuosity and facility for melodically infectious songcraft. Bridging Nashville and the Great West\, Kentucky and mid-60s northern California\, tie-dye and plaid\, it’s a world of his own\, and wide world of musical adventure at that. \n“I think Cosmic Country is a tale as old as time\, really\,” Donato explains. “It’s yin and yang in a musical form. It’s three chords and the truth\, and then on the other side it’s exploration and bravery.
URL:https://www.therootsfm.org/event/daniel-donatos-cosmic-country-the-sovereign/
LOCATION:The Sovereign\, 3300 Washington Ave\, St Louis\, MO\, 63103\, United States
END:VEVENT
END:VCALENDAR