BEGIN:VCALENDAR
VERSION:2.0
PRODID:-//TheRoots FM - ECPv6.15.20//NONSGML v1.0//EN
CALSCALE:GREGORIAN
METHOD:PUBLISH
X-ORIGINAL-URL:https://www.therootsfm.org
X-WR-CALDESC:Events for TheRoots FM
REFRESH-INTERVAL;VALUE=DURATION:PT1H
X-Robots-Tag:noindex
X-PUBLISHED-TTL:PT1H
BEGIN:VTIMEZONE
TZID:America/Chicago
BEGIN:DAYLIGHT
TZOFFSETFROM:-0600
TZOFFSETTO:-0500
TZNAME:CDT
DTSTART:20250309T080000
END:DAYLIGHT
BEGIN:STANDARD
TZOFFSETFROM:-0500
TZOFFSETTO:-0600
TZNAME:CST
DTSTART:20251102T070000
END:STANDARD
BEGIN:DAYLIGHT
TZOFFSETFROM:-0600
TZOFFSETTO:-0500
TZNAME:CDT
DTSTART:20260308T080000
END:DAYLIGHT
BEGIN:STANDARD
TZOFFSETFROM:-0500
TZOFFSETTO:-0600
TZNAME:CST
DTSTART:20261101T070000
END:STANDARD
BEGIN:DAYLIGHT
TZOFFSETFROM:-0600
TZOFFSETTO:-0500
TZNAME:CDT
DTSTART:20270314T080000
END:DAYLIGHT
BEGIN:STANDARD
TZOFFSETFROM:-0500
TZOFFSETTO:-0600
TZNAME:CST
DTSTART:20271107T070000
END:STANDARD
END:VTIMEZONE
BEGIN:VEVENT
DTSTART;TZID=America/Chicago:20260124T180000
DTEND;TZID=America/Chicago:20260124T180000
DTSTAMP:20260424T051248
CREATED:20260119T234656Z
LAST-MODIFIED:20260119T234656Z
UID:28491-1769277600-1769277600@www.therootsfm.org
SUMMARY:Shady Grove Winter Weekend @ Atomic
DESCRIPTION:  \nSATURDAY LINEUP – \nRUMPKE MOUNTAIN BOYS – Improvised Bluegrass / Jamgrass\nRaw\, high-energy bluegrass guided by crowd energy and real-time improvisation. Emotional vocals\, virtuosic strings\, no setlists—every show is honest\, spontaneous\, and one-of-a-kind. \nGERARD ERKER & FRIENDS – Roots-Rock / Jam-Folk\nDynamic grooves\, heartfelt songwriting\, and spontaneous live energy for warm\, unforgettable performances. \nJUSTIN ROSE & THE GREEN THUMBS – Indie-Grassicana / Acoustic Americana\nIndie-folk introspection meets bluegrass-inspired instrumentation and soulful storytelling. Warm\, intricate\, improvisation-driven\, perfect for intimate rooms or festival stages. \nFLEETWOOD & FAMILY – Americana / Soul-Rock\nBlending soulful vocals with Americana grooves and roots-rock energy\, Fleetwood & Family deliver heartfelt\, high-energy performances that connect with every audience. Warm\, dynamic\, and full of heart. \n& SPECIAL GUESTS!
URL:https://www.therootsfm.org/event/shady-grove-winter-weekend-atomic-2/
LOCATION:Atomic\, 4140 Manchester Ave\, St. Louis\, MO\, 62110\, United States
END:VEVENT
BEGIN:VEVENT
DTSTART;TZID=America/Chicago:20260124T200000
DTEND;TZID=America/Chicago:20260124T200000
DTSTAMP:20260424T051248
CREATED:20251105T172420Z
LAST-MODIFIED:20251105T172420Z
UID:28306-1769284800-1769284800@www.therootsfm.org
SUMMARY:Don Was and the Pan-Detroit Ensemble @ Wildey Theatre
DESCRIPTION:  \nFIRST TIME AT THE WILDEY! \n\n\n\n\n\nSix-time Grammy winner Don Was has had an illustrious career. As a producer\, he won Album of the Year in 1989 with Bonnie Raitt; he has worked with mega stars including The Rolling Stones\, Bob Dylan\, Carly Simon\, Willie Nelson\, Elton John\, and Brian Wilson just to name a few. He also has a British Academy Award and a Lifetime Achievement Award from the Americana Music Association.  Was is also currently the president of Blue Note Records\, probably the most revered jazz label of all time\, and has spent the past seven years as part of Bob Weir’s trio Bobby Weir & Wolf Bros. \nLaunched in 2024\, the nine-piece soul jazz band draws inspiration from Motor City’s wide-ranging musical history\, citing influences ranging from John Lee Hooker\, Donald Byrd\, and Joe Henderson to George Clinton\, Mitch Ryder\, The Stooges\, and Electrifying Mojo.  Led by Was with Dave McMurray on sax\, Luis Resto on keys\, Vincent Chandler on trombone\, John Douglas on trumpet\, Jeff Canaday on drums\, Mahindi Masai on percussion\, Wayne Gerard on guitar\, and Steffanie Christi’an on vocals\, the band debuted last spring\, performing a mix of originals and songs by Yusef Lateef\, Olu Dara\, Henry Threadgill\, and more during a short run spanning intimate clubs\, historic concert halls\, and major festival stages. \n“There’s a unique sound and feel to Detroit that permeates the music in a way that resonates all over the globe\,” said Was. “There is a rawness\, a lack of pretension and an unmistakable\, underlying groove that reflects the people and culture of the entire city.”  Was characterized the band’s sound as “jazzy and improvisational but also glued together with a sinewy R&B groove.” “It’s not slick or smooth — it’s a very raw\, honest\, Detroit kind of thing\,” he explained. \n\n\nHe went on to describe how his experiences touring with Bob Weir and working with artists on the Blue Note roster “have pointed the way towards realizing that sound\,” adding\, “The Pan Detroit Ensemble finally manifests that ‘thing’ I’ve been pursuing. The intention is to make communicative music that gets under the listener’s skin and brings them some joy\, comfort and understanding in deeply troubled times. It’s all connected.” \nThe band’s debut album “Groove In The Face of Adversity” was released in October 2025.  This show will feature tracks from this debut album\, and the band is also celebrating the 50th anniversary of the Grateful Dead’s “Blues For Allah” by playing the album in its entirety. \n 
URL:https://www.therootsfm.org/event/don-was-and-the-pan-detroit-ensemble-wildey-theatre/
LOCATION:Wildey Theatre\, 252 N. Main St.\, Edwardsville\, IL\, 62025\, United States
END:VEVENT
END:VCALENDAR