BEGIN:VCALENDAR
VERSION:2.0
PRODID:-//TheRoots FM - ECPv6.15.20//NONSGML v1.0//EN
CALSCALE:GREGORIAN
METHOD:PUBLISH
X-ORIGINAL-URL:https://www.therootsfm.org
X-WR-CALDESC:Events for TheRoots FM
REFRESH-INTERVAL;VALUE=DURATION:PT1H
X-Robots-Tag:noindex
X-PUBLISHED-TTL:PT1H
BEGIN:VTIMEZONE
TZID:America/Chicago
BEGIN:DAYLIGHT
TZOFFSETFROM:-0600
TZOFFSETTO:-0500
TZNAME:CDT
DTSTART:20250309T080000
END:DAYLIGHT
BEGIN:STANDARD
TZOFFSETFROM:-0500
TZOFFSETTO:-0600
TZNAME:CST
DTSTART:20251102T070000
END:STANDARD
BEGIN:DAYLIGHT
TZOFFSETFROM:-0600
TZOFFSETTO:-0500
TZNAME:CDT
DTSTART:20260308T080000
END:DAYLIGHT
BEGIN:STANDARD
TZOFFSETFROM:-0500
TZOFFSETTO:-0600
TZNAME:CST
DTSTART:20261101T070000
END:STANDARD
BEGIN:DAYLIGHT
TZOFFSETFROM:-0600
TZOFFSETTO:-0500
TZNAME:CDT
DTSTART:20270314T080000
END:DAYLIGHT
BEGIN:STANDARD
TZOFFSETFROM:-0500
TZOFFSETTO:-0600
TZNAME:CST
DTSTART:20271107T070000
END:STANDARD
END:VTIMEZONE
BEGIN:VEVENT
DTSTART;TZID=America/Chicago:20260123T170000
DTEND;TZID=America/Chicago:20260123T200000
DTSTAMP:20260423T125337
CREATED:20260121T192323Z
LAST-MODIFIED:20260122T153225Z
UID:28492-1769187600-1769198400@www.therootsfm.org
SUMMARY:Duo Classico @ Pierce Creek
DESCRIPTION:  \n \nJazzical Guitars for All Occasions!\nEnjoy live\, original jazzical guitar music with Duo Classico.  Carol and Tom will treat you to original compositions\, improvisations and music you are familiar with.
URL:https://www.therootsfm.org/event/duo-classico-pierce-creek/
LOCATION:Pierce Creek\, 10405 Old Olive Street Rd\, Creve Coeur\, MO\, 63141\, United States
END:VEVENT
BEGIN:VEVENT
DTSTART;TZID=America/Chicago:20260123T180000
DTEND;TZID=America/Chicago:20260123T180000
DTSTAMP:20260423T125337
CREATED:20260119T233710Z
LAST-MODIFIED:20260119T233710Z
UID:28490-1769191200-1769191200@www.therootsfm.org
SUMMARY:Shady Grove Winter Weekend @ Atomic
DESCRIPTION:Weekend Event – Friday & Saturday – 2 day passes are $37.50\nFRIDAY LINEUP –\nTHE HILLBENDERS – Bluegrass Meets Rock ’n’ Roll\nHailing from the Ozarks\, The HillBenders fuse bluegrass with rock ’n’ roll energy. 15+ years on the road\, known for high-energy shows\, sharp musicianship\, and a catalog that keeps crowds dancing. \nTHE SPOOKLIGHTS – ElectroRoots / Americana-Tronica / Hillbilly House\nBanjos meet beats\, slide guitar meets synth. The Spooklights fuse Ozark tradition with DIY electronic wizardry—part folklore\, part sci-fi\, familiar yet otherworldly. \nONE WAY TRAFFIC – Jamgrass / Progressive Bluegrass\nHigh-energy jamgrass with tight picking\, driving rhythms\, and adventurous improvisation. Rooted in bluegrass\, built for the jam scene\, fast\, hard-hitting\, and fearless. \nHUNTER PEEBLES & THE MOONLIGHTERS – Americana / Roots Rock\nSoulful Americana with roots-rock grit. Warm melodies\, rich harmonies\, and road-worn stories make their sound timeless yet fresh\, for intimate rooms or high-energy stages. \nSAM & SAM’S WONDERBAND – Cosmic Americana / Jam-Folk\nPlayful\, genre-blending folk and jam energy. Feel-good grooves\, thoughtful lyrics\, and adventurous improvisation make their shows equal parts dance party and soulful journey. \n  \nSATURDAY LINEUP – \nRUMPKE MOUNTAIN BOYS – Improvised Bluegrass / Jamgrass\nRaw\, high-energy bluegrass guided by crowd energy and real-time improvisation. Emotional vocals\, virtuosic strings\, no setlists—every show is honest\, spontaneous\, and one-of-a-kind. \nGERARD ERKER & FRIENDS – Roots-Rock / Jam-Folk\nDynamic grooves\, heartfelt songwriting\, and spontaneous live energy for warm\, unforgettable performances. \nJUSTIN ROSE & THE GREEN THUMBS – Indie-Grassicana / Acoustic Americana\nIndie-folk introspection meets bluegrass-inspired instrumentation and soulful storytelling. Warm\, intricate\, improvisation-driven\, perfect for intimate rooms or festival stages. \nFLEETWOOD & FAMILY – Americana / Soul-Rock\nBlending soulful vocals with Americana grooves and roots-rock energy\, Fleetwood & Family deliver heartfelt\, high-energy performances that connect with every audience. Warm\, dynamic\, and full of heart. \n& SPECIAL GUESTS!
URL:https://www.therootsfm.org/event/shady-grove-winter-weekend-atomic/
LOCATION:Atomic\, 4140 Manchester Ave\, St. Louis\, MO\, 62110\, United States
END:VEVENT
END:VCALENDAR