BEGIN:VCALENDAR
VERSION:2.0
PRODID:-//TheRoots FM - ECPv6.15.20//NONSGML v1.0//EN
CALSCALE:GREGORIAN
METHOD:PUBLISH
X-WR-CALNAME:TheRoots FM
X-ORIGINAL-URL:https://www.therootsfm.org
X-WR-CALDESC:Events for TheRoots FM
REFRESH-INTERVAL;VALUE=DURATION:PT1H
X-Robots-Tag:noindex
X-PUBLISHED-TTL:PT1H
BEGIN:VTIMEZONE
TZID:America/Chicago
BEGIN:DAYLIGHT
TZOFFSETFROM:-0600
TZOFFSETTO:-0500
TZNAME:CDT
DTSTART:20250309T080000
END:DAYLIGHT
BEGIN:STANDARD
TZOFFSETFROM:-0500
TZOFFSETTO:-0600
TZNAME:CST
DTSTART:20251102T070000
END:STANDARD
BEGIN:DAYLIGHT
TZOFFSETFROM:-0600
TZOFFSETTO:-0500
TZNAME:CDT
DTSTART:20260308T080000
END:DAYLIGHT
BEGIN:STANDARD
TZOFFSETFROM:-0500
TZOFFSETTO:-0600
TZNAME:CST
DTSTART:20261101T070000
END:STANDARD
BEGIN:DAYLIGHT
TZOFFSETFROM:-0600
TZOFFSETTO:-0500
TZNAME:CDT
DTSTART:20270314T080000
END:DAYLIGHT
BEGIN:STANDARD
TZOFFSETFROM:-0500
TZOFFSETTO:-0600
TZNAME:CST
DTSTART:20271107T070000
END:STANDARD
END:VTIMEZONE
BEGIN:VEVENT
DTSTART;TZID=America/Chicago:20260120T200000
DTEND;TZID=America/Chicago:20260120T200000
DTSTAMP:20260423T153641
CREATED:20251219T194206Z
LAST-MODIFIED:20251219T194206Z
UID:28418-1768939200-1768939200@www.therootsfm.org
SUMMARY:Greg Koch w/The Koch-Marshall Trio @ Blueberry Hill Duck Room
DESCRIPTION:Greg Koch is a guitar player’s guitarist known for his blues-infused\, stylistically diverse compositions and electrifying guitar performances. With a prolific career spanning over 20 records\, Koch has carved out a unique niche in the music world\, blending elements of blues\, rock\, and jazz into his signature sound. \nAt the helm of the Koch-Marshall Trio\, Greg is joined by his exceptionally talented son\, Dylan\, on drums\, and Hammond organ virtuoso Toby Lee Marshall. Together\, they deliver powerful live performances that captivate audiences both domestically and internationally. Their shows brim with bold improvisation\, spirited interplay\, and a dynamic energy that resonates with blues purists\, guitar enthusiasts\, and lovers of off-the-cuff musical synergy alike. \nWith each note\, Greg Koch inspires musicians and fans alike\, leaving an indelible mark on the music scene and shaping the next generation of guitar enthusiasts. \n  \n 
URL:https://www.therootsfm.org/event/greg-koch-w-the-koch-marshall-trio-blueberry-hill-duck-room/
LOCATION:Blueberry Hill Duck Room\, 6504 Delmar Blvd\, St Louis\, MO\, 63130\, United States
END:VEVENT
END:VCALENDAR