BEGIN:VCALENDAR
VERSION:2.0
PRODID:-//TheRoots FM - ECPv6.15.20//NONSGML v1.0//EN
CALSCALE:GREGORIAN
METHOD:PUBLISH
X-ORIGINAL-URL:https://www.therootsfm.org
X-WR-CALDESC:Events for TheRoots FM
REFRESH-INTERVAL;VALUE=DURATION:PT1H
X-Robots-Tag:noindex
X-PUBLISHED-TTL:PT1H
BEGIN:VTIMEZONE
TZID:America/Chicago
BEGIN:DAYLIGHT
TZOFFSETFROM:-0600
TZOFFSETTO:-0500
TZNAME:CDT
DTSTART:20250309T080000
END:DAYLIGHT
BEGIN:STANDARD
TZOFFSETFROM:-0500
TZOFFSETTO:-0600
TZNAME:CST
DTSTART:20251102T070000
END:STANDARD
BEGIN:DAYLIGHT
TZOFFSETFROM:-0600
TZOFFSETTO:-0500
TZNAME:CDT
DTSTART:20260308T080000
END:DAYLIGHT
BEGIN:STANDARD
TZOFFSETFROM:-0500
TZOFFSETTO:-0600
TZNAME:CST
DTSTART:20261101T070000
END:STANDARD
BEGIN:DAYLIGHT
TZOFFSETFROM:-0600
TZOFFSETTO:-0500
TZNAME:CDT
DTSTART:20270314T080000
END:DAYLIGHT
BEGIN:STANDARD
TZOFFSETFROM:-0500
TZOFFSETTO:-0600
TZNAME:CST
DTSTART:20271107T070000
END:STANDARD
END:VTIMEZONE
BEGIN:VEVENT
DTSTART;TZID=America/Chicago:20260108T190000
DTEND;TZID=America/Chicago:20260108T190000
DTSTAMP:20260423T165807
CREATED:20260102T200619Z
LAST-MODIFIED:20260102T200619Z
UID:28458-1767898800-1767898800@www.therootsfm.org
SUMMARY:Bluegrass Thursdays w/Tait Kelly @ The Contrarian Concert Hall
DESCRIPTION:Join us every 2nd and 4th Thursday of the month for a night of pickin’\, singin’\, and good company hosted by Tait Kelly! \n7:00–7:45 PM – Enjoy a featured duo set with Tait Kelly and a special guest.  Sam Aubuchon is the special guest for the first show\, January 8th! \n8:00–10:00 PM – The floor opens up for an open bluegrass jam! Bring your instrument\, your voice\, or just come enjoy the music. \nCome be part of the bluegrass community — beginners\, pros\, and fans all welcome!
URL:https://www.therootsfm.org/event/bluegrass-thursdays-w-tait-kelly-the-contrarian-concert-hall/
LOCATION:Contrarian Concert Hall\, 125 East Main St\, Festus\, MO\, 63028\, United States
END:VEVENT
BEGIN:VEVENT
DTSTART;TZID=America/Chicago:20260108T190000
DTEND;TZID=America/Chicago:20260108T190000
DTSTAMP:20260423T165807
CREATED:20260102T205235Z
LAST-MODIFIED:20260102T205235Z
UID:28459-1767898800-1767898800@www.therootsfm.org
SUMMARY:The Trophy Mules Acoustic @ Stagger Inn
DESCRIPTION:Throughout the course of their musical journey\, The Trophy Mules have won over the hearts of music lovers over the years. Performing at a variety of venues and having their songs played on community radio\, The Trophy Mules have earned the admiration and affection of critics and fans alike.  The Trophy Mules combine rock\, country and folk elements to deliver a distinctive and timeless collection of material that stretches across musical boundaries. \nThe St. Louis band is fronted by Corey Saathoff with Scott Swartz on pedal steel\, Jerrod Gordon on bass\, Josh Kean on guitar\, keyboards and vocals\, and Dave Clark on drums. \nThis will be an acoustic show with Corey Saathoff and Josh Kean. \n 
URL:https://www.therootsfm.org/event/the-trophy-mules-acoustic-stagger-inn/
LOCATION:Stagger Inn\, 104 E Vandalia St\, Edwardsville\, IL\, 62025\, United States
END:VEVENT
BEGIN:VEVENT
DTSTART;TZID=America/Chicago:20260108T193000
DTEND;TZID=America/Chicago:20260108T193000
DTSTAMP:20260423T165807
CREATED:20251224T175056Z
LAST-MODIFIED:20251224T175056Z
UID:28440-1767900600-1767900600@www.therootsfm.org
SUMMARY:Marquise Knox @ City Winery STL
DESCRIPTION:Marquise Knox knows the Blues. Marquise is a Blues phenom that hails from St. Louis\, Missouri. But that’s not all\, with his smooth voice and heartfelt lyrics\, he’s created quite a buzz throughout the world. Performing professionally since 13 and sharing stages with the likes of late greats like B.B. King\, Pinetop Perkins\, David “Honeyboy” Edwards\, and even Billy Gibbons just to name a few. \nAlthough he’s comes from a musical family\, he’s stated that the blues was always in his blood! As a child\, he learned guitar from his grandmother\, Lillie along with his uncle Clifford. These two people were a major influence in his life growing up in his early years. Later being mentored by revered legendary bluesman\, Henry James Townsend\, a foundational figure in St. Louis blues history. \nWhile he’s done a lot since his debut many years ago\, he continues to become a force and has even joined music legends ZZ Top and Cheap Trick on their 50th Anniversary Tour! Marquise continues to perform and play festivals all over showing exactly that he indeed knows the Blues!
URL:https://www.therootsfm.org/event/marquise-knox-city-winery-stl/
LOCATION:City Winery-STL\, 3730 Foundry Way\, St Louis\, MO\, 63110\, United States
END:VEVENT
END:VCALENDAR