BEGIN:VCALENDAR
VERSION:2.0
PRODID:-//TheRoots FM - ECPv6.15.20//NONSGML v1.0//EN
CALSCALE:GREGORIAN
METHOD:PUBLISH
X-WR-CALNAME:TheRoots FM
X-ORIGINAL-URL:https://www.therootsfm.org
X-WR-CALDESC:Events for TheRoots FM
REFRESH-INTERVAL;VALUE=DURATION:PT1H
X-Robots-Tag:noindex
X-PUBLISHED-TTL:PT1H
BEGIN:VTIMEZONE
TZID:America/Chicago
BEGIN:DAYLIGHT
TZOFFSETFROM:-0600
TZOFFSETTO:-0500
TZNAME:CDT
DTSTART:20240310T080000
END:DAYLIGHT
BEGIN:STANDARD
TZOFFSETFROM:-0500
TZOFFSETTO:-0600
TZNAME:CST
DTSTART:20241103T070000
END:STANDARD
BEGIN:DAYLIGHT
TZOFFSETFROM:-0600
TZOFFSETTO:-0500
TZNAME:CDT
DTSTART:20250309T080000
END:DAYLIGHT
BEGIN:STANDARD
TZOFFSETFROM:-0500
TZOFFSETTO:-0600
TZNAME:CST
DTSTART:20251102T070000
END:STANDARD
BEGIN:DAYLIGHT
TZOFFSETFROM:-0600
TZOFFSETTO:-0500
TZNAME:CDT
DTSTART:20260308T080000
END:DAYLIGHT
BEGIN:STANDARD
TZOFFSETFROM:-0500
TZOFFSETTO:-0600
TZNAME:CST
DTSTART:20261101T070000
END:STANDARD
END:VTIMEZONE
BEGIN:VEVENT
DTSTART;TZID=America/Chicago:20251204T200000
DTEND;TZID=America/Chicago:20251204T200000
DTSTAMP:20260423T193804
CREATED:20250829T054516Z
LAST-MODIFIED:20250829T055810Z
UID:28217-1764878400-1764878400@www.therootsfm.org
SUMMARY:Spafford @ Old Rockhouse
DESCRIPTION:  \n \nOn New Year’s Eve in 2009\, guitarist Brian Moss and bassist Jordan Fairless joined up to play a show in their home state of Arizona and ring in a new decade. Moss and Fairless had been playing the same open mic nights and after their first successful joint effort decided to team up and officially form a band: Spafford. After playing shows in their home state\, the pair found themselves on the hunt for a new partner to help them round out their group. They found keyboard player Red Johnson\, and on the following New Year’s Eve asked him to voyage out to Las Vegas. Johnson agreed\, and has been with the band ever since. Now\, with drummer Cameron Laforest\, the band brings their vibrant\, dynamic music to the world at large and pushes the boundaries of what a jam band can be.\nSpafford is known for their astonishing improvisational ability\, which they’ll use to play live off the cuff extended jams. Each song is a blank canvas\, and Spafford paints a picture in real time each night with a musical palette known only to each other. It’s a private language comprised of their talent as musicians\, and of their formidable catalog of influences – ranging from Steely Dan\, to electronic acts like The Crystal Method\, to 90’s alt rock radio hits. Every show is a sonic pilgrimage – the journey of a team of musicians so in tune with each other that a single note communicates intent and purpose.
URL:https://www.therootsfm.org/event/spafford-old-rockhouse/
LOCATION:Old Rock House\, 1200 S 7th St\, St Louis\, Missouri\, 63104\, United States
END:VEVENT
END:VCALENDAR