BEGIN:VCALENDAR
VERSION:2.0
PRODID:-//TheRoots FM - ECPv6.15.20//NONSGML v1.0//EN
CALSCALE:GREGORIAN
METHOD:PUBLISH
X-WR-CALNAME:TheRoots FM
X-ORIGINAL-URL:https://www.therootsfm.org
X-WR-CALDESC:Events for TheRoots FM
REFRESH-INTERVAL;VALUE=DURATION:PT1H
X-Robots-Tag:noindex
X-PUBLISHED-TTL:PT1H
BEGIN:VTIMEZONE
TZID:America/Chicago
BEGIN:DAYLIGHT
TZOFFSETFROM:-0600
TZOFFSETTO:-0500
TZNAME:CDT
DTSTART:20240310T080000
END:DAYLIGHT
BEGIN:STANDARD
TZOFFSETFROM:-0500
TZOFFSETTO:-0600
TZNAME:CST
DTSTART:20241103T070000
END:STANDARD
BEGIN:DAYLIGHT
TZOFFSETFROM:-0600
TZOFFSETTO:-0500
TZNAME:CDT
DTSTART:20250309T080000
END:DAYLIGHT
BEGIN:STANDARD
TZOFFSETFROM:-0500
TZOFFSETTO:-0600
TZNAME:CST
DTSTART:20251102T070000
END:STANDARD
BEGIN:DAYLIGHT
TZOFFSETFROM:-0600
TZOFFSETTO:-0500
TZNAME:CDT
DTSTART:20260308T080000
END:DAYLIGHT
BEGIN:STANDARD
TZOFFSETFROM:-0500
TZOFFSETTO:-0600
TZNAME:CST
DTSTART:20261101T070000
END:STANDARD
END:VTIMEZONE
BEGIN:VEVENT
DTSTART;TZID=America/Chicago:20251104T193000
DTEND;TZID=America/Chicago:20251104T193000
DTSTAMP:20260424T022335
CREATED:20251016T212501Z
LAST-MODIFIED:20251016T212501Z
UID:28287-1762284600-1762284600@www.therootsfm.org
SUMMARY:Boz Scaggs @ The Factory
DESCRIPTION:BOZ SCAGGS is an American singer\, songwriter\, and guitarist. An early bandmate of Steve Miller in The Ardells and the Steve Miller Band\, he began his solo career in 1969\, though he lacked a major hit until his 1976 album Silk Degrees peaked at number 2 on the Billboard 200\, and produced the hit singles “Lido Shuffle” and “Lowdown”. Scaggs produced two more platinum-certified albums in Down Two Then Left and Middle Man\, the latter of which produced two top-40 singles “Breakdown Dead Ahead” and “Jojo”. After a hiatus for most of the 1980s\, he returned to recording and touring in 1988\, joining The New York Rock and Soul Revue and opening the nightclub Slim’s\, a popular San Francisco music venue until it closed in 2020. He has continued to record and tour throughout the 1990s\, 2000s\, and 2010s\, with his most recent album being 2018’s Out of the Blues.
URL:https://www.therootsfm.org/event/boz-scaggs-the-factory/
LOCATION:The Factory\, 17105 North Outer 40 Road\, Chesterfield\, Missouri\, 63005
END:VEVENT
END:VCALENDAR