BEGIN:VCALENDAR
VERSION:2.0
PRODID:-//TheRoots FM - ECPv6.15.20//NONSGML v1.0//EN
CALSCALE:GREGORIAN
METHOD:PUBLISH
X-ORIGINAL-URL:https://www.therootsfm.org
X-WR-CALDESC:Events for TheRoots FM
REFRESH-INTERVAL;VALUE=DURATION:PT1H
X-Robots-Tag:noindex
X-PUBLISHED-TTL:PT1H
BEGIN:VTIMEZONE
TZID:America/Chicago
BEGIN:DAYLIGHT
TZOFFSETFROM:-0600
TZOFFSETTO:-0500
TZNAME:CDT
DTSTART:20240310T080000
END:DAYLIGHT
BEGIN:STANDARD
TZOFFSETFROM:-0500
TZOFFSETTO:-0600
TZNAME:CST
DTSTART:20241103T070000
END:STANDARD
BEGIN:DAYLIGHT
TZOFFSETFROM:-0600
TZOFFSETTO:-0500
TZNAME:CDT
DTSTART:20250309T080000
END:DAYLIGHT
BEGIN:STANDARD
TZOFFSETFROM:-0500
TZOFFSETTO:-0600
TZNAME:CST
DTSTART:20251102T070000
END:STANDARD
BEGIN:DAYLIGHT
TZOFFSETFROM:-0600
TZOFFSETTO:-0500
TZNAME:CDT
DTSTART:20260308T080000
END:DAYLIGHT
BEGIN:STANDARD
TZOFFSETFROM:-0500
TZOFFSETTO:-0600
TZNAME:CST
DTSTART:20261101T070000
END:STANDARD
END:VTIMEZONE
BEGIN:VEVENT
DTSTART;TZID=America/Chicago:20251031T200000
DTEND;TZID=America/Chicago:20251031T200000
DTSTAMP:20260424T051339
CREATED:20251026T163237Z
LAST-MODIFIED:20251026T163237Z
UID:28296-1761940800-1761940800@www.therootsfm.org
SUMMARY:Jake's Leg: One More Halloween Night @ Old Rockhouse
DESCRIPTION:Deadheads in St. Louis know Jake’s Leg.  The band has been providing music for the scene for 49 years\, playing thousands of shows to generations of like-minded fans who just wanna keep on dancin’.  It’s not The Grateful Dead and it’s not supposed to be. While they draw mainly on the repertoire of America’s favorite psychedelic blues-rock jug band\, Jake’s Leg naturally bring their own sensibilities to each part. The introspective singer-songwriter\, the jazz stylings of an improvising soloist\, rock-solid dance grooves\, mind-bending jams: all are in play at their shows. The music can take you anywhere you want to go. And with their long-term unity and very capable musicianship\, Jake’s Leg makes it a great-sounding trip. \nThe band knows that the audience is an integral part of each show. People leave their troubles at the door and get down together in a celebration of life. The audience members come in all ages and from every background\, each bringing their own energy to the experience. The band and their audience have an on-going dialogue based in their mutual love of the music. It isn’t planned; it just happens.  If you’re a fan of the songs of The Grateful Dead\, do yourself a favor and see Jake’s Leg. Your friends are there\, and the music never stops. \nDoors: 7pm | Show: 8pm\nAll ages show – $2 cash surcharge for minors at the door
URL:https://www.therootsfm.org/event/jakes-leg-one-more-halloween-night-old-rockhouse/
LOCATION:Old Rock House\, 1200 S 7th St\, St Louis\, Missouri\, 63104\, United States
END:VEVENT
END:VCALENDAR