BEGIN:VCALENDAR
VERSION:2.0
PRODID:-//TheRoots FM - ECPv6.15.20//NONSGML v1.0//EN
CALSCALE:GREGORIAN
METHOD:PUBLISH
X-WR-CALNAME:TheRoots FM
X-ORIGINAL-URL:https://www.therootsfm.org
X-WR-CALDESC:Events for TheRoots FM
REFRESH-INTERVAL;VALUE=DURATION:PT1H
X-Robots-Tag:noindex
X-PUBLISHED-TTL:PT1H
BEGIN:VTIMEZONE
TZID:America/Chicago
BEGIN:DAYLIGHT
TZOFFSETFROM:-0600
TZOFFSETTO:-0500
TZNAME:CDT
DTSTART:20240310T080000
END:DAYLIGHT
BEGIN:STANDARD
TZOFFSETFROM:-0500
TZOFFSETTO:-0600
TZNAME:CST
DTSTART:20241103T070000
END:STANDARD
BEGIN:DAYLIGHT
TZOFFSETFROM:-0600
TZOFFSETTO:-0500
TZNAME:CDT
DTSTART:20250309T080000
END:DAYLIGHT
BEGIN:STANDARD
TZOFFSETFROM:-0500
TZOFFSETTO:-0600
TZNAME:CST
DTSTART:20251102T070000
END:STANDARD
BEGIN:DAYLIGHT
TZOFFSETFROM:-0600
TZOFFSETTO:-0500
TZNAME:CDT
DTSTART:20260308T080000
END:DAYLIGHT
BEGIN:STANDARD
TZOFFSETFROM:-0500
TZOFFSETTO:-0600
TZNAME:CST
DTSTART:20261101T070000
END:STANDARD
END:VTIMEZONE
BEGIN:VEVENT
DTSTART;TZID=America/Chicago:20251023T200000
DTEND;TZID=America/Chicago:20251023T200000
DTSTAMP:20260424T034554
CREATED:20250920T181924Z
LAST-MODIFIED:20250920T181924Z
UID:28253-1761249600-1761249600@www.therootsfm.org
SUMMARY:moe. @ The Pageant
DESCRIPTION:Thirty-five years ago\, a posse of University of Buffalo-based musician-friends got together to play music. Out of freewheeling sessions bursting with bold\, genre-defying creativity and tongue-in-cheek humor\, a 6-headed monster named moe. emerged. \nDecades later\, moe.’s tireless work ethic\, DIY resourcefulness\, infectious songwriting\, and highly-engaged fanbase—the Famoe.ly—have enabled the sextet to earn a successful career. Yet\, the guys have never rested on their laurels as “jam band pioneers.” They average 100 shows per year\, and regularly release vital new music\, including the band’s latest album\, Circle of Giants (ATO)\, its 13th release. \nmoe. is a brotherhood\, featuring bassist/vocalist Rob Derhak\, guitarist/vocalist/keyboardist Al Schnier\, guitarist/vocalist Chuck Garvey\, drummer Vinnie Amico\, percussionist/vibraphonist Jim Loughlin\, and keyboardist Nate Wilson. The six-piece band came up in the primordial pouch of the early jam band scene\, alongside Blues Traveler\, Spin Doctors\, Widespread Panic\, and Phish. \nLauded by American Songwriter for its “mind-bending musicality\,” moe. is beloved for its sonic adventurousness\, unbridled showmanship\, and its witty and insightful songwriting. NYS Music has said: “moe. has redefined what’s possible within the genre\, leaving a lasting impact and challenging listeners to rethink the limits of musical expression.” \nSince releasing its foundational album\, Fatboy\, in 1992\, moe. has issued a vast and varied series of now-classic records. Select studio album highlights include 1998’s Tin Cans & Car Tires; 2004’s Wormwood; 2007’s The Conch (which reached #1 on Billboard’s “Heatseekers” chart); and 2012’s critically acclaimed What Happened To The La Las.
URL:https://www.therootsfm.org/event/moe-the-pageant/
LOCATION:The Pageant\, 6161 Delmar Blvd\, St. Louis\, MO\, 63112\, United States
END:VEVENT
BEGIN:VEVENT
DTSTART;TZID=America/Chicago:20251023T200000
DTEND;TZID=America/Chicago:20251023T200000
DTSTAMP:20260424T034554
CREATED:20251015T195914Z
LAST-MODIFIED:20251015T195914Z
UID:28284-1761249600-1761249600@www.therootsfm.org
SUMMARY:Randy Rogers Band @ The Sovereign
DESCRIPTION:Camaraderie and creativity have made Rogers and bandmates Geoffrey Hill (guitar)\, Johnny “Chops” Richardson (bass guitar)\, Brady Black (fiddle)\, Les Lawless (drums) and Todd Stewart (utility player) one of the top bands on the competitive Texas music scene. \nA native of Cleburne\, Texas\, Rogers grew up addicted to traditional country music. “I wanted to be George Strait when I was in the sixth grade\,” he says with a smile. “And I grew up listening to Willie Nelson and Merle Haggard\, I’ve listened to them more than anybody else\, my whole life. I always liked songs. I always wanted to find out who wrote the songs and what the songs were about. I always liked the art and the craft of being a songwriter. \n“You come to a show\, you know what you’re going to get\,” Rogers says. “We’ve worked hard at making ourselves better on stage and we care about our live show. It’s a way to come out and unwind\, and we’ve stuck to writing songs that are about real life\, about breakups or divorces\, falling in love or babies being born\, the ups and downs of life. People can relate. That’s what country music is supposed to be. Our band has been around for a long time because there’s no bullshit to us. We’re not in it to be rich and famous. We’re in it to make a living\, provide for our families and do something that we all love. You can’t fool people and we haven’t ever tried. I think that’s the key.”
URL:https://www.therootsfm.org/event/randy-rogers-band-the-sovereign/
LOCATION:The Sovereign\, 3300 Washington Ave\, St Louis\, MO\, 63103\, United States
END:VEVENT
END:VCALENDAR