BEGIN:VCALENDAR
VERSION:2.0
PRODID:-//TheRoots FM - ECPv6.15.20//NONSGML v1.0//EN
CALSCALE:GREGORIAN
METHOD:PUBLISH
X-ORIGINAL-URL:https://www.therootsfm.org
X-WR-CALDESC:Events for TheRoots FM
REFRESH-INTERVAL;VALUE=DURATION:PT1H
X-Robots-Tag:noindex
X-PUBLISHED-TTL:PT1H
BEGIN:VTIMEZONE
TZID:America/Chicago
BEGIN:DAYLIGHT
TZOFFSETFROM:-0600
TZOFFSETTO:-0500
TZNAME:CDT
DTSTART:20240310T080000
END:DAYLIGHT
BEGIN:STANDARD
TZOFFSETFROM:-0500
TZOFFSETTO:-0600
TZNAME:CST
DTSTART:20241103T070000
END:STANDARD
BEGIN:DAYLIGHT
TZOFFSETFROM:-0600
TZOFFSETTO:-0500
TZNAME:CDT
DTSTART:20250309T080000
END:DAYLIGHT
BEGIN:STANDARD
TZOFFSETFROM:-0500
TZOFFSETTO:-0600
TZNAME:CST
DTSTART:20251102T070000
END:STANDARD
BEGIN:DAYLIGHT
TZOFFSETFROM:-0600
TZOFFSETTO:-0500
TZNAME:CDT
DTSTART:20260308T080000
END:DAYLIGHT
BEGIN:STANDARD
TZOFFSETFROM:-0500
TZOFFSETTO:-0600
TZNAME:CST
DTSTART:20261101T070000
END:STANDARD
END:VTIMEZONE
BEGIN:VEVENT
DTSTART;TZID=America/Chicago:20251021T200000
DTEND;TZID=America/Chicago:20251021T200000
DTSTAMP:20260424T075857
CREATED:20250829T050451Z
LAST-MODIFIED:20250829T052042Z
UID:28212-1761076800-1761076800@www.therootsfm.org
SUMMARY:Grateful Shred @ Old Rockhouse
DESCRIPTION:Founded one night in 2016\, the band came about almost by accident. Singer/guitarist Austin McCutchen had a residency at The Griffin in Atwater Village; his band was out of town\, so he drafted some friends to play a set of Dead covers\, and the four founding members (Austin\, Sam\, Clay\, and Dan) have been together ever since. Sam Blasucci and Clay Finch (of country-folk revivalists Mapache) handle vocal and guitar duties\, rounded out by bassist Dan Horne (of Cass McCombs\, Jonathan Wilson\, and the estimable Circles Around The Sun\, who provided the incidental music for 2015’s “Fare Thee Well” concerts\, the last shows played by the living members of the Dead ). Add a rotating cast of drummers (like Richard Gowen of he Growler) and keyboardists (like Lee Pardini of Dawes and Jerry Borgé of Ziggy Marley)\, and you’ve got the essential formula. Far from being a historical re-enactment\, Grateful Shred’s laissez faire vibe infuses the band with a gentle spirit\, warmth\, and (dare we say it) authenticity.
URL:https://www.therootsfm.org/event/grateful-shred-old-rockhouse/
LOCATION:Old Rock House\, 1200 S 7th St\, St Louis\, Missouri\, 63104\, United States
END:VEVENT
END:VCALENDAR