BEGIN:VCALENDAR
VERSION:2.0
PRODID:-//TheRoots FM - ECPv6.15.20//NONSGML v1.0//EN
CALSCALE:GREGORIAN
METHOD:PUBLISH
X-WR-CALNAME:TheRoots FM
X-ORIGINAL-URL:https://www.therootsfm.org
X-WR-CALDESC:Events for TheRoots FM
REFRESH-INTERVAL;VALUE=DURATION:PT1H
X-Robots-Tag:noindex
X-PUBLISHED-TTL:PT1H
BEGIN:VTIMEZONE
TZID:America/Chicago
BEGIN:DAYLIGHT
TZOFFSETFROM:-0600
TZOFFSETTO:-0500
TZNAME:CDT
DTSTART:20240310T080000
END:DAYLIGHT
BEGIN:STANDARD
TZOFFSETFROM:-0500
TZOFFSETTO:-0600
TZNAME:CST
DTSTART:20241103T070000
END:STANDARD
BEGIN:DAYLIGHT
TZOFFSETFROM:-0600
TZOFFSETTO:-0500
TZNAME:CDT
DTSTART:20250309T080000
END:DAYLIGHT
BEGIN:STANDARD
TZOFFSETFROM:-0500
TZOFFSETTO:-0600
TZNAME:CST
DTSTART:20251102T070000
END:STANDARD
BEGIN:DAYLIGHT
TZOFFSETFROM:-0600
TZOFFSETTO:-0500
TZNAME:CDT
DTSTART:20260308T080000
END:DAYLIGHT
BEGIN:STANDARD
TZOFFSETFROM:-0500
TZOFFSETTO:-0600
TZNAME:CST
DTSTART:20261101T070000
END:STANDARD
END:VTIMEZONE
BEGIN:VEVENT
DTSTART;TZID=America/Chicago:20251003T200000
DTEND;TZID=America/Chicago:20251004T200000
DTSTAMP:20260424T075445
CREATED:20250908T200358Z
LAST-MODIFIED:20250908T200358Z
UID:28224-1759521600-1759608000@www.therootsfm.org
SUMMARY:Blood Brothers @ Wildey Theatre
DESCRIPTION:Blood Brothers ft. Mike Zito & Albert Castiglia are bringing the CD Release Party for our brand-new album “Help Yourself” to The Wildey Theatre in Edwardsville\, IL\, Friday\, October 3 & Saturday\, October 4!  This will be a special blues celebration you don’t want to miss – two nights of brotherhood\, guitar fireworks\, and brand-new music!\n\n\nThe dynamic duo of guitarists\, Mike Zito and Albert Castiglia\, have come together to create the super-group “Blood Brothers”.  For over 45 years combined in the music business\, their musical journeys have paved their way in the Blues and Roots genre and have provided them with experience and life lessons.  Nine-time Blues Music Award Winner Mike Zito\, and five-time BMA winner Albert Castiglia have each won awards in the Blues Rock Artist of the Year category as well as the BMA for Blues Rock Album of the Year for their independent works.  With both artists on the exciting Gulf Coast Records label\, it only made sense for them to join forces and give the fans what they’ve been clamoring for: Blood Brothers.  In 2024\, their Blood Brothers debut album\, produced by Joe Bonamassa and Josh Smith\, won the Blues Music Award for Blues Rock Album of the Year. In November 2023\, Zito and Castiglia released Blood Brothers: Live in Canada\, an album with perfectly captures all the excitement and blues/rock energy created by the two during a recent tour.   Mike Zito and Albert Castiglia are true “Blood Brothers” in life and in the music\, they have created both individually and collectively\, joining forces in a collaborative effort of songwriting and high-energy performances to create a total listening experience greater than the sum of its parts.
URL:https://www.therootsfm.org/event/blood-brothers-wildey-theatre/
LOCATION:Wildey Theatre\, 252 N. Main St.\, Edwardsville\, IL\, 62025\, United States
END:VEVENT
BEGIN:VEVENT
DTSTART;TZID=America/Chicago:20251004T110000
DTEND;TZID=America/Chicago:20251004T200000
DTSTAMP:20260424T075445
CREATED:20250817T163428Z
LAST-MODIFIED:20250918T205142Z
UID:28187-1759575600-1759608000@www.therootsfm.org
SUMMARY:RudeFest 2 @ 4 Hands Brewing Company
DESCRIPTION:RUDEFEST IS BACK! – FREE ADMISSION! – ALL AGES! \nThis year will have over 30 local vendors curating their magic for this special event\, as well as several food options (vegan as well) to enjoy some tasty bites! Mozzarella stick special anyone? \nLineup features 10 bands – The Operators\, Courtesy of Tim\, The HotRails\, RumLuck\, The Skatatonics\, Tree One Four\, Murder City Players\, Big Time Scottie\, Rat Party Dilemma & Rumorhasit.\nPlus\, DJ support by Bluebeat Collective\, Crude Boys Sound System and Brick City Sound System.  Spinning all day for you to rest in the AC in the DJ lounge upstairs (Handicap accessible).
URL:https://www.therootsfm.org/event/rudefest-2-4-hands-brewing-company/
LOCATION:4 Hands Brewing Co\, 1220 S 8th St\, St Louis\, MO\, 63104\, United States
END:VEVENT
BEGIN:VEVENT
DTSTART;TZID=America/Chicago:20251004T183000
DTEND;TZID=America/Chicago:20251004T183000
DTSTAMP:20260424T075445
CREATED:20250813T200521Z
LAST-MODIFIED:20250813T225003Z
UID:28124-1759602600-1759602600@www.therootsfm.org
SUMMARY:The Liston Brothers w/Anthology @ The Pageant
DESCRIPTION:Celebrating 22 Years of Performing at The Pageant\, featuring Pat Liston\, Danny Liston & The Liston Brothers Band! \nPat and Danny last shared the stage together in 2013 as MAMA’s PRIDE on the ‘The Midwest Express Tour’ with STYX\, REO\, Ted Nugent  & MAMA’s PRIDE at Verizon Amphitheater. \nSince then\, Pat and Danny both have pursued solo and band projects separately.  It was time\, they decided to take another go of it and collaborate on a project together\, since the last time they had done so\, was in ’92 with the ‘Guard Your Heart’ CD. \nHow to merge their two very unique sounds and styles\, was going to be a challenge\, especially at this stage of both their careers and lives.  It had been too long\, to just wing it\, as they did in their younger years.  So\, when you’re not sure how to go about the task of merging and blending 2 very different artist\, you go back and visit your roots.  What  inspired them as young artist and moved them\, then go forward from there.  To let this unique sound develop over time.  Thus\, the idea of ‘The LISTON BROTHERS’ was born.
URL:https://www.therootsfm.org/event/the-liston-brothers-w-anthology-the-pageant/
LOCATION:The Pageant\, 6161 Delmar Blvd\, St. Louis\, MO\, 63112\, United States
END:VEVENT
END:VCALENDAR