BEGIN:VCALENDAR
VERSION:2.0
PRODID:-//TheRoots FM - ECPv6.15.20//NONSGML v1.0//EN
CALSCALE:GREGORIAN
METHOD:PUBLISH
X-ORIGINAL-URL:https://www.therootsfm.org
X-WR-CALDESC:Events for TheRoots FM
REFRESH-INTERVAL;VALUE=DURATION:PT1H
X-Robots-Tag:noindex
X-PUBLISHED-TTL:PT1H
BEGIN:VTIMEZONE
TZID:America/Chicago
BEGIN:DAYLIGHT
TZOFFSETFROM:-0600
TZOFFSETTO:-0500
TZNAME:CDT
DTSTART:20240310T080000
END:DAYLIGHT
BEGIN:STANDARD
TZOFFSETFROM:-0500
TZOFFSETTO:-0600
TZNAME:CST
DTSTART:20241103T070000
END:STANDARD
BEGIN:DAYLIGHT
TZOFFSETFROM:-0600
TZOFFSETTO:-0500
TZNAME:CDT
DTSTART:20250309T080000
END:DAYLIGHT
BEGIN:STANDARD
TZOFFSETFROM:-0500
TZOFFSETTO:-0600
TZNAME:CST
DTSTART:20251102T070000
END:STANDARD
BEGIN:DAYLIGHT
TZOFFSETFROM:-0600
TZOFFSETTO:-0500
TZNAME:CDT
DTSTART:20260308T080000
END:DAYLIGHT
BEGIN:STANDARD
TZOFFSETFROM:-0500
TZOFFSETTO:-0600
TZNAME:CST
DTSTART:20261101T070000
END:STANDARD
END:VTIMEZONE
BEGIN:VEVENT
DTSTART;TZID=America/Chicago:20250928T150000
DTEND;TZID=America/Chicago:20250928T150000
DTSTAMP:20260424T172512
CREATED:20250918T212921Z
LAST-MODIFIED:20250918T212921Z
UID:28249-1759071600-1759071600@www.therootsfm.org
SUMMARY:Shakedown Sunday w/Jake's Leg @ Jefferson Barracks Amphitheater
DESCRIPTION:It’s not The Grateful Dead and it’s not supposed to be.  While they draw mainly on the repertoire of America’s favorite psychedelic blues-rock jug band\, Jake’s Leg naturally bring their own sensibilities to each part.  The introspective singer-songwriter\, the jazz stylings of an improvising soloist\, rock-solid dance grooves\, mind-bending jams:  all are in play at their shows. The music can take you anywhere you want to go.  And with their long-term unity and very capable musicianship\, Jake’s Leg makes it a great-sounding trip. \nStarted as a duo by guitarists and vocalists Randy Furrer and Tim Fahy in the mid-1970s\, lead guitarist Dave Casper soon joined the fold. Players were added and the music grew; friends came and went.  Bassist Joe Trunko came on board in 1990\, followed in 1991 by keyboardist Bill Noltkamper\, completing the core four that have been playing and singing together for the past 26 years. Ryan Wilhite\, after a short stint as percussionist\, took over the drum kit in 2005.  The sum of this is one of the longest-lasting bands in the country that plays a whole lot of your favorite songs\, and you’ll find them playing in and around St. Louis. \nIf you’re a fan of the songs of The Grateful Dead\, do yourself a favor and see Jake’s Leg.  Your friends are there\, and the music never stops.
URL:https://www.therootsfm.org/event/shakedown-sunday-w-jakes-leg-jefferson-barracks-amphitheater/
LOCATION:Jefferson Barracks Amphitheater\, 533 Bagby Road\, St. Louis\, MO\, 63125\, United States
END:VEVENT
END:VCALENDAR