BEGIN:VCALENDAR
VERSION:2.0
PRODID:-//TheRoots FM - ECPv6.15.20//NONSGML v1.0//EN
CALSCALE:GREGORIAN
METHOD:PUBLISH
X-WR-CALNAME:TheRoots FM
X-ORIGINAL-URL:https://www.therootsfm.org
X-WR-CALDESC:Events for TheRoots FM
REFRESH-INTERVAL;VALUE=DURATION:PT1H
X-Robots-Tag:noindex
X-PUBLISHED-TTL:PT1H
BEGIN:VTIMEZONE
TZID:America/Chicago
BEGIN:DAYLIGHT
TZOFFSETFROM:-0600
TZOFFSETTO:-0500
TZNAME:CDT
DTSTART:20240310T080000
END:DAYLIGHT
BEGIN:STANDARD
TZOFFSETFROM:-0500
TZOFFSETTO:-0600
TZNAME:CST
DTSTART:20241103T070000
END:STANDARD
BEGIN:DAYLIGHT
TZOFFSETFROM:-0600
TZOFFSETTO:-0500
TZNAME:CDT
DTSTART:20250309T080000
END:DAYLIGHT
BEGIN:STANDARD
TZOFFSETFROM:-0500
TZOFFSETTO:-0600
TZNAME:CST
DTSTART:20251102T070000
END:STANDARD
BEGIN:DAYLIGHT
TZOFFSETFROM:-0600
TZOFFSETTO:-0500
TZNAME:CDT
DTSTART:20260308T080000
END:DAYLIGHT
BEGIN:STANDARD
TZOFFSETFROM:-0500
TZOFFSETTO:-0600
TZNAME:CST
DTSTART:20261101T070000
END:STANDARD
END:VTIMEZONE
BEGIN:VEVENT
DTSTART;TZID=America/Chicago:20250927T193000
DTEND;TZID=America/Chicago:20250927T193000
DTSTAMP:20260424T132012
CREATED:20250813T211739Z
LAST-MODIFIED:20250814T035553Z
UID:28130-1759001400-1759001400@www.therootsfm.org
SUMMARY:The Holy Friars - Celebrating the Music of George Harrison @ Kirkwood Performing Arts Center
DESCRIPTION:An Evening with The Holy Friars\nCelebrating the Music of George Harrison \nJoin The Holy Friars for an unforgettable tribute to the quiet Beatle\, George Harrison. With heartfelt vocals and rich\, authentic arrangements\, this acclaimed ensemble explores the depth and brilliance of Harrison’s legendary songwriting—from his groundbreaking Beatles classics to his soulful solo masterpieces. An Evening with The Holy Friars is a moving celebration of one of rock’s most influential and spiritual artists. Come experience the timeless music and enduring legacy of George Harrison in a night of pure musical magic.
URL:https://www.therootsfm.org/event/the-holy-friars-celebrating-the-music-of-george-harrison-kirkwood-performing-arts-center/
LOCATION:Kirkwood Performing Arts Center KPAC\, 210 E Monroe Ave\, Kirkwood\, MO\, MO\, 63122\, United States
END:VEVENT
END:VCALENDAR