BEGIN:VCALENDAR
VERSION:2.0
PRODID:-//TheRoots FM - ECPv6.15.20//NONSGML v1.0//EN
CALSCALE:GREGORIAN
METHOD:PUBLISH
X-WR-CALNAME:TheRoots FM
X-ORIGINAL-URL:https://www.therootsfm.org
X-WR-CALDESC:Events for TheRoots FM
REFRESH-INTERVAL;VALUE=DURATION:PT1H
X-Robots-Tag:noindex
X-PUBLISHED-TTL:PT1H
BEGIN:VTIMEZONE
TZID:America/Chicago
BEGIN:DAYLIGHT
TZOFFSETFROM:-0600
TZOFFSETTO:-0500
TZNAME:CDT
DTSTART:20240310T080000
END:DAYLIGHT
BEGIN:STANDARD
TZOFFSETFROM:-0500
TZOFFSETTO:-0600
TZNAME:CST
DTSTART:20241103T070000
END:STANDARD
BEGIN:DAYLIGHT
TZOFFSETFROM:-0600
TZOFFSETTO:-0500
TZNAME:CDT
DTSTART:20250309T080000
END:DAYLIGHT
BEGIN:STANDARD
TZOFFSETFROM:-0500
TZOFFSETTO:-0600
TZNAME:CST
DTSTART:20251102T070000
END:STANDARD
BEGIN:DAYLIGHT
TZOFFSETFROM:-0600
TZOFFSETTO:-0500
TZNAME:CDT
DTSTART:20260308T080000
END:DAYLIGHT
BEGIN:STANDARD
TZOFFSETFROM:-0500
TZOFFSETTO:-0600
TZNAME:CST
DTSTART:20261101T070000
END:STANDARD
END:VTIMEZONE
BEGIN:VEVENT
DTSTART;TZID=America/Chicago:20250919T190000
DTEND;TZID=America/Chicago:20250919T190000
DTSTAMP:20260424T075740
CREATED:20250918T185146Z
LAST-MODIFIED:20250918T205318Z
UID:28241-1758308400-1758308400@www.therootsfm.org
SUMMARY:The Trophy Mules @ Webster Groves Garden Cafe
DESCRIPTION:Throughout the course of their musical journey\, The Trophy Mules have won over the hearts of music lovers throughout the St. Louis area. Performing at a variety of venues and having their songs played on community radio\, The Trophy Mules have earned the admiration and affection of critics and fans alike. \nThe band’s musical style is a rich tapestry that weaves together elements of rock\, country\, and folk\, creating a sound that is both fresh and deeply rooted in musical tradition. Fronted by Corey Saathoff\, the Trophy Mules have become synonymous with stellar musical craftsmanship and engaging live performances.  The Trophy Mules band consists of talented members who bring their unique expertise to the table\, including Scott Swartz on pedal steel\, Jerrod Gordon on bass\, Josh Kean on guitar\, keyboards\, and vocals\, and Dave Clark on drums. This lineup solidifies the band’s reputation for delivering captivating live performances that are both authentic and heartfelt. \nBeyond their musical achievements\, the Trophy Mules have shared the stage with renowned acts such as Shooter Jennings\, Chris Knight\, and Wayne “The Train” Hancock\, among others. These experiences have not only enriched their musical journey but also positioned them as a must-see act in the diverse world of music.
URL:https://www.therootsfm.org/event/the-trophy-mules-webster-groves-garden-cafe/
LOCATION:Webster Groves Garden Cafe\, 117 E Lockwood Ave\, Webster Groves\, MO\, 63119\, United States
END:VEVENT
BEGIN:VEVENT
DTSTART;TZID=America/Chicago:20250919T200000
DTEND;TZID=America/Chicago:20250919T200000
DTSTAMP:20260424T075740
CREATED:20250908T192422Z
LAST-MODIFIED:20250908T204604Z
UID:28222-1758312000-1758312000@www.therootsfm.org
SUMMARY:Cimmaron 615 @ Wildey Theatre
DESCRIPTION:  \n \nYou’d be hard-pressed to find a band with a more impressive collective resume than Cimarron 615. \nThe quartet — just releasing its second\, self-titled album — is a hall of fame-caliber assemblage\, with credits that look like a who’s-who of Americana\, country and rock history. “We’ve all been around a long time and done a lot of work — and a lot of it together\,” notes drummer Rick Lonow. “There’s history here.” \nWhere the four musicians intersect is via the famed country-rock band Poco. Lonow and Jack Sundrud were its longtime rhythm section until the band ceased when co-founder Rusty Young died in 2021. Michael Webb played in the band for eight years\, while Ronnie Guilbeau co-wrote Poco’s 1989 Top 20 single “Call It Love” with Lonow. Webb and Sundrud co-produced Poco’s All Fired Up album in 2013\, and Lonow\, Webb and Sundrud played on Young’s 2017 solo album\, Waitin’ for the Sun. \nThen there are the individual credits\, which include many path-crossings with each other over the years. Lonow’s discography includes albums for Johnny Cash and June Carter Cash\, Loretta Lynn\, Nanci Griffith\, “Cowboy” Jack Clement\, Ryan Bingham and many more\, has toured with the Bellamy Brothers\, and was part of the all-star Burrito Deluxe. Webb played on iconic albums by Chris Stapleton\, John Prine\, Mark Germino and others\, as well as hitting the road with John Fogerty and Hank Williams\, Jr.; he was also part of the all-star Brooklyn Cowboys. Sundrud played with Dickie Betts\, Vince Gill\, and Nicolette Larson\, and formed the group Great Plains. And Guilbeau — who\, like Sundrud\, worked in the California country-rock scene before moving to Nashville — was part of the bands Palomino Road and GYG. \nCimarron 615 came to be after Young’s death\, when Blue Elan Records chief Kirk Pasich organized a tribute concert and album and brought Sundrud\, Webb and Lonow together in Los Angeles as part of a house band for several projects – and heard the potential for more. Guilbeau rounded out the line-up in 2023. \n 
URL:https://www.therootsfm.org/event/cimmaron-615-wildey-theatre/
LOCATION:Wildey Theatre\, 252 N. Main St.\, Edwardsville\, IL\, 62025\, United States
END:VEVENT
END:VCALENDAR