BEGIN:VCALENDAR
VERSION:2.0
PRODID:-//TheRoots FM - ECPv6.15.20//NONSGML v1.0//EN
CALSCALE:GREGORIAN
METHOD:PUBLISH
X-ORIGINAL-URL:https://www.therootsfm.org
X-WR-CALDESC:Events for TheRoots FM
REFRESH-INTERVAL;VALUE=DURATION:PT1H
X-Robots-Tag:noindex
X-PUBLISHED-TTL:PT1H
BEGIN:VTIMEZONE
TZID:America/Chicago
BEGIN:DAYLIGHT
TZOFFSETFROM:-0600
TZOFFSETTO:-0500
TZNAME:CDT
DTSTART:20240310T080000
END:DAYLIGHT
BEGIN:STANDARD
TZOFFSETFROM:-0500
TZOFFSETTO:-0600
TZNAME:CST
DTSTART:20241103T070000
END:STANDARD
BEGIN:DAYLIGHT
TZOFFSETFROM:-0600
TZOFFSETTO:-0500
TZNAME:CDT
DTSTART:20250309T080000
END:DAYLIGHT
BEGIN:STANDARD
TZOFFSETFROM:-0500
TZOFFSETTO:-0600
TZNAME:CST
DTSTART:20251102T070000
END:STANDARD
BEGIN:DAYLIGHT
TZOFFSETFROM:-0600
TZOFFSETTO:-0500
TZNAME:CDT
DTSTART:20260308T080000
END:DAYLIGHT
BEGIN:STANDARD
TZOFFSETFROM:-0500
TZOFFSETTO:-0600
TZNAME:CST
DTSTART:20261101T070000
END:STANDARD
END:VTIMEZONE
BEGIN:VEVENT
DTSTART;TZID=America/Chicago:20250905T190000
DTEND;TZID=America/Chicago:20250905T190000
DTSTAMP:20260424T172522
CREATED:20250716T205714Z
LAST-MODIFIED:20250813T222241Z
UID:28048-1757098800-1757098800@www.therootsfm.org
SUMMARY:Rockin' Chair @ Kirkwood Performing Arts Center
DESCRIPTION:Rockin’ Chair – A Tribute to the Legendary Artists of Laurel Canyon \nRockin’ Chair is a St. Louis-based ensemble formed in 2009\, dedicated to authentically recreating the iconic sounds of the late 1960s and early 1970s Laurel Canyon music scene. This 13-member band brings to life the rich harmonies and timeless melodies of artists such as Crosby\, Stills\, Nash & Young\, The Eagles\, Joni Mitchell\, Jackson Browne\, and more. \nTheir tribute show\, A Tribute to the Legendary Artists of Laurel Canyon\, has been performed at premier venues across the St. Louis area\, including The Grandel Theatre\, Kirkwood Performing Arts Center\, and The Pageant. With meticulous attention to musical detail and a deep reverence for the era\, Rockin’ Chair offers audiences an immersive journey through a pivotal chapter in American music history. \nWhether performing hits from Buffalo Springfield or the soulful tunes of Dan Fogelberg\, Rockin’ Chair captures the spirit and sound of a generation\, making them a standout act for fans of classic rock and folk music alike.
URL:https://www.therootsfm.org/event/rockin-chair-kirkwood-performing-arts-center/
LOCATION:Kirkwood Performing Arts Center KPAC\, 210 E Monroe Ave\, Kirkwood\, MO\, MO\, 63122\, United States
END:VEVENT
BEGIN:VEVENT
DTSTART;TZID=America/Chicago:20250905T200000
DTEND;TZID=America/Chicago:20250905T200000
DTSTAMP:20260424T172522
CREATED:20250813T192153Z
LAST-MODIFIED:20250813T222025Z
UID:28120-1757102400-1757102400@www.therootsfm.org
SUMMARY:Black Magic: The Santana Experience & Gipsy Social @ Atomic Pavillion
DESCRIPTION:A powerful tribute to guitar legend Carlos Santana\, blending: \n\nAfrican-inspired rhythms\nBluesy organ grooves\nMelodic guitar played straight from the heart\n\nFeaturing 50+ years of iconic hits: \n\n“Black Magic Woman”\n“Oye Como Va”\n“Europa”\, “Samba Pa Ti”\n“Smooth”\, “Maria Maria”\n\nExpect an energetic\, soulful show that stays true to Santana’s legendary live sound.\nDon’t miss this unforgettable night at Atomic. \n 
URL:https://www.therootsfm.org/event/black-magic-the-santana-experience-gipsy-social-atomic-pavillion/
LOCATION:Atomic\, 4140 Manchester Ave\, St. Louis\, MO\, 62110\, United States
END:VEVENT
END:VCALENDAR