BEGIN:VCALENDAR
VERSION:2.0
PRODID:-//TheRoots FM - ECPv6.15.20//NONSGML v1.0//EN
CALSCALE:GREGORIAN
METHOD:PUBLISH
X-WR-CALNAME:TheRoots FM
X-ORIGINAL-URL:https://www.therootsfm.org
X-WR-CALDESC:Events for TheRoots FM
REFRESH-INTERVAL;VALUE=DURATION:PT1H
X-Robots-Tag:noindex
X-PUBLISHED-TTL:PT1H
BEGIN:VTIMEZONE
TZID:America/Chicago
BEGIN:DAYLIGHT
TZOFFSETFROM:-0600
TZOFFSETTO:-0500
TZNAME:CDT
DTSTART:20240310T080000
END:DAYLIGHT
BEGIN:STANDARD
TZOFFSETFROM:-0500
TZOFFSETTO:-0600
TZNAME:CST
DTSTART:20241103T070000
END:STANDARD
BEGIN:DAYLIGHT
TZOFFSETFROM:-0600
TZOFFSETTO:-0500
TZNAME:CDT
DTSTART:20250309T080000
END:DAYLIGHT
BEGIN:STANDARD
TZOFFSETFROM:-0500
TZOFFSETTO:-0600
TZNAME:CST
DTSTART:20251102T070000
END:STANDARD
BEGIN:DAYLIGHT
TZOFFSETFROM:-0600
TZOFFSETTO:-0500
TZNAME:CDT
DTSTART:20260308T080000
END:DAYLIGHT
BEGIN:STANDARD
TZOFFSETFROM:-0500
TZOFFSETTO:-0600
TZNAME:CST
DTSTART:20261101T070000
END:STANDARD
END:VTIMEZONE
BEGIN:VEVENT
DTSTART;TZID=America/Chicago:20250815T200000
DTEND;TZID=America/Chicago:20250815T200000
DTSTAMP:20260425T114025
CREATED:20250721T025926Z
LAST-MODIFIED:20250813T204038Z
UID:28067-1755288000-1755288000@www.therootsfm.org
SUMMARY:Dr Zhivegas @ Old Rock House
DESCRIPTION:
URL:https://www.therootsfm.org/event/dr-zhivegas-old-rock-house/
LOCATION:The Old Rock House\, 1200 South 7th Street\, St. Louis\, MO\, 63104\, United States
END:VEVENT
END:VCALENDAR