BEGIN:VCALENDAR
VERSION:2.0
PRODID:-//TheRoots FM - ECPv6.15.20//NONSGML v1.0//EN
CALSCALE:GREGORIAN
METHOD:PUBLISH
X-WR-CALNAME:TheRoots FM
X-ORIGINAL-URL:https://www.therootsfm.org
X-WR-CALDESC:Events for TheRoots FM
REFRESH-INTERVAL;VALUE=DURATION:PT1H
X-Robots-Tag:noindex
X-PUBLISHED-TTL:PT1H
BEGIN:VTIMEZONE
TZID:America/Chicago
BEGIN:DAYLIGHT
TZOFFSETFROM:-0600
TZOFFSETTO:-0500
TZNAME:CDT
DTSTART:20240310T080000
END:DAYLIGHT
BEGIN:STANDARD
TZOFFSETFROM:-0500
TZOFFSETTO:-0600
TZNAME:CST
DTSTART:20241103T070000
END:STANDARD
BEGIN:DAYLIGHT
TZOFFSETFROM:-0600
TZOFFSETTO:-0500
TZNAME:CDT
DTSTART:20250309T080000
END:DAYLIGHT
BEGIN:STANDARD
TZOFFSETFROM:-0500
TZOFFSETTO:-0600
TZNAME:CST
DTSTART:20251102T070000
END:STANDARD
BEGIN:DAYLIGHT
TZOFFSETFROM:-0600
TZOFFSETTO:-0500
TZNAME:CDT
DTSTART:20260308T080000
END:DAYLIGHT
BEGIN:STANDARD
TZOFFSETFROM:-0500
TZOFFSETTO:-0600
TZNAME:CST
DTSTART:20261101T070000
END:STANDARD
END:VTIMEZONE
BEGIN:VEVENT
DTSTART;VALUE=DATE:20250808
DTEND;VALUE=DATE:20250811
DTSTAMP:20260425T154930
CREATED:20250804T144207Z
LAST-MODIFIED:20250804T151308Z
UID:28082-1754611200-1754870399@www.therootsfm.org
SUMMARY:Blues at the Arch – Arch grounds Free Concerts Aug 8-10
DESCRIPTION:Friday\, August 8 \n5:30 – 6:30 pm: The Women of Blues ft. Uvee Hayes & Special Guest\n7:00 – 8:00 pm: Dylan Triplett\nSaturday\, August 9  \n12:00 pm: House Music\n12:30 pm: Welcome\n1:00 – 2:00 pm: Myles Lacey\n2:30 – 3:30 pm: Interactive Line Dancing Performance w/ The SlideShow STL\n4:00 – 5:00 pm: Keeshea Pratt Band\n5:30 – 6:30 pm: Skeet Rodgers\n7:00 – 8:00 pm: Dexter Allen\nSunday\, August 10 \n12:30 – 1:30 pm: Jazz St. Louis Presents: An Afternoon with Anita Jackson\n2:00 – 4:00 pm: Mr. Sipp
URL:https://www.therootsfm.org/event/blues-at-the-arch-arch-grounds-free-concerts-aug-8-10/
LOCATION:St. Louis Arch Grounds\, St. Louis\, MO\, United States
END:VEVENT
END:VCALENDAR