BEGIN:VCALENDAR
VERSION:2.0
PRODID:-//TheRoots FM - ECPv6.15.20//NONSGML v1.0//EN
CALSCALE:GREGORIAN
METHOD:PUBLISH
X-ORIGINAL-URL:https://www.therootsfm.org
X-WR-CALDESC:Events for TheRoots FM
REFRESH-INTERVAL;VALUE=DURATION:PT1H
X-Robots-Tag:noindex
X-PUBLISHED-TTL:PT1H
BEGIN:VTIMEZONE
TZID:America/Chicago
BEGIN:DAYLIGHT
TZOFFSETFROM:-0600
TZOFFSETTO:-0500
TZNAME:CDT
DTSTART:20240310T080000
END:DAYLIGHT
BEGIN:STANDARD
TZOFFSETFROM:-0500
TZOFFSETTO:-0600
TZNAME:CST
DTSTART:20241103T070000
END:STANDARD
BEGIN:DAYLIGHT
TZOFFSETFROM:-0600
TZOFFSETTO:-0500
TZNAME:CDT
DTSTART:20250309T080000
END:DAYLIGHT
BEGIN:STANDARD
TZOFFSETFROM:-0500
TZOFFSETTO:-0600
TZNAME:CST
DTSTART:20251102T070000
END:STANDARD
BEGIN:DAYLIGHT
TZOFFSETFROM:-0600
TZOFFSETTO:-0500
TZNAME:CDT
DTSTART:20260308T080000
END:DAYLIGHT
BEGIN:STANDARD
TZOFFSETFROM:-0500
TZOFFSETTO:-0600
TZNAME:CST
DTSTART:20261101T070000
END:STANDARD
END:VTIMEZONE
BEGIN:VEVENT
DTSTART;TZID=America/Chicago:20250727T190000
DTEND;TZID=America/Chicago:20250727T190000
DTSTAMP:20260424T230232
CREATED:20250721T024813Z
LAST-MODIFIED:20250721T025110Z
UID:28061-1753642800-1753642800@www.therootsfm.org
SUMMARY:Anders Osborn @ Atomic
DESCRIPTION:Anders Osborne brings a powerful mix of blistering guitar work\, deeply emotional songwriting\, and gritty New Orleans soul to the stage. Blending blues\, rock\, folk\, and funk with raw vulnerability\, his music explores everything from personal transformation to American life with poetic force. Known for his electrifying live shows and heartfelt lyrics\, Osborne has become a staple of the New Orleans music scene and a favorite at festivals nationwide.\nDon’t miss his unforgettable set at Atomic Pavilion on July 27 at 7PM.
URL:https://www.therootsfm.org/event/anders-osborn-atomic/
LOCATION:Atomic\, 4140 Manchester Ave\, St. Louis\, MO\, 62110\, United States
END:VEVENT
END:VCALENDAR