BEGIN:VCALENDAR
VERSION:2.0
PRODID:-//TheRoots FM - ECPv6.15.20//NONSGML v1.0//EN
CALSCALE:GREGORIAN
METHOD:PUBLISH
X-ORIGINAL-URL:https://www.therootsfm.org
X-WR-CALDESC:Events for TheRoots FM
REFRESH-INTERVAL;VALUE=DURATION:PT1H
X-Robots-Tag:noindex
X-PUBLISHED-TTL:PT1H
BEGIN:VTIMEZONE
TZID:America/Chicago
BEGIN:DAYLIGHT
TZOFFSETFROM:-0600
TZOFFSETTO:-0500
TZNAME:CDT
DTSTART:20240310T080000
END:DAYLIGHT
BEGIN:STANDARD
TZOFFSETFROM:-0500
TZOFFSETTO:-0600
TZNAME:CST
DTSTART:20241103T070000
END:STANDARD
BEGIN:DAYLIGHT
TZOFFSETFROM:-0600
TZOFFSETTO:-0500
TZNAME:CDT
DTSTART:20250309T080000
END:DAYLIGHT
BEGIN:STANDARD
TZOFFSETFROM:-0500
TZOFFSETTO:-0600
TZNAME:CST
DTSTART:20251102T070000
END:STANDARD
BEGIN:DAYLIGHT
TZOFFSETFROM:-0600
TZOFFSETTO:-0500
TZNAME:CDT
DTSTART:20260308T080000
END:DAYLIGHT
BEGIN:STANDARD
TZOFFSETFROM:-0500
TZOFFSETTO:-0600
TZNAME:CST
DTSTART:20261101T070000
END:STANDARD
END:VTIMEZONE
BEGIN:VEVENT
DTSTART;TZID=America/Chicago:20250628T200000
DTEND;TZID=America/Chicago:20250628T230000
DTSTAMP:20260425T115243
CREATED:20250621T230741Z
LAST-MODIFIED:20250621T230759Z
UID:28012-1751140800-1751151600@www.therootsfm.org
SUMMARY:Jake's Leg Saturday\, June 28 @ Old Rock House  Doors @ 7PM  Show @ 8PM
DESCRIPTION:Deadheads in St. Louis know Jake’s Leg. The band has been providing music for the scene for 49 years\, playing thousands of shows to generations of like-minded fans who just want to keep on dancing. Maybe you’ve heard them in some dumpy little bar like the old Twenty North or at Busch Stadium: they’ve played’em all and continue to do so regularly. And the band keeps growing. \n\n10-year or longer stints with Jake’s Leg\, which is a remarkably\n\n\n\n\n \nIt’s not The Grateful Dead and it’s not supposed to be. While they draw mainly on the repertoire of America’s favorite psychedelic blues-rock jug band\, Jake’s Leg naturally bring their own sensibilities to each part. The introspective singer-songwriter\, the jazz stylings of an improvising soloist\, rock-solid dance grooves\, mind-bending jams: all are in play at their shows. The music can take you anywhere you want to go. And with their long-term unity and very capable musicianship\, Jake’s Leg makes it a great-sounding trip.
URL:https://www.therootsfm.org/event/jakes-leg-saturday-june-28-old-rock-house-doors-7pm-show-8pm/
LOCATION:The Old Rock House\, 1200 South 7th Street\, St. Louis\, MO\, 63104\, United States
END:VEVENT
END:VCALENDAR