BEGIN:VCALENDAR
VERSION:2.0
PRODID:-//TheRoots FM - ECPv6.15.20//NONSGML v1.0//EN
CALSCALE:GREGORIAN
METHOD:PUBLISH
X-WR-CALNAME:TheRoots FM
X-ORIGINAL-URL:https://www.therootsfm.org
X-WR-CALDESC:Events for TheRoots FM
REFRESH-INTERVAL;VALUE=DURATION:PT1H
X-Robots-Tag:noindex
X-PUBLISHED-TTL:PT1H
BEGIN:VTIMEZONE
TZID:America/Chicago
BEGIN:DAYLIGHT
TZOFFSETFROM:-0600
TZOFFSETTO:-0500
TZNAME:CDT
DTSTART:20240310T080000
END:DAYLIGHT
BEGIN:STANDARD
TZOFFSETFROM:-0500
TZOFFSETTO:-0600
TZNAME:CST
DTSTART:20241103T070000
END:STANDARD
BEGIN:DAYLIGHT
TZOFFSETFROM:-0600
TZOFFSETTO:-0500
TZNAME:CDT
DTSTART:20250309T080000
END:DAYLIGHT
BEGIN:STANDARD
TZOFFSETFROM:-0500
TZOFFSETTO:-0600
TZNAME:CST
DTSTART:20251102T070000
END:STANDARD
BEGIN:DAYLIGHT
TZOFFSETFROM:-0600
TZOFFSETTO:-0500
TZNAME:CDT
DTSTART:20260308T080000
END:DAYLIGHT
BEGIN:STANDARD
TZOFFSETFROM:-0500
TZOFFSETTO:-0600
TZNAME:CST
DTSTART:20261101T070000
END:STANDARD
END:VTIMEZONE
BEGIN:VEVENT
DTSTART;TZID=America/Chicago:20250627T190000
DTEND;TZID=America/Chicago:20250627T230000
DTSTAMP:20260425T103322
CREATED:20250622T210323Z
LAST-MODIFIED:20250622T210323Z
UID:28014-1751050800-1751065200@www.therootsfm.org
SUMMARY:EGGY Here & How Tour  Atomic Pavilion  Friday June 27th  Doors 7PM Show 8PM
DESCRIPTION:EGGY: \nEggy is redefining the modern jam band experience with a blend of exploratory improvisation\, rich songwriting\, and magnetic live energy.\nThe Connecticut-based quartet—Jake Brownstein (guitar/vocals)\, Dani Battat (keys/vocals)\, Mike Goodman (bass/vocals)\, and Alex Bailey (drums/vocals)— has built a reputation for crafting emotionally resonant songs and transforming every live set into an unpredictable adventure.\n\n2024 was a breakout year\, marked by the release of their sophomore album Waiting Game\, a refined studio showcase co-produced by White Denim’s James Petralli. The band took their new music on the road for their most extensive headline tour to date\, while also lighting up festival stages at Austin City Limits\, Electric Forest\, and Suwannee Hulaween. Now\, with the 2025 Here & How Tour underway and festival appearances at One Big Holiday\, Northlands\, and more\, Eggy’s ascent is undeniable. Their ability to weave seamless jams\,  Heartfelt lyrics and crowd-favorite covers have cemented them as one of the most exciting rising acts in the jam and rock scene.\n\nFrom intimate clubs to marquee festival stages\, Eggy continues to convert first-time listeners into lifelong fans. Catch them on tour and experience the magic firsthand.
URL:https://www.therootsfm.org/event/eggy-here-how-tour-atomic-pavilion-friday-june-27th-doors-7pm-show-8pm/
LOCATION:Atomic\, 4140 Manchester Ave\, St. Louis\, MO\, 62110\, United States
END:VEVENT
BEGIN:VEVENT
DTSTART;TZID=America/Chicago:20250627T200000
DTEND;TZID=America/Chicago:20250627T230000
DTSTAMP:20260425T103322
CREATED:20250621T225413Z
LAST-MODIFIED:20250621T225754Z
UID:28011-1751054400-1751065200@www.therootsfm.org
SUMMARY:Clusterpluck 15 Year Anniversary Friday\, June 27th  @ Old Rock House
DESCRIPTION:Americana’s wild child\, ClusterPluck\, mixes bluegrass\, folk\, rock\, and country into a hearty sonic stew. Throwing tradition aside\, they utilize electric guitar\, acoustic guitar\, acoustic bass\, dobro\, mandolin\, banjo\, and three-part vocal harmony. This three-piece band from Southern Illinois produces an up-beat\, grassy energy with a little country jam for listeners of all ages to enjoy.
URL:https://www.therootsfm.org/event/clusterpluck-15-year-anniversary-friday-june-27th-old-rock-house/
LOCATION:The Old Rock House\, 1200 South 7th Street\, St. Louis\, MO\, 63104\, United States
ORGANIZER;CN="Old Rock House":MAILTO:support.etix.com
END:VEVENT
END:VCALENDAR